BEGIN:VCALENDAR
VERSION:2.0
PRODID:-//Ballettschule Schoofs-Carell - ECPv5.11.0//NONSGML v1.0//EN
CALSCALE:GREGORIAN
METHOD:PUBLISH
X-WR-CALNAME:Ballettschule Schoofs-Carell
X-ORIGINAL-URL:https://ballettschule-schoofs-carell.de
X-WR-CALDESC:Veranstaltungen für Ballettschule Schoofs-Carell
BEGIN:VTIMEZONE
TZID:Europe/Berlin
BEGIN:DAYLIGHT
TZOFFSETFROM:+0100
TZOFFSETTO:+0200
TZNAME:CEST
DTSTART:20210328T010000
END:DAYLIGHT
BEGIN:STANDARD
TZOFFSETFROM:+0200
TZOFFSETTO:+0100
TZNAME:CET
DTSTART:20211031T010000
END:STANDARD
BEGIN:DAYLIGHT
TZOFFSETFROM:+0100
TZOFFSETTO:+0200
TZNAME:CEST
DTSTART:20220327T010000
END:DAYLIGHT
BEGIN:STANDARD
TZOFFSETFROM:+0200
TZOFFSETTO:+0100
TZNAME:CET
DTSTART:20221030T010000
END:STANDARD
END:VTIMEZONE
BEGIN:VEVENT
DTSTART;TZID=Europe/Berlin:20210817T190000
DTEND;TZID=Europe/Berlin:20210817T200000
DTSTAMP:20260424T131651
CREATED:20210208T214938Z
LAST-MODIFIED:20210726T085453Z
UID:8401-1629226800-1629230400@ballettschule-schoofs-carell.de
SUMMARY:Body Balance
DESCRIPTION:Body Balance ist das Yoga-\, Tai Chi- und Pilates-Workout\, mit dem Sie sich groß\, stark\, zentriert und ruhig fühlen. Ihre ganz persönliche Auszeit\, in der Sie Stress und die Anstrengungen des Alltags hinter sich lassen können.\nEin 60-minütiges musikalisches Gruppenfitnesstraining zur Verbesserung des körperlichen und geistigen Wohlbefindens. \nWas erziehlen Sie durch Body Balance? \n– Verbesserung der Beweglichkeit\n– Verbesserung der Herz-Kreislauf-Funktionen\n– Stressabbau\n– Anhaltendes Gefühl von Wohlbefinden und Ruhe\n– Zentrierung und Bewusstseinserweiterung durch kontrolliertes Atmen \n 
URL:https://ballettschule-schoofs-carell.de/event/body-balance-onlinekurs-2-2021-09-09-2021-08-17/
LOCATION:In der Ballettschule\, Sallingerstr.13-15\, Donauwörth\, Bayern\, 86609\, Deutschland
ATTACH;FMTTYPE=image/jpeg:https://ballettschule-schoofs-carell.de/wp-content/uploads/2021/02/BodyBalance3.jpg
ORGANIZER;CN="Alexander%20Schoofs-Carell":MAILTO:info@ballettschule-schoofs-carell.de
END:VEVENT
BEGIN:VEVENT
DTSTART;TZID=Europe/Berlin:20210823T080000
DTEND;TZID=Europe/Berlin:20210913T170000
DTSTAMP:20260424T131651
CREATED:20210728T002015Z
LAST-MODIFIED:20210728T002235Z
UID:10123-1629705600-1631552400@ballettschule-schoofs-carell.de
SUMMARY:Sommerferien
DESCRIPTION:
URL:https://ballettschule-schoofs-carell.de/event/sommerferien-2/
LOCATION:In der Ballettschule\, Sallingerstr.13-15\, Donauwörth\, Bayern\, 86609\, Deutschland
END:VEVENT
BEGIN:VEVENT
DTSTART;TZID=Europe/Berlin:20210910T163000
DTEND;TZID=Europe/Berlin:20210910T180000
DTSTAMP:20260424T131651
CREATED:20210528T001431Z
LAST-MODIFIED:20230505T093736Z
UID:6757-1631291400-1631296800@ballettschule-schoofs-carell.de
SUMMARY:Ballett und Spitzentanz für Jugendliche und Erwachsene (Fortgeschritten II)
DESCRIPTION:In diesem Kurs wird ein klassisches Ballettraining mit Spitzentanz unterrichtet. Die Variationen werden anspruchsvoller und es wird an der im Ballett typischen Schwerelosigkeit gearbeitet.  
URL:https://ballettschule-schoofs-carell.de/event/ballett-und-spitzentanz-fuer-jugendliche-und-erwachsene-fortgeschrittene-2021-09-10/
LOCATION:In der Ballettschule\, Sallingerstr.13-15\, Donauwörth\, Bayern\, 86609\, Deutschland
ATTACH;FMTTYPE=image/jpeg:https://ballettschule-schoofs-carell.de/wp-content/uploads/2021/02/woman-5909024_1920.jpg
ORGANIZER;CN="Alexander%20Schoofs-Carell":MAILTO:info@ballettschule-schoofs-carell.de
END:VEVENT
BEGIN:VEVENT
DTSTART;TZID=Europe/Berlin:20211108T160000
DTEND;TZID=Europe/Berlin:20211108T170000
DTSTAMP:20260424T131651
CREATED:20210727T211552Z
LAST-MODIFIED:20220523T082119Z
UID:9492-1636387200-1636390800@ballettschule-schoofs-carell.de
SUMMARY:Kinderballett I
DESCRIPTION:Kinderballett I  (ab 6 Jahren mit Vorkenntnissen) \nIn diesen Kursen werden die Kenntnisse vertieft und erste Ballettschritte erarbeitet. \nDie gesamte Körpermuskelatur wird gestärkt und Musikalität gefördert. \n 
URL:https://ballettschule-schoofs-carell.de/event/kinderballett-i-2021-09-20/2021-11-08/
LOCATION:In der Ballettschule\, Sallingerstr.13-15\, Donauwörth\, Bayern\, 86609\, Deutschland
ATTACH;FMTTYPE=image/jpeg:https://ballettschule-schoofs-carell.de/wp-content/uploads/2021/02/ballet-3362678_1920.jpg
ORGANIZER;CN="Alexander%20Schoofs-Carell":MAILTO:info@ballettschule-schoofs-carell.de
END:VEVENT
BEGIN:VEVENT
DTSTART;TZID=Europe/Berlin:20211112T150000
DTEND;TZID=Europe/Berlin:20211112T160000
DTSTAMP:20260424T131651
CREATED:20210527T224903Z
LAST-MODIFIED:20230505T094640Z
UID:4721-1636729200-1636732800@ballettschule-schoofs-carell.de
SUMMARY:Kinderballett II
DESCRIPTION:In diesem Kurs werden die Kenntnisse vertieft und die ersten Ballettkombinationen erarbeitet. \nDie gesamte Körpermuskelatur wird gestärkt und die Musikalität wird gefördert.
URL:https://ballettschule-schoofs-carell.de/event/kinderballett-ii-2/2021-11-12/
LOCATION:In der Ballettschule\, Sallingerstr.13-15\, Donauwörth\, Bayern\, 86609\, Deutschland
ATTACH;FMTTYPE=image/jpeg:https://ballettschule-schoofs-carell.de/wp-content/uploads/2021/02/ballet-3301195_1920.jpg
ORGANIZER;CN="Alexander%20Schoofs-Carell":MAILTO:info@ballettschule-schoofs-carell.de
END:VEVENT
BEGIN:VEVENT
DTSTART;TZID=Europe/Berlin:20220207T163000
DTEND;TZID=Europe/Berlin:20220207T173000
DTSTAMP:20260424T131651
CREATED:20210727T211552Z
LAST-MODIFIED:20230505T092209Z
UID:12710-1644251400-1644255000@ballettschule-schoofs-carell.de
SUMMARY:Kinderballett I
DESCRIPTION:Kinderballett I  (ab 6 Jahren mit Vorkenntnissen) \nIn diesen Kursen werden die Kenntnisse vertieft und erste Ballettschritte erarbeitet. \nDie gesamte Körpermuskelatur wird gestärkt und Musikalität gefördert. \n 
URL:https://ballettschule-schoofs-carell.de/event/kinderballett-i-2021-09-20-2021-09-16-2024-01-29/2022-02-07/
LOCATION:In der Ballettschule\, Sallingerstr.13-15\, Donauwörth\, Bayern\, 86609\, Deutschland
ATTACH;FMTTYPE=image/jpeg:https://ballettschule-schoofs-carell.de/wp-content/uploads/2021/02/ballet-3362678_1920.jpg
ORGANIZER;CN="Alexander%20Schoofs-Carell":MAILTO:info@ballettschule-schoofs-carell.de
END:VEVENT
BEGIN:VEVENT
DTSTART;TZID=Europe/Berlin:20220425T163000
DTEND;TZID=Europe/Berlin:20220425T173000
DTSTAMP:20260424T131651
CREATED:20210727T211552Z
LAST-MODIFIED:20240117T221706Z
UID:14007-1650904200-1650907800@ballettschule-schoofs-carell.de
SUMMARY:Kinderballett I
DESCRIPTION:Kinderballett I  (ab 6 Jahren mit Vorkenntnissen) \nIn diesen Kursen werden die Kenntnisse vertieft und erste Ballettschritte erarbeitet. \nDie gesamte Körpermuskelatur wird gestärkt und Musikalität gefördert. \n 
URL:https://ballettschule-schoofs-carell.de/event/kinderballett-i-2021-09-20-2021-09-16-2024-01-29/2022-04-25/
LOCATION:In der Ballettschule\, Sallingerstr.13-15\, Donauwörth\, Bayern\, 86609\, Deutschland
ATTACH;FMTTYPE=image/jpeg:https://ballettschule-schoofs-carell.de/wp-content/uploads/2021/02/ballet-3362678_1920.jpg
ORGANIZER;CN="Alexander%20Schoofs-Carell":MAILTO:info@ballettschule-schoofs-carell.de
END:VEVENT
BEGIN:VEVENT
DTSTART;TZID=Europe/Berlin:20220429T150000
DTEND;TZID=Europe/Berlin:20220429T160000
DTSTAMP:20260424T131651
CREATED:20210527T224903Z
LAST-MODIFIED:20220601T192712Z
UID:12384-1651244400-1651248000@ballettschule-schoofs-carell.de
SUMMARY:Kinderballett II
DESCRIPTION:In diesem Kurs werden die Kenntnisse vertieft und die ersten Ballettkombinationen erarbeitet. \nDie gesamte Körpermuskelatur wird gestärkt und die Musikalität wird gefördert.
URL:https://ballettschule-schoofs-carell.de/event/kinderballett-ii-2/2022-04-29/
LOCATION:In der Ballettschule\, Sallingerstr.13-15\, Donauwörth\, Bayern\, 86609\, Deutschland
ATTACH;FMTTYPE=image/jpeg:https://ballettschule-schoofs-carell.de/wp-content/uploads/2021/02/ballet-3301195_1920.jpg
ORGANIZER;CN="Alexander%20Schoofs-Carell":MAILTO:info@ballettschule-schoofs-carell.de
END:VEVENT
BEGIN:VEVENT
DTSTART;TZID=Europe/Berlin:20220502T163000
DTEND;TZID=Europe/Berlin:20220502T173000
DTSTAMP:20260424T131651
CREATED:20210727T211552Z
LAST-MODIFIED:20240117T221706Z
UID:14008-1651509000-1651512600@ballettschule-schoofs-carell.de
SUMMARY:Kinderballett I
DESCRIPTION:Kinderballett I  (ab 6 Jahren mit Vorkenntnissen) \nIn diesen Kursen werden die Kenntnisse vertieft und erste Ballettschritte erarbeitet. \nDie gesamte Körpermuskelatur wird gestärkt und Musikalität gefördert. \n 
URL:https://ballettschule-schoofs-carell.de/event/kinderballett-i-2021-09-20-2021-09-16-2024-01-29/2022-05-02/
LOCATION:In der Ballettschule\, Sallingerstr.13-15\, Donauwörth\, Bayern\, 86609\, Deutschland
ATTACH;FMTTYPE=image/jpeg:https://ballettschule-schoofs-carell.de/wp-content/uploads/2021/02/ballet-3362678_1920.jpg
ORGANIZER;CN="Alexander%20Schoofs-Carell":MAILTO:info@ballettschule-schoofs-carell.de
END:VEVENT
BEGIN:VEVENT
DTSTART;TZID=Europe/Berlin:20220506T150000
DTEND;TZID=Europe/Berlin:20220506T160000
DTSTAMP:20260424T131651
CREATED:20210527T224903Z
LAST-MODIFIED:20220601T192712Z
UID:12385-1651849200-1651852800@ballettschule-schoofs-carell.de
SUMMARY:Kinderballett II
DESCRIPTION:In diesem Kurs werden die Kenntnisse vertieft und die ersten Ballettkombinationen erarbeitet. \nDie gesamte Körpermuskelatur wird gestärkt und die Musikalität wird gefördert.
URL:https://ballettschule-schoofs-carell.de/event/kinderballett-ii-2/2022-05-06/
LOCATION:In der Ballettschule\, Sallingerstr.13-15\, Donauwörth\, Bayern\, 86609\, Deutschland
ATTACH;FMTTYPE=image/jpeg:https://ballettschule-schoofs-carell.de/wp-content/uploads/2021/02/ballet-3301195_1920.jpg
ORGANIZER;CN="Alexander%20Schoofs-Carell":MAILTO:info@ballettschule-schoofs-carell.de
END:VEVENT
BEGIN:VEVENT
DTSTART;TZID=Europe/Berlin:20220509T163000
DTEND;TZID=Europe/Berlin:20220509T173000
DTSTAMP:20260424T131651
CREATED:20210727T211552Z
LAST-MODIFIED:20240117T221707Z
UID:14009-1652113800-1652117400@ballettschule-schoofs-carell.de
SUMMARY:Kinderballett I
DESCRIPTION:Kinderballett I  (ab 6 Jahren mit Vorkenntnissen) \nIn diesen Kursen werden die Kenntnisse vertieft und erste Ballettschritte erarbeitet. \nDie gesamte Körpermuskelatur wird gestärkt und Musikalität gefördert. \n 
URL:https://ballettschule-schoofs-carell.de/event/kinderballett-i-2021-09-20-2021-09-16-2024-01-29/2022-05-09/
LOCATION:In der Ballettschule\, Sallingerstr.13-15\, Donauwörth\, Bayern\, 86609\, Deutschland
ATTACH;FMTTYPE=image/jpeg:https://ballettschule-schoofs-carell.de/wp-content/uploads/2021/02/ballet-3362678_1920.jpg
ORGANIZER;CN="Alexander%20Schoofs-Carell":MAILTO:info@ballettschule-schoofs-carell.de
END:VEVENT
BEGIN:VEVENT
DTSTART;TZID=Europe/Berlin:20220513T150000
DTEND;TZID=Europe/Berlin:20220513T160000
DTSTAMP:20260424T131651
CREATED:20210527T224903Z
LAST-MODIFIED:20220601T192712Z
UID:12386-1652454000-1652457600@ballettschule-schoofs-carell.de
SUMMARY:Kinderballett II
DESCRIPTION:In diesem Kurs werden die Kenntnisse vertieft und die ersten Ballettkombinationen erarbeitet. \nDie gesamte Körpermuskelatur wird gestärkt und die Musikalität wird gefördert.
URL:https://ballettschule-schoofs-carell.de/event/kinderballett-ii-2/2022-05-13/
LOCATION:In der Ballettschule\, Sallingerstr.13-15\, Donauwörth\, Bayern\, 86609\, Deutschland
ATTACH;FMTTYPE=image/jpeg:https://ballettschule-schoofs-carell.de/wp-content/uploads/2021/02/ballet-3301195_1920.jpg
ORGANIZER;CN="Alexander%20Schoofs-Carell":MAILTO:info@ballettschule-schoofs-carell.de
END:VEVENT
BEGIN:VEVENT
DTSTART;TZID=Europe/Berlin:20220516T163000
DTEND;TZID=Europe/Berlin:20220516T173000
DTSTAMP:20260424T131651
CREATED:20210727T211552Z
LAST-MODIFIED:20240117T221707Z
UID:14010-1652718600-1652722200@ballettschule-schoofs-carell.de
SUMMARY:Kinderballett I
DESCRIPTION:Kinderballett I  (ab 6 Jahren mit Vorkenntnissen) \nIn diesen Kursen werden die Kenntnisse vertieft und erste Ballettschritte erarbeitet. \nDie gesamte Körpermuskelatur wird gestärkt und Musikalität gefördert. \n 
URL:https://ballettschule-schoofs-carell.de/event/kinderballett-i-2021-09-20-2021-09-16-2024-01-29/2022-05-16/
LOCATION:In der Ballettschule\, Sallingerstr.13-15\, Donauwörth\, Bayern\, 86609\, Deutschland
ATTACH;FMTTYPE=image/jpeg:https://ballettschule-schoofs-carell.de/wp-content/uploads/2021/02/ballet-3362678_1920.jpg
ORGANIZER;CN="Alexander%20Schoofs-Carell":MAILTO:info@ballettschule-schoofs-carell.de
END:VEVENT
BEGIN:VEVENT
DTSTART;TZID=Europe/Berlin:20220520T150000
DTEND;TZID=Europe/Berlin:20220520T160000
DTSTAMP:20260424T131651
CREATED:20210527T224903Z
LAST-MODIFIED:20220601T192712Z
UID:12387-1653058800-1653062400@ballettschule-schoofs-carell.de
SUMMARY:Kinderballett II
DESCRIPTION:In diesem Kurs werden die Kenntnisse vertieft und die ersten Ballettkombinationen erarbeitet. \nDie gesamte Körpermuskelatur wird gestärkt und die Musikalität wird gefördert.
URL:https://ballettschule-schoofs-carell.de/event/kinderballett-ii-2/2022-05-20/
LOCATION:In der Ballettschule\, Sallingerstr.13-15\, Donauwörth\, Bayern\, 86609\, Deutschland
ATTACH;FMTTYPE=image/jpeg:https://ballettschule-schoofs-carell.de/wp-content/uploads/2021/02/ballet-3301195_1920.jpg
ORGANIZER;CN="Alexander%20Schoofs-Carell":MAILTO:info@ballettschule-schoofs-carell.de
END:VEVENT
BEGIN:VEVENT
DTSTART;TZID=Europe/Berlin:20220523T163000
DTEND;TZID=Europe/Berlin:20220523T173000
DTSTAMP:20260424T131651
CREATED:20210727T211552Z
LAST-MODIFIED:20240117T221707Z
UID:14011-1653323400-1653327000@ballettschule-schoofs-carell.de
SUMMARY:Kinderballett I
DESCRIPTION:Kinderballett I  (ab 6 Jahren mit Vorkenntnissen) \nIn diesen Kursen werden die Kenntnisse vertieft und erste Ballettschritte erarbeitet. \nDie gesamte Körpermuskelatur wird gestärkt und Musikalität gefördert. \n 
URL:https://ballettschule-schoofs-carell.de/event/kinderballett-i-2021-09-20-2021-09-16-2024-01-29/2022-05-23/
LOCATION:In der Ballettschule\, Sallingerstr.13-15\, Donauwörth\, Bayern\, 86609\, Deutschland
ATTACH;FMTTYPE=image/jpeg:https://ballettschule-schoofs-carell.de/wp-content/uploads/2021/02/ballet-3362678_1920.jpg
ORGANIZER;CN="Alexander%20Schoofs-Carell":MAILTO:info@ballettschule-schoofs-carell.de
END:VEVENT
BEGIN:VEVENT
DTSTART;TZID=Europe/Berlin:20220527T150000
DTEND;TZID=Europe/Berlin:20220527T160000
DTSTAMP:20260424T131651
CREATED:20210527T224903Z
LAST-MODIFIED:20220601T192712Z
UID:12388-1653663600-1653667200@ballettschule-schoofs-carell.de
SUMMARY:Kinderballett II
DESCRIPTION:In diesem Kurs werden die Kenntnisse vertieft und die ersten Ballettkombinationen erarbeitet. \nDie gesamte Körpermuskelatur wird gestärkt und die Musikalität wird gefördert.
URL:https://ballettschule-schoofs-carell.de/event/kinderballett-ii-2/2022-05-27/
LOCATION:In der Ballettschule\, Sallingerstr.13-15\, Donauwörth\, Bayern\, 86609\, Deutschland
ATTACH;FMTTYPE=image/jpeg:https://ballettschule-schoofs-carell.de/wp-content/uploads/2021/02/ballet-3301195_1920.jpg
ORGANIZER;CN="Alexander%20Schoofs-Carell":MAILTO:info@ballettschule-schoofs-carell.de
END:VEVENT
BEGIN:VEVENT
DTSTART;TZID=Europe/Berlin:20220530T163000
DTEND;TZID=Europe/Berlin:20220530T173000
DTSTAMP:20260424T131651
CREATED:20210727T211552Z
LAST-MODIFIED:20240117T221707Z
UID:14012-1653928200-1653931800@ballettschule-schoofs-carell.de
SUMMARY:Kinderballett I
DESCRIPTION:Kinderballett I  (ab 6 Jahren mit Vorkenntnissen) \nIn diesen Kursen werden die Kenntnisse vertieft und erste Ballettschritte erarbeitet. \nDie gesamte Körpermuskelatur wird gestärkt und Musikalität gefördert. \n 
URL:https://ballettschule-schoofs-carell.de/event/kinderballett-i-2021-09-20-2021-09-16-2024-01-29/2022-05-30/
LOCATION:In der Ballettschule\, Sallingerstr.13-15\, Donauwörth\, Bayern\, 86609\, Deutschland
ATTACH;FMTTYPE=image/jpeg:https://ballettschule-schoofs-carell.de/wp-content/uploads/2021/02/ballet-3362678_1920.jpg
ORGANIZER;CN="Alexander%20Schoofs-Carell":MAILTO:info@ballettschule-schoofs-carell.de
END:VEVENT
BEGIN:VEVENT
DTSTART;TZID=Europe/Berlin:20220603T150000
DTEND;TZID=Europe/Berlin:20220603T160000
DTSTAMP:20260424T131651
CREATED:20210527T224903Z
LAST-MODIFIED:20220601T192713Z
UID:12389-1654268400-1654272000@ballettschule-schoofs-carell.de
SUMMARY:Kinderballett II
DESCRIPTION:In diesem Kurs werden die Kenntnisse vertieft und die ersten Ballettkombinationen erarbeitet. \nDie gesamte Körpermuskelatur wird gestärkt und die Musikalität wird gefördert.
URL:https://ballettschule-schoofs-carell.de/event/kinderballett-ii-2/2022-06-03/
LOCATION:In der Ballettschule\, Sallingerstr.13-15\, Donauwörth\, Bayern\, 86609\, Deutschland
ATTACH;FMTTYPE=image/jpeg:https://ballettschule-schoofs-carell.de/wp-content/uploads/2021/02/ballet-3301195_1920.jpg
ORGANIZER;CN="Alexander%20Schoofs-Carell":MAILTO:info@ballettschule-schoofs-carell.de
END:VEVENT
BEGIN:VEVENT
DTSTART;TZID=Europe/Berlin:20220620T163000
DTEND;TZID=Europe/Berlin:20220620T173000
DTSTAMP:20260424T131651
CREATED:20210727T211552Z
LAST-MODIFIED:20240117T221707Z
UID:14013-1655742600-1655746200@ballettschule-schoofs-carell.de
SUMMARY:Kinderballett I
DESCRIPTION:Kinderballett I  (ab 6 Jahren mit Vorkenntnissen) \nIn diesen Kursen werden die Kenntnisse vertieft und erste Ballettschritte erarbeitet. \nDie gesamte Körpermuskelatur wird gestärkt und Musikalität gefördert. \n 
URL:https://ballettschule-schoofs-carell.de/event/kinderballett-i-2021-09-20-2021-09-16-2024-01-29/2022-06-20/
LOCATION:In der Ballettschule\, Sallingerstr.13-15\, Donauwörth\, Bayern\, 86609\, Deutschland
ATTACH;FMTTYPE=image/jpeg:https://ballettschule-schoofs-carell.de/wp-content/uploads/2021/02/ballet-3362678_1920.jpg
ORGANIZER;CN="Alexander%20Schoofs-Carell":MAILTO:info@ballettschule-schoofs-carell.de
END:VEVENT
BEGIN:VEVENT
DTSTART;TZID=Europe/Berlin:20220701T150000
DTEND;TZID=Europe/Berlin:20220701T160000
DTSTAMP:20260424T131651
CREATED:20210527T224903Z
LAST-MODIFIED:20220601T192715Z
UID:12393-1656687600-1656691200@ballettschule-schoofs-carell.de
SUMMARY:Kinderballett II
DESCRIPTION:In diesem Kurs werden die Kenntnisse vertieft und die ersten Ballettkombinationen erarbeitet. \nDie gesamte Körpermuskelatur wird gestärkt und die Musikalität wird gefördert.
URL:https://ballettschule-schoofs-carell.de/event/kinderballett-ii-2/2022-07-01/
LOCATION:In der Ballettschule\, Sallingerstr.13-15\, Donauwörth\, Bayern\, 86609\, Deutschland
ATTACH;FMTTYPE=image/jpeg:https://ballettschule-schoofs-carell.de/wp-content/uploads/2021/02/ballet-3301195_1920.jpg
ORGANIZER;CN="Alexander%20Schoofs-Carell":MAILTO:info@ballettschule-schoofs-carell.de
END:VEVENT
BEGIN:VEVENT
DTSTART;TZID=Europe/Berlin:20220704T163000
DTEND;TZID=Europe/Berlin:20220704T173000
DTSTAMP:20260424T131651
CREATED:20210727T211552Z
LAST-MODIFIED:20240117T221707Z
UID:14014-1656952200-1656955800@ballettschule-schoofs-carell.de
SUMMARY:Kinderballett I
DESCRIPTION:Kinderballett I  (ab 6 Jahren mit Vorkenntnissen) \nIn diesen Kursen werden die Kenntnisse vertieft und erste Ballettschritte erarbeitet. \nDie gesamte Körpermuskelatur wird gestärkt und Musikalität gefördert. \n 
URL:https://ballettschule-schoofs-carell.de/event/kinderballett-i-2021-09-20-2021-09-16-2024-01-29/2022-07-04/
LOCATION:In der Ballettschule\, Sallingerstr.13-15\, Donauwörth\, Bayern\, 86609\, Deutschland
ATTACH;FMTTYPE=image/jpeg:https://ballettschule-schoofs-carell.de/wp-content/uploads/2021/02/ballet-3362678_1920.jpg
ORGANIZER;CN="Alexander%20Schoofs-Carell":MAILTO:info@ballettschule-schoofs-carell.de
END:VEVENT
BEGIN:VEVENT
DTSTART;TZID=Europe/Berlin:20220708T150000
DTEND;TZID=Europe/Berlin:20220708T160000
DTSTAMP:20260424T131651
CREATED:20210527T224903Z
LAST-MODIFIED:20220601T192715Z
UID:12394-1657292400-1657296000@ballettschule-schoofs-carell.de
SUMMARY:Kinderballett II
DESCRIPTION:In diesem Kurs werden die Kenntnisse vertieft und die ersten Ballettkombinationen erarbeitet. \nDie gesamte Körpermuskelatur wird gestärkt und die Musikalität wird gefördert.
URL:https://ballettschule-schoofs-carell.de/event/kinderballett-ii-2/2022-07-08/
LOCATION:In der Ballettschule\, Sallingerstr.13-15\, Donauwörth\, Bayern\, 86609\, Deutschland
ATTACH;FMTTYPE=image/jpeg:https://ballettschule-schoofs-carell.de/wp-content/uploads/2021/02/ballet-3301195_1920.jpg
ORGANIZER;CN="Alexander%20Schoofs-Carell":MAILTO:info@ballettschule-schoofs-carell.de
END:VEVENT
BEGIN:VEVENT
DTSTART;TZID=Europe/Berlin:20220711T163000
DTEND;TZID=Europe/Berlin:20220711T173000
DTSTAMP:20260424T131651
CREATED:20210727T211552Z
LAST-MODIFIED:20240117T221707Z
UID:14015-1657557000-1657560600@ballettschule-schoofs-carell.de
SUMMARY:Kinderballett I
DESCRIPTION:Kinderballett I  (ab 6 Jahren mit Vorkenntnissen) \nIn diesen Kursen werden die Kenntnisse vertieft und erste Ballettschritte erarbeitet. \nDie gesamte Körpermuskelatur wird gestärkt und Musikalität gefördert. \n 
URL:https://ballettschule-schoofs-carell.de/event/kinderballett-i-2021-09-20-2021-09-16-2024-01-29/2022-07-11/
LOCATION:In der Ballettschule\, Sallingerstr.13-15\, Donauwörth\, Bayern\, 86609\, Deutschland
ATTACH;FMTTYPE=image/jpeg:https://ballettschule-schoofs-carell.de/wp-content/uploads/2021/02/ballet-3362678_1920.jpg
ORGANIZER;CN="Alexander%20Schoofs-Carell":MAILTO:info@ballettschule-schoofs-carell.de
END:VEVENT
BEGIN:VEVENT
DTSTART;TZID=Europe/Berlin:20220715T150000
DTEND;TZID=Europe/Berlin:20220715T160000
DTSTAMP:20260424T131651
CREATED:20210527T224903Z
LAST-MODIFIED:20220601T192715Z
UID:12395-1657897200-1657900800@ballettschule-schoofs-carell.de
SUMMARY:Kinderballett II
DESCRIPTION:In diesem Kurs werden die Kenntnisse vertieft und die ersten Ballettkombinationen erarbeitet. \nDie gesamte Körpermuskelatur wird gestärkt und die Musikalität wird gefördert.
URL:https://ballettschule-schoofs-carell.de/event/kinderballett-ii-2/2022-07-15/
LOCATION:In der Ballettschule\, Sallingerstr.13-15\, Donauwörth\, Bayern\, 86609\, Deutschland
ATTACH;FMTTYPE=image/jpeg:https://ballettschule-schoofs-carell.de/wp-content/uploads/2021/02/ballet-3301195_1920.jpg
ORGANIZER;CN="Alexander%20Schoofs-Carell":MAILTO:info@ballettschule-schoofs-carell.de
END:VEVENT
BEGIN:VEVENT
DTSTART;TZID=Europe/Berlin:20220718T163000
DTEND;TZID=Europe/Berlin:20220718T173000
DTSTAMP:20260424T131651
CREATED:20210727T211552Z
LAST-MODIFIED:20240117T221709Z
UID:14016-1658161800-1658165400@ballettschule-schoofs-carell.de
SUMMARY:Kinderballett I
DESCRIPTION:Kinderballett I  (ab 6 Jahren mit Vorkenntnissen) \nIn diesen Kursen werden die Kenntnisse vertieft und erste Ballettschritte erarbeitet. \nDie gesamte Körpermuskelatur wird gestärkt und Musikalität gefördert. \n 
URL:https://ballettschule-schoofs-carell.de/event/kinderballett-i-2021-09-20-2021-09-16-2024-01-29/2022-07-18/
LOCATION:In der Ballettschule\, Sallingerstr.13-15\, Donauwörth\, Bayern\, 86609\, Deutschland
ATTACH;FMTTYPE=image/jpeg:https://ballettschule-schoofs-carell.de/wp-content/uploads/2021/02/ballet-3362678_1920.jpg
ORGANIZER;CN="Alexander%20Schoofs-Carell":MAILTO:info@ballettschule-schoofs-carell.de
END:VEVENT
BEGIN:VEVENT
DTSTART;TZID=Europe/Berlin:20220722T150000
DTEND;TZID=Europe/Berlin:20220722T160000
DTSTAMP:20260424T131651
CREATED:20210527T224903Z
LAST-MODIFIED:20220601T192715Z
UID:12396-1658502000-1658505600@ballettschule-schoofs-carell.de
SUMMARY:Kinderballett II
DESCRIPTION:In diesem Kurs werden die Kenntnisse vertieft und die ersten Ballettkombinationen erarbeitet. \nDie gesamte Körpermuskelatur wird gestärkt und die Musikalität wird gefördert.
URL:https://ballettschule-schoofs-carell.de/event/kinderballett-ii-2/2022-07-22/
LOCATION:In der Ballettschule\, Sallingerstr.13-15\, Donauwörth\, Bayern\, 86609\, Deutschland
ATTACH;FMTTYPE=image/jpeg:https://ballettschule-schoofs-carell.de/wp-content/uploads/2021/02/ballet-3301195_1920.jpg
ORGANIZER;CN="Alexander%20Schoofs-Carell":MAILTO:info@ballettschule-schoofs-carell.de
END:VEVENT
BEGIN:VEVENT
DTSTART;TZID=Europe/Berlin:20220725T163000
DTEND;TZID=Europe/Berlin:20220725T173000
DTSTAMP:20260424T131651
CREATED:20210727T211552Z
LAST-MODIFIED:20240117T221709Z
UID:14017-1658766600-1658770200@ballettschule-schoofs-carell.de
SUMMARY:Kinderballett I
DESCRIPTION:Kinderballett I  (ab 6 Jahren mit Vorkenntnissen) \nIn diesen Kursen werden die Kenntnisse vertieft und erste Ballettschritte erarbeitet. \nDie gesamte Körpermuskelatur wird gestärkt und Musikalität gefördert. \n 
URL:https://ballettschule-schoofs-carell.de/event/kinderballett-i-2021-09-20-2021-09-16-2024-01-29/2022-07-25/
LOCATION:In der Ballettschule\, Sallingerstr.13-15\, Donauwörth\, Bayern\, 86609\, Deutschland
ATTACH;FMTTYPE=image/jpeg:https://ballettschule-schoofs-carell.de/wp-content/uploads/2021/02/ballet-3362678_1920.jpg
ORGANIZER;CN="Alexander%20Schoofs-Carell":MAILTO:info@ballettschule-schoofs-carell.de
END:VEVENT
BEGIN:VEVENT
DTSTART;TZID=Europe/Berlin:20220729T150000
DTEND;TZID=Europe/Berlin:20220729T160000
DTSTAMP:20260424T131651
CREATED:20210527T224903Z
LAST-MODIFIED:20220601T192715Z
UID:12397-1659106800-1659110400@ballettschule-schoofs-carell.de
SUMMARY:Kinderballett II
DESCRIPTION:In diesem Kurs werden die Kenntnisse vertieft und die ersten Ballettkombinationen erarbeitet. \nDie gesamte Körpermuskelatur wird gestärkt und die Musikalität wird gefördert.
URL:https://ballettschule-schoofs-carell.de/event/kinderballett-ii-2/2022-07-29/
LOCATION:In der Ballettschule\, Sallingerstr.13-15\, Donauwörth\, Bayern\, 86609\, Deutschland
ATTACH;FMTTYPE=image/jpeg:https://ballettschule-schoofs-carell.de/wp-content/uploads/2021/02/ballet-3301195_1920.jpg
ORGANIZER;CN="Alexander%20Schoofs-Carell":MAILTO:info@ballettschule-schoofs-carell.de
END:VEVENT
BEGIN:VEVENT
DTSTART;TZID=Europe/Berlin:20220801T163000
DTEND;TZID=Europe/Berlin:20220801T173000
DTSTAMP:20260424T131651
CREATED:20210727T211552Z
LAST-MODIFIED:20240117T221709Z
UID:14018-1659371400-1659375000@ballettschule-schoofs-carell.de
SUMMARY:Kinderballett I
DESCRIPTION:Kinderballett I  (ab 6 Jahren mit Vorkenntnissen) \nIn diesen Kursen werden die Kenntnisse vertieft und erste Ballettschritte erarbeitet. \nDie gesamte Körpermuskelatur wird gestärkt und Musikalität gefördert. \n 
URL:https://ballettschule-schoofs-carell.de/event/kinderballett-i-2021-09-20-2021-09-16-2024-01-29/2022-08-01/
LOCATION:In der Ballettschule\, Sallingerstr.13-15\, Donauwörth\, Bayern\, 86609\, Deutschland
ATTACH;FMTTYPE=image/jpeg:https://ballettschule-schoofs-carell.de/wp-content/uploads/2021/02/ballet-3362678_1920.jpg
ORGANIZER;CN="Alexander%20Schoofs-Carell":MAILTO:info@ballettschule-schoofs-carell.de
END:VEVENT
BEGIN:VEVENT
DTSTART;TZID=Europe/Berlin:20220805T150000
DTEND;TZID=Europe/Berlin:20220805T160000
DTSTAMP:20260424T131651
CREATED:20210527T224903Z
LAST-MODIFIED:20220601T192715Z
UID:12398-1659711600-1659715200@ballettschule-schoofs-carell.de
SUMMARY:Kinderballett II
DESCRIPTION:In diesem Kurs werden die Kenntnisse vertieft und die ersten Ballettkombinationen erarbeitet. \nDie gesamte Körpermuskelatur wird gestärkt und die Musikalität wird gefördert.
URL:https://ballettschule-schoofs-carell.de/event/kinderballett-ii-2/2022-08-05/
LOCATION:In der Ballettschule\, Sallingerstr.13-15\, Donauwörth\, Bayern\, 86609\, Deutschland
ATTACH;FMTTYPE=image/jpeg:https://ballettschule-schoofs-carell.de/wp-content/uploads/2021/02/ballet-3301195_1920.jpg
ORGANIZER;CN="Alexander%20Schoofs-Carell":MAILTO:info@ballettschule-schoofs-carell.de
END:VEVENT
END:VCALENDAR