BEGIN:VCALENDAR
VERSION:2.0
PRODID:-//Ballettschule Schoofs-Carell - ECPv5.11.0//NONSGML v1.0//EN
CALSCALE:GREGORIAN
METHOD:PUBLISH
X-WR-CALNAME:Ballettschule Schoofs-Carell
X-ORIGINAL-URL:https://ballettschule-schoofs-carell.de
X-WR-CALDESC:Veranstaltungen für Ballettschule Schoofs-Carell
BEGIN:VTIMEZONE
TZID:Europe/Berlin
BEGIN:DAYLIGHT
TZOFFSETFROM:+0100
TZOFFSETTO:+0200
TZNAME:CEST
DTSTART:20240331T010000
END:DAYLIGHT
BEGIN:STANDARD
TZOFFSETFROM:+0200
TZOFFSETTO:+0100
TZNAME:CET
DTSTART:20241027T010000
END:STANDARD
END:VTIMEZONE
BEGIN:VEVENT
DTSTART;TZID=Europe/Berlin:20240122T163000
DTEND;TZID=Europe/Berlin:20240122T173000
DTSTAMP:20260425T231142
CREATED:20210728T064308Z
LAST-MODIFIED:20240521T202746Z
UID:18284-1705941000-1705944600@ballettschule-schoofs-carell.de
SUMMARY:Kinderballett I
DESCRIPTION:
URL:https://ballettschule-schoofs-carell.de/event/kinderballett-i-2/2024-01-22/
ATTACH;FMTTYPE=image/jpeg:https://ballettschule-schoofs-carell.de/wp-content/uploads/2021/02/ballet-3362678_1920.jpg
END:VEVENT
BEGIN:VEVENT
DTSTART;TZID=Europe/Berlin:20240122T173000
DTEND;TZID=Europe/Berlin:20240122T184500
DTSTAMP:20260425T231142
CREATED:20210527T225803Z
LAST-MODIFIED:20250201T131010Z
UID:15315-1705944600-1705949100@ballettschule-schoofs-carell.de
SUMMARY:Kinderballett IV
DESCRIPTION:Kinderballett IV (ab 10 Jahren mit Vorkenntnissen) \nIn diesem Kurs werden die Kenntnisse vertieft und die Ballettkobinationen schneller und Komplizierter. \nDie gesamte Körpermuskelatur wird gestärkt und die Musikalität wird gefördert.
URL:https://ballettschule-schoofs-carell.de/event/kinderballett-iii/2024-01-22/
LOCATION:In der Ballettschule\, Sallingerstr.13-15\, Donauwörth\, Bayern\, 86609\, Deutschland
ATTACH;FMTTYPE=image/jpeg:https://ballettschule-schoofs-carell.de/wp-content/uploads/2021/02/ballet-5352231_1920.jpg
ORGANIZER;CN="Alexander%20Schoofs-Carell":MAILTO:info@ballettschule-schoofs-carell.de
END:VEVENT
BEGIN:VEVENT
DTSTART;TZID=Europe/Berlin:20240122T190000
DTEND;TZID=Europe/Berlin:20240122T203000
DTSTAMP:20260425T231142
CREATED:20210527T230748Z
LAST-MODIFIED:20240521T200505Z
UID:12705-1705950000-1705955400@ballettschule-schoofs-carell.de
SUMMARY: Ballett für Jugendliche und Erwachsene Einsteiger
DESCRIPTION:Ballett für Erwachsene (Einsteiger) \nHier wird eine klassische Ballettstunde vorbereitet. \nErlerntes wird in leichte Kombinationen umgesetzt. \n 
URL:https://ballettschule-schoofs-carell.de/event/ballett-fuer-jugendliche-und-erwachsene-einsteiger/2024-01-22/
LOCATION:In der Ballettschule\, Sallingerstr.13-15\, Donauwörth\, Bayern\, 86609\, Deutschland
ATTACH;FMTTYPE=image/jpeg:https://ballettschule-schoofs-carell.de/wp-content/uploads/2021/02/Design-ohne-Titel-2.jpg
ORGANIZER;CN="Alexander%20Schoofs-Carell":MAILTO:info@ballettschule-schoofs-carell.de
END:VEVENT
BEGIN:VEVENT
DTSTART;TZID=Europe/Berlin:20240123T163000
DTEND;TZID=Europe/Berlin:20240123T172000
DTSTAMP:20260425T231142
CREATED:20210527T220915Z
LAST-MODIFIED:20240521T200736Z
UID:4194-1706027400-1706030400@ballettschule-schoofs-carell.de
SUMMARY:Ballett-Früherziehung
DESCRIPTION:Ballett-Früherziehung (ab 4\,5 Jahren). \nHier wird auf die Tänzerische-Früherziehung aufgebaut. \n Die ersten Grundkenntnisse des klassischen Balletts werden vermittelt. 
URL:https://ballettschule-schoofs-carell.de/event/ballett-frueherziehung/2024-01-23/
LOCATION:In der Ballettschule\, Sallingerstr.13-15\, Donauwörth\, Bayern\, 86609\, Deutschland
ORGANIZER;CN="Alexander%20Schoofs-Carell":MAILTO:info@ballettschule-schoofs-carell.de
END:VEVENT
BEGIN:VEVENT
DTSTART;TZID=Europe/Berlin:20240123T174500
DTEND;TZID=Europe/Berlin:20240123T190000
DTSTAMP:20260425T231142
CREATED:20210527T225803Z
LAST-MODIFIED:20240521T201057Z
UID:8002-1706031900-1706036400@ballettschule-schoofs-carell.de
SUMMARY:Kinderballett III
DESCRIPTION:Kinderballett III (ab 10 Jahren mit Vorkenntnissen) \nIn diesem Kurs werden die Kenntnisse vertieft und die Ballettkobinationen schneller und Komplizierter. \nDie gesamte Körpermuskelatur wird gestärkt und die Musikalität wird gefördert.
URL:https://ballettschule-schoofs-carell.de/event/kinderballett-iii-2021-11-01/2024-01-23/
LOCATION:In der Ballettschule\, Sallingerstr.13-15\, Donauwörth\, Bayern\, 86609\, Deutschland
ATTACH;FMTTYPE=image/jpeg:https://ballettschule-schoofs-carell.de/wp-content/uploads/2021/02/ballet-3362687_1920.jpg
ORGANIZER;CN="Alexander%20Schoofs-Carell":MAILTO:info@ballettschule-schoofs-carell.de
END:VEVENT
BEGIN:VEVENT
DTSTART;TZID=Europe/Berlin:20240124T153000
DTEND;TZID=Europe/Berlin:20240124T161500
DTSTAMP:20260425T231142
CREATED:20210527T213620Z
LAST-MODIFIED:20240521T202632Z
UID:3954-1706110200-1706112900@ballettschule-schoofs-carell.de
SUMMARY:Tänzerische-Früherziehung
DESCRIPTION:Ballett-Früherziehung (ab 3 Jahren). \nEs wird Freude an der Bewegung gefördert und das Interesse für Musik\, Tanz und Ballett geweckt. \nNebenbei werden spielerisch einige Grundkenntnisse des klassischen Balletts vermittelt. \n 
URL:https://ballettschule-schoofs-carell.de/event/taenzerische-frueherziehung/2024-01-24/
LOCATION:In der Ballettschule\, Sallingerstr.13-15\, Donauwörth\, Bayern\, 86609\, Deutschland
ORGANIZER;CN="Alexander%20Schoofs-Carell":MAILTO:info@ballettschule-schoofs-carell.de
END:VEVENT
BEGIN:VEVENT
DTSTART;TZID=Europe/Berlin:20240124T163000
DTEND;TZID=Europe/Berlin:20240124T172000
DTSTAMP:20260425T231142
CREATED:20210527T220915Z
LAST-MODIFIED:20240521T200737Z
UID:17321-1706113800-1706116800@ballettschule-schoofs-carell.de
SUMMARY:Ballett-Früherziehung
DESCRIPTION:Ballett-Früherziehung (ab 4\,5 Jahren). \nHier wird auf die Tänzerische-Früherziehung aufgebaut. \n Die ersten Grundkenntnisse des klassischen Balletts werden vermittelt. 
URL:https://ballettschule-schoofs-carell.de/event/ballett-frueherziehung/2024-01-24/
LOCATION:In der Ballettschule\, Sallingerstr.13-15\, Donauwörth\, Bayern\, 86609\, Deutschland
ORGANIZER;CN="Alexander%20Schoofs-Carell":MAILTO:info@ballettschule-schoofs-carell.de
END:VEVENT
BEGIN:VEVENT
DTSTART;TZID=Europe/Berlin:20240125T163000
DTEND;TZID=Europe/Berlin:20240125T173000
DTSTAMP:20260425T231142
CREATED:20210728T064308Z
LAST-MODIFIED:20240521T202747Z
UID:18285-1706200200-1706203800@ballettschule-schoofs-carell.de
SUMMARY:Kinderballett I
DESCRIPTION:
URL:https://ballettschule-schoofs-carell.de/event/kinderballett-i-2/2024-01-25/
ATTACH;FMTTYPE=image/jpeg:https://ballettschule-schoofs-carell.de/wp-content/uploads/2021/02/ballet-3362678_1920.jpg
END:VEVENT
BEGIN:VEVENT
DTSTART;TZID=Europe/Berlin:20240125T174500
DTEND;TZID=Europe/Berlin:20240125T191500
DTSTAMP:20260425T231142
CREATED:20210528T000446Z
LAST-MODIFIED:20240521T195256Z
UID:16647-1706204700-1706210100@ballettschule-schoofs-carell.de
SUMMARY:Klassisches Ballett mit Spitzentanz für Jugendliche
DESCRIPTION:Klassisches Ballett für mit Spitzentanz (ab 14 Jahren mit Vorkenntnissen) \nIn diesem Kurs wird ein klassisches Ballettraining mit Spitzentanz unterrichtet. Die Variationen werden anspruchsvoller und es wird an der im Ballett typischen Schwerelosigkeit gearbeitet. \n 
URL:https://ballettschule-schoofs-carell.de/event/klassisches-ballett-fuer-fortgeschritten-mit-spitzentanz-2021-06-10-2021-09-16/2024-01-25/
LOCATION:In der Ballettschule\, Sallingerstr.13-15\, Donauwörth\, Bayern\, 86609\, Deutschland
ATTACH;FMTTYPE=image/jpeg:https://ballettschule-schoofs-carell.de/wp-content/uploads/2021/02/ballet-335493_1920.jpg
ORGANIZER;CN="Alexander%20Schoofs-Carell":MAILTO:info@ballettschule-schoofs-carell.de
END:VEVENT
BEGIN:VEVENT
DTSTART;TZID=Europe/Berlin:20240125T194000
DTEND;TZID=Europe/Berlin:20240125T204000
DTSTAMP:20260425T231142
CREATED:20210208T214938Z
LAST-MODIFIED:20240521T195650Z
UID:15593-1706211600-1706215200@ballettschule-schoofs-carell.de
SUMMARY:Body-Balance
DESCRIPTION:Body-Balance ist das Yoga-\, Tai Chi- und Pilates-Workout\, mit dem Sie sich groß\, stark\, zentriert und ruhig fühlen. Ihre ganz persönliche Auszeit\, in der Sie Stress und die Anstrengungen des Alltags hinter sich lassen können.\nEin 60-minütiges musikalisches Gruppenfitnesstraining zur Verbesserung des körperlichen und geistigen Wohlbefindens. \nWas erziehlen Sie durch Body-Balance? \n– Verbesserung der Beweglichkeit\n– Verbesserung der Herz-Kreislauf-Funktionen\n– Stressabbau\n– Anhaltendes Gefühl von Wohlbefinden und Ruhe\n– Zentrierung und Bewusstseinserweiterung durch kontrolliertes Atmen \n 
URL:https://ballettschule-schoofs-carell.de/event/body-balance-onlinekurs-2/2024-01-25/
LOCATION:In der Ballettschule\, Sallingerstr.13-15\, Donauwörth\, Bayern\, 86609\, Deutschland
ATTACH;FMTTYPE=image/jpeg:https://ballettschule-schoofs-carell.de/wp-content/uploads/2021/02/BodyBalance3.jpg
ORGANIZER;CN="Alexander%20Schoofs-Carell":MAILTO:info@ballettschule-schoofs-carell.de
END:VEVENT
BEGIN:VEVENT
DTSTART;TZID=Europe/Berlin:20240126T150000
DTEND;TZID=Europe/Berlin:20240126T160000
DTSTAMP:20260425T231142
CREATED:20210527T224207Z
LAST-MODIFIED:20240521T201627Z
UID:15955-1706281200-1706284800@ballettschule-schoofs-carell.de
SUMMARY:Kinderballett II
DESCRIPTION:Kinderballett II (ab 8 Jahren mit Vorkenntnissen) \nIn diesem Kurs werden die Kenntnisse vertieft und die ersten Ballettkombinationen erarbeitet. \nDie gesamte Körpermuskelatur wird gestärkt und die Musikalität wird gefördert.
URL:https://ballettschule-schoofs-carell.de/event/kinderballett-ii-2021-07-06/2024-01-26/
LOCATION:In der Ballettschule\, Sallingerstr.13-15\, Donauwörth\, Bayern\, 86609\, Deutschland
ATTACH;FMTTYPE=image/jpeg:https://ballettschule-schoofs-carell.de/wp-content/uploads/2021/02/ballet-3301195_1920.jpg
ORGANIZER;CN="Alexander%20Schoofs-Carell":MAILTO:info@ballettschule-schoofs-carell.de
END:VEVENT
BEGIN:VEVENT
DTSTART;TZID=Europe/Berlin:20240126T163000
DTEND;TZID=Europe/Berlin:20240126T180000
DTSTAMP:20260425T231142
CREATED:20210528T001431Z
LAST-MODIFIED:20240521T201831Z
UID:12709-1706286600-1706292000@ballettschule-schoofs-carell.de
SUMMARY:Ballett und Spitzentanz für Jugendliche und Erwachsene (Fortgeschritten II)
DESCRIPTION:In diesem Kurs wird ein klassisches Ballettraining mit Spitzentanz unterrichtet. Die Variationen werden anspruchsvoller und es wird an der im Ballett typischen Schwerelosigkeit gearbeitet.  
URL:https://ballettschule-schoofs-carell.de/event/ballett-und-spitzentanz-fuer-jugendliche-und-erwachsene-fortgeschrittene/2024-01-26/
LOCATION:In der Ballettschule\, Sallingerstr.13-15\, Donauwörth\, Bayern\, 86609\, Deutschland
ATTACH;FMTTYPE=image/jpeg:https://ballettschule-schoofs-carell.de/wp-content/uploads/2021/02/woman-5909024_1920.jpg
ORGANIZER;CN="Alexander%20Schoofs-Carell":MAILTO:info@ballettschule-schoofs-carell.de
END:VEVENT
BEGIN:VEVENT
DTSTART;TZID=Europe/Berlin:20240126T183000
DTEND;TZID=Europe/Berlin:20240126T200000
DTSTAMP:20260425T231142
CREATED:20210528T002351Z
LAST-MODIFIED:20240521T202024Z
UID:16995-1706293800-1706299200@ballettschule-schoofs-carell.de
SUMMARY:Ballett für Erwachsene (Fortgeschritten I )
DESCRIPTION:Hier wird eine klassische Ballettstunde vorbereitet. \nErlerntes wird in fortgeschrittene Kombinationen umgesetzt. \n 
URL:https://ballettschule-schoofs-carell.de/event/ballett-fuer-erwachsene-fortgeschritten-i-2021-09-10/2024-01-26/
LOCATION:In der Ballettschule\, Sallingerstr.13-15\, Donauwörth\, Bayern\, 86609\, Deutschland
ATTACH;FMTTYPE=image/jpeg:https://ballettschule-schoofs-carell.de/wp-content/uploads/2021/02/Design-ohne-Titel-2.jpg
ORGANIZER;CN="Alexander%20Schoofs-Carell":MAILTO:info@ballettschule-schoofs-carell.de
END:VEVENT
END:VCALENDAR