BEGIN:VCALENDAR
VERSION:2.0
PRODID:-//Ballettschule Schoofs-Carell - ECPv5.11.0//NONSGML v1.0//EN
CALSCALE:GREGORIAN
METHOD:PUBLISH
X-WR-CALNAME:Ballettschule Schoofs-Carell
X-ORIGINAL-URL:https://ballettschule-schoofs-carell.de
X-WR-CALDESC:Veranstaltungen für Ballettschule Schoofs-Carell
BEGIN:VTIMEZONE
TZID:Europe/Berlin
BEGIN:DAYLIGHT
TZOFFSETFROM:+0100
TZOFFSETTO:+0200
TZNAME:CEST
DTSTART:20280326T010000
END:DAYLIGHT
BEGIN:STANDARD
TZOFFSETFROM:+0200
TZOFFSETTO:+0100
TZNAME:CET
DTSTART:20281029T010000
END:STANDARD
END:VTIMEZONE
BEGIN:VEVENT
DTSTART;TZID=Europe/Berlin:20280103T163000
DTEND;TZID=Europe/Berlin:20280103T173000
DTSTAMP:20260425T044035
CREATED:20210728T064308Z
LAST-MODIFIED:20210728T064308Z
UID:20700-1830529800-1830533400@ballettschule-schoofs-carell.de
SUMMARY:Kinderballett I
DESCRIPTION:
URL:https://ballettschule-schoofs-carell.de/event/kinderballett-i-2/2028-01-03/
ATTACH;FMTTYPE=image/jpeg:https://ballettschule-schoofs-carell.de/wp-content/uploads/2021/02/ballet-3362678_1920.jpg
END:VEVENT
BEGIN:VEVENT
DTSTART;TZID=Europe/Berlin:20280103T190000
DTEND;TZID=Europe/Berlin:20280103T203000
DTSTAMP:20260425T044035
CREATED:20210527T230748Z
LAST-MODIFIED:20210527T230748Z
UID:20699-1830538800-1830544200@ballettschule-schoofs-carell.de
SUMMARY: Ballett für Jugendliche und Erwachsene Einsteiger
DESCRIPTION:Ballett für Erwachsene (Einsteiger) \nHier wird eine klassische Ballettstunde vorbereitet. \nErlerntes wird in leichte Kombinationen umgesetzt. \n 
URL:https://ballettschule-schoofs-carell.de/event/ballett-fuer-jugendliche-und-erwachsene-einsteiger/2028-01-03/
LOCATION:In der Ballettschule\, Sallingerstr.13-15\, Donauwörth\, Bayern\, 86609\, Deutschland
ATTACH;FMTTYPE=image/jpeg:https://ballettschule-schoofs-carell.de/wp-content/uploads/2021/02/Design-ohne-Titel-2.jpg
ORGANIZER;CN="Alexander%20Schoofs-Carell":MAILTO:info@ballettschule-schoofs-carell.de
END:VEVENT
BEGIN:VEVENT
DTSTART;TZID=Europe/Berlin:20280104T163000
DTEND;TZID=Europe/Berlin:20280104T172000
DTSTAMP:20260425T044035
CREATED:20210527T220915Z
LAST-MODIFIED:20210527T220915Z
UID:20703-1830616200-1830619200@ballettschule-schoofs-carell.de
SUMMARY:Ballett-Früherziehung
DESCRIPTION:Ballett-Früherziehung (ab 4\,5 Jahren). \nHier wird auf die Tänzerische-Früherziehung aufgebaut. \n Die ersten Grundkenntnisse des klassischen Balletts werden vermittelt. 
URL:https://ballettschule-schoofs-carell.de/event/ballett-frueherziehung/2028-01-04/
LOCATION:In der Ballettschule\, Sallingerstr.13-15\, Donauwörth\, Bayern\, 86609\, Deutschland
ORGANIZER;CN="Alexander%20Schoofs-Carell":MAILTO:info@ballettschule-schoofs-carell.de
END:VEVENT
BEGIN:VEVENT
DTSTART;TZID=Europe/Berlin:20280104T174500
DTEND;TZID=Europe/Berlin:20280104T190000
DTSTAMP:20260425T044035
CREATED:20210527T225803Z
LAST-MODIFIED:20210527T225803Z
UID:20704-1830620700-1830625200@ballettschule-schoofs-carell.de
SUMMARY:Kinderballett III
DESCRIPTION:Kinderballett III (ab 10 Jahren mit Vorkenntnissen) \nIn diesem Kurs werden die Kenntnisse vertieft und die Ballettkobinationen schneller und Komplizierter. \nDie gesamte Körpermuskelatur wird gestärkt und die Musikalität wird gefördert.
URL:https://ballettschule-schoofs-carell.de/event/kinderballett-iii-2021-11-01/2028-01-04/
LOCATION:In der Ballettschule\, Sallingerstr.13-15\, Donauwörth\, Bayern\, 86609\, Deutschland
ATTACH;FMTTYPE=image/jpeg:https://ballettschule-schoofs-carell.de/wp-content/uploads/2021/02/ballet-3362687_1920.jpg
ORGANIZER;CN="Alexander%20Schoofs-Carell":MAILTO:info@ballettschule-schoofs-carell.de
END:VEVENT
BEGIN:VEVENT
DTSTART;TZID=Europe/Berlin:20280104T191500
DTEND;TZID=Europe/Berlin:20280104T201500
DTSTAMP:20260425T044035
CREATED:20250201T131408Z
LAST-MODIFIED:20250201T131408Z
UID:20701-1830626100-1830629700@ballettschule-schoofs-carell.de
SUMMARY:Ballett für Erwachsene Einsteiger (ohne Vorkenntnisse)
DESCRIPTION:
URL:https://ballettschule-schoofs-carell.de/event/ballett-fuer-erwachsene-anfaenger/2028-01-04/
END:VEVENT
BEGIN:VEVENT
DTSTART;TZID=Europe/Berlin:20280105T153000
DTEND;TZID=Europe/Berlin:20280105T161500
DTSTAMP:20260425T044035
CREATED:20210527T213620Z
LAST-MODIFIED:20210527T213620Z
UID:20706-1830699000-1830701700@ballettschule-schoofs-carell.de
SUMMARY:Tänzerische-Früherziehung
DESCRIPTION:Ballett-Früherziehung (ab 3 Jahren). \nEs wird Freude an der Bewegung gefördert und das Interesse für Musik\, Tanz und Ballett geweckt. \nNebenbei werden spielerisch einige Grundkenntnisse des klassischen Balletts vermittelt. \n 
URL:https://ballettschule-schoofs-carell.de/event/taenzerische-frueherziehung/2028-01-05/
LOCATION:In der Ballettschule\, Sallingerstr.13-15\, Donauwörth\, Bayern\, 86609\, Deutschland
ORGANIZER;CN="Alexander%20Schoofs-Carell":MAILTO:info@ballettschule-schoofs-carell.de
END:VEVENT
BEGIN:VEVENT
DTSTART;TZID=Europe/Berlin:20280105T163000
DTEND;TZID=Europe/Berlin:20280105T172000
DTSTAMP:20260425T044035
CREATED:20210527T220915Z
LAST-MODIFIED:20210527T220915Z
UID:20707-1830702600-1830705600@ballettschule-schoofs-carell.de
SUMMARY:Ballett-Früherziehung
DESCRIPTION:Ballett-Früherziehung (ab 4\,5 Jahren). \nHier wird auf die Tänzerische-Früherziehung aufgebaut. \n Die ersten Grundkenntnisse des klassischen Balletts werden vermittelt. 
URL:https://ballettschule-schoofs-carell.de/event/ballett-frueherziehung/2028-01-05/
LOCATION:In der Ballettschule\, Sallingerstr.13-15\, Donauwörth\, Bayern\, 86609\, Deutschland
ORGANIZER;CN="Alexander%20Schoofs-Carell":MAILTO:info@ballettschule-schoofs-carell.de
END:VEVENT
BEGIN:VEVENT
DTSTART;TZID=Europe/Berlin:20280106T163000
DTEND;TZID=Europe/Berlin:20280106T173000
DTSTAMP:20260425T044035
CREATED:20210728T064308Z
LAST-MODIFIED:20210728T064308Z
UID:20709-1830789000-1830792600@ballettschule-schoofs-carell.de
SUMMARY:Kinderballett I
DESCRIPTION:
URL:https://ballettschule-schoofs-carell.de/event/kinderballett-i-2/2028-01-06/
ATTACH;FMTTYPE=image/jpeg:https://ballettschule-schoofs-carell.de/wp-content/uploads/2021/02/ballet-3362678_1920.jpg
END:VEVENT
BEGIN:VEVENT
DTSTART;TZID=Europe/Berlin:20280106T174500
DTEND;TZID=Europe/Berlin:20280106T191500
DTSTAMP:20260425T044035
CREATED:20210528T000446Z
LAST-MODIFIED:20210528T000446Z
UID:20710-1830793500-1830798900@ballettschule-schoofs-carell.de
SUMMARY:Klassisches Ballett mit Spitzentanz für Jugendliche
DESCRIPTION:Klassisches Ballett für mit Spitzentanz (ab 14 Jahren mit Vorkenntnissen) \nIn diesem Kurs wird ein klassisches Ballettraining mit Spitzentanz unterrichtet. Die Variationen werden anspruchsvoller und es wird an der im Ballett typischen Schwerelosigkeit gearbeitet. \n 
URL:https://ballettschule-schoofs-carell.de/event/klassisches-ballett-fuer-fortgeschritten-mit-spitzentanz-2021-06-10-2021-09-16/2028-01-06/
LOCATION:In der Ballettschule\, Sallingerstr.13-15\, Donauwörth\, Bayern\, 86609\, Deutschland
ATTACH;FMTTYPE=image/jpeg:https://ballettschule-schoofs-carell.de/wp-content/uploads/2021/02/ballet-335493_1920.jpg
ORGANIZER;CN="Alexander%20Schoofs-Carell":MAILTO:info@ballettschule-schoofs-carell.de
END:VEVENT
BEGIN:VEVENT
DTSTART;TZID=Europe/Berlin:20280106T194000
DTEND;TZID=Europe/Berlin:20280106T204000
DTSTAMP:20260425T044035
CREATED:20210208T214938Z
LAST-MODIFIED:20210208T214938Z
UID:20708-1830800400-1830804000@ballettschule-schoofs-carell.de
SUMMARY:Body-Balance
DESCRIPTION:Body-Balance ist das Yoga-\, Tai Chi- und Pilates-Workout\, mit dem Sie sich groß\, stark\, zentriert und ruhig fühlen. Ihre ganz persönliche Auszeit\, in der Sie Stress und die Anstrengungen des Alltags hinter sich lassen können.\nEin 60-minütiges musikalisches Gruppenfitnesstraining zur Verbesserung des körperlichen und geistigen Wohlbefindens. \nWas erziehlen Sie durch Body-Balance? \n– Verbesserung der Beweglichkeit\n– Verbesserung der Herz-Kreislauf-Funktionen\n– Stressabbau\n– Anhaltendes Gefühl von Wohlbefinden und Ruhe\n– Zentrierung und Bewusstseinserweiterung durch kontrolliertes Atmen \n 
URL:https://ballettschule-schoofs-carell.de/event/body-balance-onlinekurs-2/2028-01-06/
LOCATION:In der Ballettschule\, Sallingerstr.13-15\, Donauwörth\, Bayern\, 86609\, Deutschland
ATTACH;FMTTYPE=image/jpeg:https://ballettschule-schoofs-carell.de/wp-content/uploads/2021/02/BodyBalance3.jpg
ORGANIZER;CN="Alexander%20Schoofs-Carell":MAILTO:info@ballettschule-schoofs-carell.de
END:VEVENT
BEGIN:VEVENT
DTSTART;TZID=Europe/Berlin:20280107T150000
DTEND;TZID=Europe/Berlin:20280107T160000
DTSTAMP:20260425T044035
CREATED:20210527T224207Z
LAST-MODIFIED:20210527T224207Z
UID:20711-1830870000-1830873600@ballettschule-schoofs-carell.de
SUMMARY:Kinderballett II
DESCRIPTION:Kinderballett II (ab 8 Jahren mit Vorkenntnissen) \nIn diesem Kurs werden die Kenntnisse vertieft und die ersten Ballettkombinationen erarbeitet. \nDie gesamte Körpermuskelatur wird gestärkt und die Musikalität wird gefördert.
URL:https://ballettschule-schoofs-carell.de/event/kinderballett-ii-2021-07-06/2028-01-07/
LOCATION:In der Ballettschule\, Sallingerstr.13-15\, Donauwörth\, Bayern\, 86609\, Deutschland
ATTACH;FMTTYPE=image/jpeg:https://ballettschule-schoofs-carell.de/wp-content/uploads/2021/02/ballet-3301195_1920.jpg
ORGANIZER;CN="Alexander%20Schoofs-Carell":MAILTO:info@ballettschule-schoofs-carell.de
END:VEVENT
BEGIN:VEVENT
DTSTART;TZID=Europe/Berlin:20280107T163000
DTEND;TZID=Europe/Berlin:20280107T180000
DTSTAMP:20260425T044035
CREATED:20210528T001431Z
LAST-MODIFIED:20210528T001431Z
UID:20712-1830875400-1830880800@ballettschule-schoofs-carell.de
SUMMARY:Ballett und Spitzentanz für Jugendliche und Erwachsene (Fortgeschritten II)
DESCRIPTION:In diesem Kurs wird ein klassisches Ballettraining mit Spitzentanz unterrichtet. Die Variationen werden anspruchsvoller und es wird an der im Ballett typischen Schwerelosigkeit gearbeitet.  
URL:https://ballettschule-schoofs-carell.de/event/ballett-und-spitzentanz-fuer-jugendliche-und-erwachsene-fortgeschrittene/2028-01-07/
LOCATION:In der Ballettschule\, Sallingerstr.13-15\, Donauwörth\, Bayern\, 86609\, Deutschland
ATTACH;FMTTYPE=image/jpeg:https://ballettschule-schoofs-carell.de/wp-content/uploads/2021/02/woman-5909024_1920.jpg
ORGANIZER;CN="Alexander%20Schoofs-Carell":MAILTO:info@ballettschule-schoofs-carell.de
END:VEVENT
BEGIN:VEVENT
DTSTART;TZID=Europe/Berlin:20280107T183000
DTEND;TZID=Europe/Berlin:20280107T200000
DTSTAMP:20260425T044035
CREATED:20210528T002351Z
LAST-MODIFIED:20210528T002351Z
UID:20713-1830882600-1830888000@ballettschule-schoofs-carell.de
SUMMARY:Ballett für Erwachsene (Fortgeschritten I )
DESCRIPTION:Hier wird eine klassische Ballettstunde vorbereitet. \nErlerntes wird in fortgeschrittene Kombinationen umgesetzt. \n 
URL:https://ballettschule-schoofs-carell.de/event/ballett-fuer-erwachsene-fortgeschritten-i-2021-09-10/2028-01-07/
LOCATION:In der Ballettschule\, Sallingerstr.13-15\, Donauwörth\, Bayern\, 86609\, Deutschland
ATTACH;FMTTYPE=image/jpeg:https://ballettschule-schoofs-carell.de/wp-content/uploads/2021/02/Design-ohne-Titel-2.jpg
ORGANIZER;CN="Alexander%20Schoofs-Carell":MAILTO:info@ballettschule-schoofs-carell.de
END:VEVENT
BEGIN:VEVENT
DTSTART;TZID=Europe/Berlin:20280110T163000
DTEND;TZID=Europe/Berlin:20280110T173000
DTSTAMP:20260425T044035
CREATED:20210728T064308Z
LAST-MODIFIED:20210728T064308Z
UID:20716-1831134600-1831138200@ballettschule-schoofs-carell.de
SUMMARY:Kinderballett I
DESCRIPTION:
URL:https://ballettschule-schoofs-carell.de/event/kinderballett-i-2/2028-01-10/
ATTACH;FMTTYPE=image/jpeg:https://ballettschule-schoofs-carell.de/wp-content/uploads/2021/02/ballet-3362678_1920.jpg
END:VEVENT
BEGIN:VEVENT
DTSTART;TZID=Europe/Berlin:20280110T190000
DTEND;TZID=Europe/Berlin:20280110T203000
DTSTAMP:20260425T044035
CREATED:20210527T230748Z
LAST-MODIFIED:20210527T230748Z
UID:20715-1831143600-1831149000@ballettschule-schoofs-carell.de
SUMMARY: Ballett für Jugendliche und Erwachsene Einsteiger
DESCRIPTION:Ballett für Erwachsene (Einsteiger) \nHier wird eine klassische Ballettstunde vorbereitet. \nErlerntes wird in leichte Kombinationen umgesetzt. \n 
URL:https://ballettschule-schoofs-carell.de/event/ballett-fuer-jugendliche-und-erwachsene-einsteiger/2028-01-10/
LOCATION:In der Ballettschule\, Sallingerstr.13-15\, Donauwörth\, Bayern\, 86609\, Deutschland
ATTACH;FMTTYPE=image/jpeg:https://ballettschule-schoofs-carell.de/wp-content/uploads/2021/02/Design-ohne-Titel-2.jpg
ORGANIZER;CN="Alexander%20Schoofs-Carell":MAILTO:info@ballettschule-schoofs-carell.de
END:VEVENT
BEGIN:VEVENT
DTSTART;TZID=Europe/Berlin:20280111T163000
DTEND;TZID=Europe/Berlin:20280111T172000
DTSTAMP:20260425T044035
CREATED:20210527T220915Z
LAST-MODIFIED:20210527T220915Z
UID:20719-1831221000-1831224000@ballettschule-schoofs-carell.de
SUMMARY:Ballett-Früherziehung
DESCRIPTION:Ballett-Früherziehung (ab 4\,5 Jahren). \nHier wird auf die Tänzerische-Früherziehung aufgebaut. \n Die ersten Grundkenntnisse des klassischen Balletts werden vermittelt. 
URL:https://ballettschule-schoofs-carell.de/event/ballett-frueherziehung/2028-01-11/
LOCATION:In der Ballettschule\, Sallingerstr.13-15\, Donauwörth\, Bayern\, 86609\, Deutschland
ORGANIZER;CN="Alexander%20Schoofs-Carell":MAILTO:info@ballettschule-schoofs-carell.de
END:VEVENT
BEGIN:VEVENT
DTSTART;TZID=Europe/Berlin:20280111T174500
DTEND;TZID=Europe/Berlin:20280111T190000
DTSTAMP:20260425T044035
CREATED:20210527T225803Z
LAST-MODIFIED:20210527T225803Z
UID:20720-1831225500-1831230000@ballettschule-schoofs-carell.de
SUMMARY:Kinderballett III
DESCRIPTION:Kinderballett III (ab 10 Jahren mit Vorkenntnissen) \nIn diesem Kurs werden die Kenntnisse vertieft und die Ballettkobinationen schneller und Komplizierter. \nDie gesamte Körpermuskelatur wird gestärkt und die Musikalität wird gefördert.
URL:https://ballettschule-schoofs-carell.de/event/kinderballett-iii-2021-11-01/2028-01-11/
LOCATION:In der Ballettschule\, Sallingerstr.13-15\, Donauwörth\, Bayern\, 86609\, Deutschland
ATTACH;FMTTYPE=image/jpeg:https://ballettschule-schoofs-carell.de/wp-content/uploads/2021/02/ballet-3362687_1920.jpg
ORGANIZER;CN="Alexander%20Schoofs-Carell":MAILTO:info@ballettschule-schoofs-carell.de
END:VEVENT
BEGIN:VEVENT
DTSTART;TZID=Europe/Berlin:20280111T191500
DTEND;TZID=Europe/Berlin:20280111T201500
DTSTAMP:20260425T044035
CREATED:20250201T131408Z
LAST-MODIFIED:20250201T131408Z
UID:20717-1831230900-1831234500@ballettschule-schoofs-carell.de
SUMMARY:Ballett für Erwachsene Einsteiger (ohne Vorkenntnisse)
DESCRIPTION:
URL:https://ballettschule-schoofs-carell.de/event/ballett-fuer-erwachsene-anfaenger/2028-01-11/
END:VEVENT
BEGIN:VEVENT
DTSTART;TZID=Europe/Berlin:20280112T153000
DTEND;TZID=Europe/Berlin:20280112T161500
DTSTAMP:20260425T044035
CREATED:20210527T213620Z
LAST-MODIFIED:20210527T213620Z
UID:20722-1831303800-1831306500@ballettschule-schoofs-carell.de
SUMMARY:Tänzerische-Früherziehung
DESCRIPTION:Ballett-Früherziehung (ab 3 Jahren). \nEs wird Freude an der Bewegung gefördert und das Interesse für Musik\, Tanz und Ballett geweckt. \nNebenbei werden spielerisch einige Grundkenntnisse des klassischen Balletts vermittelt. \n 
URL:https://ballettschule-schoofs-carell.de/event/taenzerische-frueherziehung/2028-01-12/
LOCATION:In der Ballettschule\, Sallingerstr.13-15\, Donauwörth\, Bayern\, 86609\, Deutschland
ORGANIZER;CN="Alexander%20Schoofs-Carell":MAILTO:info@ballettschule-schoofs-carell.de
END:VEVENT
BEGIN:VEVENT
DTSTART;TZID=Europe/Berlin:20280112T163000
DTEND;TZID=Europe/Berlin:20280112T172000
DTSTAMP:20260425T044035
CREATED:20210527T220915Z
LAST-MODIFIED:20210527T220915Z
UID:20723-1831307400-1831310400@ballettschule-schoofs-carell.de
SUMMARY:Ballett-Früherziehung
DESCRIPTION:Ballett-Früherziehung (ab 4\,5 Jahren). \nHier wird auf die Tänzerische-Früherziehung aufgebaut. \n Die ersten Grundkenntnisse des klassischen Balletts werden vermittelt. 
URL:https://ballettschule-schoofs-carell.de/event/ballett-frueherziehung/2028-01-12/
LOCATION:In der Ballettschule\, Sallingerstr.13-15\, Donauwörth\, Bayern\, 86609\, Deutschland
ORGANIZER;CN="Alexander%20Schoofs-Carell":MAILTO:info@ballettschule-schoofs-carell.de
END:VEVENT
BEGIN:VEVENT
DTSTART;TZID=Europe/Berlin:20280113T163000
DTEND;TZID=Europe/Berlin:20280113T173000
DTSTAMP:20260425T044035
CREATED:20210728T064308Z
LAST-MODIFIED:20210728T064308Z
UID:20725-1831393800-1831397400@ballettschule-schoofs-carell.de
SUMMARY:Kinderballett I
DESCRIPTION:
URL:https://ballettschule-schoofs-carell.de/event/kinderballett-i-2/2028-01-13/
ATTACH;FMTTYPE=image/jpeg:https://ballettschule-schoofs-carell.de/wp-content/uploads/2021/02/ballet-3362678_1920.jpg
END:VEVENT
BEGIN:VEVENT
DTSTART;TZID=Europe/Berlin:20280113T174500
DTEND;TZID=Europe/Berlin:20280113T191500
DTSTAMP:20260425T044035
CREATED:20210528T000446Z
LAST-MODIFIED:20210528T000446Z
UID:20726-1831398300-1831403700@ballettschule-schoofs-carell.de
SUMMARY:Klassisches Ballett mit Spitzentanz für Jugendliche
DESCRIPTION:Klassisches Ballett für mit Spitzentanz (ab 14 Jahren mit Vorkenntnissen) \nIn diesem Kurs wird ein klassisches Ballettraining mit Spitzentanz unterrichtet. Die Variationen werden anspruchsvoller und es wird an der im Ballett typischen Schwerelosigkeit gearbeitet. \n 
URL:https://ballettschule-schoofs-carell.de/event/klassisches-ballett-fuer-fortgeschritten-mit-spitzentanz-2021-06-10-2021-09-16/2028-01-13/
LOCATION:In der Ballettschule\, Sallingerstr.13-15\, Donauwörth\, Bayern\, 86609\, Deutschland
ATTACH;FMTTYPE=image/jpeg:https://ballettschule-schoofs-carell.de/wp-content/uploads/2021/02/ballet-335493_1920.jpg
ORGANIZER;CN="Alexander%20Schoofs-Carell":MAILTO:info@ballettschule-schoofs-carell.de
END:VEVENT
BEGIN:VEVENT
DTSTART;TZID=Europe/Berlin:20280113T194000
DTEND;TZID=Europe/Berlin:20280113T204000
DTSTAMP:20260425T044035
CREATED:20210208T214938Z
LAST-MODIFIED:20210208T214938Z
UID:20724-1831405200-1831408800@ballettschule-schoofs-carell.de
SUMMARY:Body-Balance
DESCRIPTION:Body-Balance ist das Yoga-\, Tai Chi- und Pilates-Workout\, mit dem Sie sich groß\, stark\, zentriert und ruhig fühlen. Ihre ganz persönliche Auszeit\, in der Sie Stress und die Anstrengungen des Alltags hinter sich lassen können.\nEin 60-minütiges musikalisches Gruppenfitnesstraining zur Verbesserung des körperlichen und geistigen Wohlbefindens. \nWas erziehlen Sie durch Body-Balance? \n– Verbesserung der Beweglichkeit\n– Verbesserung der Herz-Kreislauf-Funktionen\n– Stressabbau\n– Anhaltendes Gefühl von Wohlbefinden und Ruhe\n– Zentrierung und Bewusstseinserweiterung durch kontrolliertes Atmen \n 
URL:https://ballettschule-schoofs-carell.de/event/body-balance-onlinekurs-2/2028-01-13/
LOCATION:In der Ballettschule\, Sallingerstr.13-15\, Donauwörth\, Bayern\, 86609\, Deutschland
ATTACH;FMTTYPE=image/jpeg:https://ballettschule-schoofs-carell.de/wp-content/uploads/2021/02/BodyBalance3.jpg
ORGANIZER;CN="Alexander%20Schoofs-Carell":MAILTO:info@ballettschule-schoofs-carell.de
END:VEVENT
BEGIN:VEVENT
DTSTART;TZID=Europe/Berlin:20280114T150000
DTEND;TZID=Europe/Berlin:20280114T160000
DTSTAMP:20260425T044035
CREATED:20210527T224207Z
LAST-MODIFIED:20210527T224207Z
UID:20727-1831474800-1831478400@ballettschule-schoofs-carell.de
SUMMARY:Kinderballett II
DESCRIPTION:Kinderballett II (ab 8 Jahren mit Vorkenntnissen) \nIn diesem Kurs werden die Kenntnisse vertieft und die ersten Ballettkombinationen erarbeitet. \nDie gesamte Körpermuskelatur wird gestärkt und die Musikalität wird gefördert.
URL:https://ballettschule-schoofs-carell.de/event/kinderballett-ii-2021-07-06/2028-01-14/
LOCATION:In der Ballettschule\, Sallingerstr.13-15\, Donauwörth\, Bayern\, 86609\, Deutschland
ATTACH;FMTTYPE=image/jpeg:https://ballettschule-schoofs-carell.de/wp-content/uploads/2021/02/ballet-3301195_1920.jpg
ORGANIZER;CN="Alexander%20Schoofs-Carell":MAILTO:info@ballettschule-schoofs-carell.de
END:VEVENT
BEGIN:VEVENT
DTSTART;TZID=Europe/Berlin:20280114T163000
DTEND;TZID=Europe/Berlin:20280114T180000
DTSTAMP:20260425T044035
CREATED:20210528T001431Z
LAST-MODIFIED:20210528T001431Z
UID:20728-1831480200-1831485600@ballettschule-schoofs-carell.de
SUMMARY:Ballett und Spitzentanz für Jugendliche und Erwachsene (Fortgeschritten II)
DESCRIPTION:In diesem Kurs wird ein klassisches Ballettraining mit Spitzentanz unterrichtet. Die Variationen werden anspruchsvoller und es wird an der im Ballett typischen Schwerelosigkeit gearbeitet.  
URL:https://ballettschule-schoofs-carell.de/event/ballett-und-spitzentanz-fuer-jugendliche-und-erwachsene-fortgeschrittene/2028-01-14/
LOCATION:In der Ballettschule\, Sallingerstr.13-15\, Donauwörth\, Bayern\, 86609\, Deutschland
ATTACH;FMTTYPE=image/jpeg:https://ballettschule-schoofs-carell.de/wp-content/uploads/2021/02/woman-5909024_1920.jpg
ORGANIZER;CN="Alexander%20Schoofs-Carell":MAILTO:info@ballettschule-schoofs-carell.de
END:VEVENT
BEGIN:VEVENT
DTSTART;TZID=Europe/Berlin:20280114T183000
DTEND;TZID=Europe/Berlin:20280114T200000
DTSTAMP:20260425T044035
CREATED:20210528T002351Z
LAST-MODIFIED:20210528T002351Z
UID:20729-1831487400-1831492800@ballettschule-schoofs-carell.de
SUMMARY:Ballett für Erwachsene (Fortgeschritten I )
DESCRIPTION:Hier wird eine klassische Ballettstunde vorbereitet. \nErlerntes wird in fortgeschrittene Kombinationen umgesetzt. \n 
URL:https://ballettschule-schoofs-carell.de/event/ballett-fuer-erwachsene-fortgeschritten-i-2021-09-10/2028-01-14/
LOCATION:In der Ballettschule\, Sallingerstr.13-15\, Donauwörth\, Bayern\, 86609\, Deutschland
ATTACH;FMTTYPE=image/jpeg:https://ballettschule-schoofs-carell.de/wp-content/uploads/2021/02/Design-ohne-Titel-2.jpg
ORGANIZER;CN="Alexander%20Schoofs-Carell":MAILTO:info@ballettschule-schoofs-carell.de
END:VEVENT
BEGIN:VEVENT
DTSTART;TZID=Europe/Berlin:20280117T163000
DTEND;TZID=Europe/Berlin:20280117T173000
DTSTAMP:20260425T044035
CREATED:20210728T064308Z
LAST-MODIFIED:20210728T064308Z
UID:20732-1831739400-1831743000@ballettschule-schoofs-carell.de
SUMMARY:Kinderballett I
DESCRIPTION:
URL:https://ballettschule-schoofs-carell.de/event/kinderballett-i-2/2028-01-17/
ATTACH;FMTTYPE=image/jpeg:https://ballettschule-schoofs-carell.de/wp-content/uploads/2021/02/ballet-3362678_1920.jpg
END:VEVENT
BEGIN:VEVENT
DTSTART;TZID=Europe/Berlin:20280117T190000
DTEND;TZID=Europe/Berlin:20280117T203000
DTSTAMP:20260425T044035
CREATED:20210527T230748Z
LAST-MODIFIED:20210527T230748Z
UID:20731-1831748400-1831753800@ballettschule-schoofs-carell.de
SUMMARY: Ballett für Jugendliche und Erwachsene Einsteiger
DESCRIPTION:Ballett für Erwachsene (Einsteiger) \nHier wird eine klassische Ballettstunde vorbereitet. \nErlerntes wird in leichte Kombinationen umgesetzt. \n 
URL:https://ballettschule-schoofs-carell.de/event/ballett-fuer-jugendliche-und-erwachsene-einsteiger/2028-01-17/
LOCATION:In der Ballettschule\, Sallingerstr.13-15\, Donauwörth\, Bayern\, 86609\, Deutschland
ATTACH;FMTTYPE=image/jpeg:https://ballettschule-schoofs-carell.de/wp-content/uploads/2021/02/Design-ohne-Titel-2.jpg
ORGANIZER;CN="Alexander%20Schoofs-Carell":MAILTO:info@ballettschule-schoofs-carell.de
END:VEVENT
BEGIN:VEVENT
DTSTART;TZID=Europe/Berlin:20280118T163000
DTEND;TZID=Europe/Berlin:20280118T172000
DTSTAMP:20260425T044035
CREATED:20210527T220915Z
LAST-MODIFIED:20210527T220915Z
UID:20735-1831825800-1831828800@ballettschule-schoofs-carell.de
SUMMARY:Ballett-Früherziehung
DESCRIPTION:Ballett-Früherziehung (ab 4\,5 Jahren). \nHier wird auf die Tänzerische-Früherziehung aufgebaut. \n Die ersten Grundkenntnisse des klassischen Balletts werden vermittelt. 
URL:https://ballettschule-schoofs-carell.de/event/ballett-frueherziehung/2028-01-18/
LOCATION:In der Ballettschule\, Sallingerstr.13-15\, Donauwörth\, Bayern\, 86609\, Deutschland
ORGANIZER;CN="Alexander%20Schoofs-Carell":MAILTO:info@ballettschule-schoofs-carell.de
END:VEVENT
BEGIN:VEVENT
DTSTART;TZID=Europe/Berlin:20280118T174500
DTEND;TZID=Europe/Berlin:20280118T190000
DTSTAMP:20260425T044035
CREATED:20210527T225803Z
LAST-MODIFIED:20210527T225803Z
UID:20736-1831830300-1831834800@ballettschule-schoofs-carell.de
SUMMARY:Kinderballett III
DESCRIPTION:Kinderballett III (ab 10 Jahren mit Vorkenntnissen) \nIn diesem Kurs werden die Kenntnisse vertieft und die Ballettkobinationen schneller und Komplizierter. \nDie gesamte Körpermuskelatur wird gestärkt und die Musikalität wird gefördert.
URL:https://ballettschule-schoofs-carell.de/event/kinderballett-iii-2021-11-01/2028-01-18/
LOCATION:In der Ballettschule\, Sallingerstr.13-15\, Donauwörth\, Bayern\, 86609\, Deutschland
ATTACH;FMTTYPE=image/jpeg:https://ballettschule-schoofs-carell.de/wp-content/uploads/2021/02/ballet-3362687_1920.jpg
ORGANIZER;CN="Alexander%20Schoofs-Carell":MAILTO:info@ballettschule-schoofs-carell.de
END:VEVENT
END:VCALENDAR