BEGIN:VCALENDAR
VERSION:2.0
PRODID:-//Ballettschule Schoofs-Carell - ECPv5.11.0//NONSGML v1.0//EN
CALSCALE:GREGORIAN
METHOD:PUBLISH
X-WR-CALNAME:Ballettschule Schoofs-Carell
X-ORIGINAL-URL:https://ballettschule-schoofs-carell.de
X-WR-CALDESC:Veranstaltungen für Ballettschule Schoofs-Carell
BEGIN:VTIMEZONE
TZID:Europe/Berlin
BEGIN:DAYLIGHT
TZOFFSETFROM:+0100
TZOFFSETTO:+0200
TZNAME:CEST
DTSTART:20260329T010000
END:DAYLIGHT
BEGIN:STANDARD
TZOFFSETFROM:+0200
TZOFFSETTO:+0100
TZNAME:CET
DTSTART:20261025T010000
END:STANDARD
END:VTIMEZONE
BEGIN:VEVENT
DTSTART;TZID=Europe/Berlin:20260101T163000
DTEND;TZID=Europe/Berlin:20260101T173000
DTSTAMP:20260423T225553
CREATED:20210728T064308Z
LAST-MODIFIED:20240521T201500Z
UID:18485-1767285000-1767288600@ballettschule-schoofs-carell.de
SUMMARY:Kinderballett I
DESCRIPTION:
URL:https://ballettschule-schoofs-carell.de/event/kinderballett-i-2/2026-01-01/
ATTACH;FMTTYPE=image/jpeg:https://ballettschule-schoofs-carell.de/wp-content/uploads/2021/02/ballet-3362678_1920.jpg
END:VEVENT
BEGIN:VEVENT
DTSTART;TZID=Europe/Berlin:20260101T174500
DTEND;TZID=Europe/Berlin:20260101T191500
DTSTAMP:20260423T225553
CREATED:20210528T000446Z
LAST-MODIFIED:20240521T195332Z
UID:16748-1767289500-1767294900@ballettschule-schoofs-carell.de
SUMMARY:Klassisches Ballett mit Spitzentanz für Jugendliche
DESCRIPTION:Klassisches Ballett für mit Spitzentanz (ab 14 Jahren mit Vorkenntnissen) \nIn diesem Kurs wird ein klassisches Ballettraining mit Spitzentanz unterrichtet. Die Variationen werden anspruchsvoller und es wird an der im Ballett typischen Schwerelosigkeit gearbeitet. \n 
URL:https://ballettschule-schoofs-carell.de/event/klassisches-ballett-fuer-fortgeschritten-mit-spitzentanz-2021-06-10-2021-09-16/2026-01-01/
LOCATION:In der Ballettschule\, Sallingerstr.13-15\, Donauwörth\, Bayern\, 86609\, Deutschland
ATTACH;FMTTYPE=image/jpeg:https://ballettschule-schoofs-carell.de/wp-content/uploads/2021/02/ballet-335493_1920.jpg
ORGANIZER;CN="Alexander%20Schoofs-Carell":MAILTO:info@ballettschule-schoofs-carell.de
END:VEVENT
BEGIN:VEVENT
DTSTART;TZID=Europe/Berlin:20260101T194000
DTEND;TZID=Europe/Berlin:20260101T204000
DTSTAMP:20260423T225553
CREATED:20210208T214938Z
LAST-MODIFIED:20240521T195731Z
UID:15694-1767296400-1767300000@ballettschule-schoofs-carell.de
SUMMARY:Body-Balance
DESCRIPTION:Body-Balance ist das Yoga-\, Tai Chi- und Pilates-Workout\, mit dem Sie sich groß\, stark\, zentriert und ruhig fühlen. Ihre ganz persönliche Auszeit\, in der Sie Stress und die Anstrengungen des Alltags hinter sich lassen können.\nEin 60-minütiges musikalisches Gruppenfitnesstraining zur Verbesserung des körperlichen und geistigen Wohlbefindens. \nWas erziehlen Sie durch Body-Balance? \n– Verbesserung der Beweglichkeit\n– Verbesserung der Herz-Kreislauf-Funktionen\n– Stressabbau\n– Anhaltendes Gefühl von Wohlbefinden und Ruhe\n– Zentrierung und Bewusstseinserweiterung durch kontrolliertes Atmen \n 
URL:https://ballettschule-schoofs-carell.de/event/body-balance-onlinekurs-2/2026-01-01/
LOCATION:In der Ballettschule\, Sallingerstr.13-15\, Donauwörth\, Bayern\, 86609\, Deutschland
ATTACH;FMTTYPE=image/jpeg:https://ballettschule-schoofs-carell.de/wp-content/uploads/2021/02/BodyBalance3.jpg
ORGANIZER;CN="Alexander%20Schoofs-Carell":MAILTO:info@ballettschule-schoofs-carell.de
END:VEVENT
BEGIN:VEVENT
DTSTART;TZID=Europe/Berlin:20260102T150000
DTEND;TZID=Europe/Berlin:20260102T160000
DTSTAMP:20260423T225553
CREATED:20210527T224207Z
LAST-MODIFIED:20240521T201704Z
UID:16056-1767366000-1767369600@ballettschule-schoofs-carell.de
SUMMARY:Kinderballett II
DESCRIPTION:Kinderballett II (ab 8 Jahren mit Vorkenntnissen) \nIn diesem Kurs werden die Kenntnisse vertieft und die ersten Ballettkombinationen erarbeitet. \nDie gesamte Körpermuskelatur wird gestärkt und die Musikalität wird gefördert.
URL:https://ballettschule-schoofs-carell.de/event/kinderballett-ii-2021-07-06/2026-01-02/
LOCATION:In der Ballettschule\, Sallingerstr.13-15\, Donauwörth\, Bayern\, 86609\, Deutschland
ATTACH;FMTTYPE=image/jpeg:https://ballettschule-schoofs-carell.de/wp-content/uploads/2021/02/ballet-3301195_1920.jpg
ORGANIZER;CN="Alexander%20Schoofs-Carell":MAILTO:info@ballettschule-schoofs-carell.de
END:VEVENT
BEGIN:VEVENT
DTSTART;TZID=Europe/Berlin:20260102T163000
DTEND;TZID=Europe/Berlin:20260102T180000
DTSTAMP:20260423T225553
CREATED:20210528T001431Z
LAST-MODIFIED:20240521T201902Z
UID:15265-1767371400-1767376800@ballettschule-schoofs-carell.de
SUMMARY:Ballett und Spitzentanz für Jugendliche und Erwachsene (Fortgeschritten II)
DESCRIPTION:In diesem Kurs wird ein klassisches Ballettraining mit Spitzentanz unterrichtet. Die Variationen werden anspruchsvoller und es wird an der im Ballett typischen Schwerelosigkeit gearbeitet.  
URL:https://ballettschule-schoofs-carell.de/event/ballett-und-spitzentanz-fuer-jugendliche-und-erwachsene-fortgeschrittene/2026-01-02/
LOCATION:In der Ballettschule\, Sallingerstr.13-15\, Donauwörth\, Bayern\, 86609\, Deutschland
ATTACH;FMTTYPE=image/jpeg:https://ballettschule-schoofs-carell.de/wp-content/uploads/2021/02/woman-5909024_1920.jpg
ORGANIZER;CN="Alexander%20Schoofs-Carell":MAILTO:info@ballettschule-schoofs-carell.de
END:VEVENT
BEGIN:VEVENT
DTSTART;TZID=Europe/Berlin:20260102T183000
DTEND;TZID=Europe/Berlin:20260102T200000
DTSTAMP:20260423T225553
CREATED:20210528T002351Z
LAST-MODIFIED:20240521T201959Z
UID:17096-1767378600-1767384000@ballettschule-schoofs-carell.de
SUMMARY:Ballett für Erwachsene (Fortgeschritten I )
DESCRIPTION:Hier wird eine klassische Ballettstunde vorbereitet. \nErlerntes wird in fortgeschrittene Kombinationen umgesetzt. \n 
URL:https://ballettschule-schoofs-carell.de/event/ballett-fuer-erwachsene-fortgeschritten-i-2021-09-10/2026-01-02/
LOCATION:In der Ballettschule\, Sallingerstr.13-15\, Donauwörth\, Bayern\, 86609\, Deutschland
ATTACH;FMTTYPE=image/jpeg:https://ballettschule-schoofs-carell.de/wp-content/uploads/2021/02/Design-ohne-Titel-2.jpg
ORGANIZER;CN="Alexander%20Schoofs-Carell":MAILTO:info@ballettschule-schoofs-carell.de
END:VEVENT
BEGIN:VEVENT
DTSTART;TZID=Europe/Berlin:20260105T163000
DTEND;TZID=Europe/Berlin:20260105T173000
DTSTAMP:20260423T225553
CREATED:20210728T064308Z
LAST-MODIFIED:20240521T201500Z
UID:18486-1767630600-1767634200@ballettschule-schoofs-carell.de
SUMMARY:Kinderballett I
DESCRIPTION:
URL:https://ballettschule-schoofs-carell.de/event/kinderballett-i-2/2026-01-05/
ATTACH;FMTTYPE=image/jpeg:https://ballettschule-schoofs-carell.de/wp-content/uploads/2021/02/ballet-3362678_1920.jpg
END:VEVENT
BEGIN:VEVENT
DTSTART;TZID=Europe/Berlin:20260105T173000
DTEND;TZID=Europe/Berlin:20260105T184500
DTSTAMP:20260423T225553
CREATED:20210527T225803Z
LAST-MODIFIED:20210527T225803Z
UID:19696-1767634200-1767638700@ballettschule-schoofs-carell.de
SUMMARY:Kinderballett IV
DESCRIPTION:Kinderballett IV (ab 10 Jahren mit Vorkenntnissen) \nIn diesem Kurs werden die Kenntnisse vertieft und die Ballettkobinationen schneller und Komplizierter. \nDie gesamte Körpermuskelatur wird gestärkt und die Musikalität wird gefördert.
URL:https://ballettschule-schoofs-carell.de/event/kinderballett-iii/2026-01-05/
LOCATION:In der Ballettschule\, Sallingerstr.13-15\, Donauwörth\, Bayern\, 86609\, Deutschland
ATTACH;FMTTYPE=image/jpeg:https://ballettschule-schoofs-carell.de/wp-content/uploads/2021/02/ballet-5352231_1920.jpg
ORGANIZER;CN="Alexander%20Schoofs-Carell":MAILTO:info@ballettschule-schoofs-carell.de
END:VEVENT
BEGIN:VEVENT
DTSTART;TZID=Europe/Berlin:20260105T190000
DTEND;TZID=Europe/Berlin:20260105T203000
DTSTAMP:20260423T225553
CREATED:20210527T230748Z
LAST-MODIFIED:20240521T200454Z
UID:15267-1767639600-1767645000@ballettschule-schoofs-carell.de
SUMMARY: Ballett für Jugendliche und Erwachsene Einsteiger
DESCRIPTION:Ballett für Erwachsene (Einsteiger) \nHier wird eine klassische Ballettstunde vorbereitet. \nErlerntes wird in leichte Kombinationen umgesetzt. \n 
URL:https://ballettschule-schoofs-carell.de/event/ballett-fuer-jugendliche-und-erwachsene-einsteiger/2026-01-05/
LOCATION:In der Ballettschule\, Sallingerstr.13-15\, Donauwörth\, Bayern\, 86609\, Deutschland
ATTACH;FMTTYPE=image/jpeg:https://ballettschule-schoofs-carell.de/wp-content/uploads/2021/02/Design-ohne-Titel-2.jpg
ORGANIZER;CN="Alexander%20Schoofs-Carell":MAILTO:info@ballettschule-schoofs-carell.de
END:VEVENT
BEGIN:VEVENT
DTSTART;TZID=Europe/Berlin:20260106T163000
DTEND;TZID=Europe/Berlin:20260106T172000
DTSTAMP:20260423T225553
CREATED:20210527T220915Z
LAST-MODIFIED:20240521T200646Z
UID:16475-1767717000-1767720000@ballettschule-schoofs-carell.de
SUMMARY:Ballett-Früherziehung
DESCRIPTION:Ballett-Früherziehung (ab 4\,5 Jahren). \nHier wird auf die Tänzerische-Früherziehung aufgebaut. \n Die ersten Grundkenntnisse des klassischen Balletts werden vermittelt. 
URL:https://ballettschule-schoofs-carell.de/event/ballett-frueherziehung/2026-01-06/
LOCATION:In der Ballettschule\, Sallingerstr.13-15\, Donauwörth\, Bayern\, 86609\, Deutschland
ORGANIZER;CN="Alexander%20Schoofs-Carell":MAILTO:info@ballettschule-schoofs-carell.de
END:VEVENT
BEGIN:VEVENT
DTSTART;TZID=Europe/Berlin:20260106T174500
DTEND;TZID=Europe/Berlin:20260106T190000
DTSTAMP:20260423T225553
CREATED:20210527T225803Z
LAST-MODIFIED:20240521T201134Z
UID:16162-1767721500-1767726000@ballettschule-schoofs-carell.de
SUMMARY:Kinderballett III
DESCRIPTION:Kinderballett III (ab 10 Jahren mit Vorkenntnissen) \nIn diesem Kurs werden die Kenntnisse vertieft und die Ballettkobinationen schneller und Komplizierter. \nDie gesamte Körpermuskelatur wird gestärkt und die Musikalität wird gefördert.
URL:https://ballettschule-schoofs-carell.de/event/kinderballett-iii-2021-11-01/2026-01-06/
LOCATION:In der Ballettschule\, Sallingerstr.13-15\, Donauwörth\, Bayern\, 86609\, Deutschland
ATTACH;FMTTYPE=image/jpeg:https://ballettschule-schoofs-carell.de/wp-content/uploads/2021/02/ballet-3362687_1920.jpg
ORGANIZER;CN="Alexander%20Schoofs-Carell":MAILTO:info@ballettschule-schoofs-carell.de
END:VEVENT
BEGIN:VEVENT
DTSTART;TZID=Europe/Berlin:20260106T191500
DTEND;TZID=Europe/Berlin:20260106T201500
DTSTAMP:20260423T225553
CREATED:20250201T131408Z
LAST-MODIFIED:20250201T131408Z
UID:19801-1767726900-1767730500@ballettschule-schoofs-carell.de
SUMMARY:Ballett für Erwachsene Einsteiger (ohne Vorkenntnisse)
DESCRIPTION:
URL:https://ballettschule-schoofs-carell.de/event/ballett-fuer-erwachsene-anfaenger/2026-01-06/
END:VEVENT
BEGIN:VEVENT
DTSTART;TZID=Europe/Berlin:20260107T153000
DTEND;TZID=Europe/Berlin:20260107T161500
DTSTAMP:20260423T225553
CREATED:20210527T213620Z
LAST-MODIFIED:20240521T202624Z
UID:17313-1767799800-1767802500@ballettschule-schoofs-carell.de
SUMMARY:Tänzerische-Früherziehung
DESCRIPTION:Ballett-Früherziehung (ab 3 Jahren). \nEs wird Freude an der Bewegung gefördert und das Interesse für Musik\, Tanz und Ballett geweckt. \nNebenbei werden spielerisch einige Grundkenntnisse des klassischen Balletts vermittelt. \n 
URL:https://ballettschule-schoofs-carell.de/event/taenzerische-frueherziehung/2026-01-07/
LOCATION:In der Ballettschule\, Sallingerstr.13-15\, Donauwörth\, Bayern\, 86609\, Deutschland
ORGANIZER;CN="Alexander%20Schoofs-Carell":MAILTO:info@ballettschule-schoofs-carell.de
END:VEVENT
BEGIN:VEVENT
DTSTART;TZID=Europe/Berlin:20260107T163000
DTEND;TZID=Europe/Berlin:20260107T172000
DTSTAMP:20260423T225553
CREATED:20210527T220915Z
LAST-MODIFIED:20240521T200646Z
UID:16476-1767803400-1767806400@ballettschule-schoofs-carell.de
SUMMARY:Ballett-Früherziehung
DESCRIPTION:Ballett-Früherziehung (ab 4\,5 Jahren). \nHier wird auf die Tänzerische-Früherziehung aufgebaut. \n Die ersten Grundkenntnisse des klassischen Balletts werden vermittelt. 
URL:https://ballettschule-schoofs-carell.de/event/ballett-frueherziehung/2026-01-07/
LOCATION:In der Ballettschule\, Sallingerstr.13-15\, Donauwörth\, Bayern\, 86609\, Deutschland
ORGANIZER;CN="Alexander%20Schoofs-Carell":MAILTO:info@ballettschule-schoofs-carell.de
END:VEVENT
BEGIN:VEVENT
DTSTART;TZID=Europe/Berlin:20260108T163000
DTEND;TZID=Europe/Berlin:20260108T173000
DTSTAMP:20260423T225553
CREATED:20210728T064308Z
LAST-MODIFIED:20240521T201500Z
UID:18487-1767889800-1767893400@ballettschule-schoofs-carell.de
SUMMARY:Kinderballett I
DESCRIPTION:
URL:https://ballettschule-schoofs-carell.de/event/kinderballett-i-2/2026-01-08/
ATTACH;FMTTYPE=image/jpeg:https://ballettschule-schoofs-carell.de/wp-content/uploads/2021/02/ballet-3362678_1920.jpg
END:VEVENT
BEGIN:VEVENT
DTSTART;TZID=Europe/Berlin:20260108T174500
DTEND;TZID=Europe/Berlin:20260108T191500
DTSTAMP:20260423T225553
CREATED:20210528T000446Z
LAST-MODIFIED:20240521T195332Z
UID:16749-1767894300-1767899700@ballettschule-schoofs-carell.de
SUMMARY:Klassisches Ballett mit Spitzentanz für Jugendliche
DESCRIPTION:Klassisches Ballett für mit Spitzentanz (ab 14 Jahren mit Vorkenntnissen) \nIn diesem Kurs wird ein klassisches Ballettraining mit Spitzentanz unterrichtet. Die Variationen werden anspruchsvoller und es wird an der im Ballett typischen Schwerelosigkeit gearbeitet. \n 
URL:https://ballettschule-schoofs-carell.de/event/klassisches-ballett-fuer-fortgeschritten-mit-spitzentanz-2021-06-10-2021-09-16/2026-01-08/
LOCATION:In der Ballettschule\, Sallingerstr.13-15\, Donauwörth\, Bayern\, 86609\, Deutschland
ATTACH;FMTTYPE=image/jpeg:https://ballettschule-schoofs-carell.de/wp-content/uploads/2021/02/ballet-335493_1920.jpg
ORGANIZER;CN="Alexander%20Schoofs-Carell":MAILTO:info@ballettschule-schoofs-carell.de
END:VEVENT
BEGIN:VEVENT
DTSTART;TZID=Europe/Berlin:20260108T194000
DTEND;TZID=Europe/Berlin:20260108T204000
DTSTAMP:20260423T225553
CREATED:20210208T214938Z
LAST-MODIFIED:20240521T195731Z
UID:15695-1767901200-1767904800@ballettschule-schoofs-carell.de
SUMMARY:Body-Balance
DESCRIPTION:Body-Balance ist das Yoga-\, Tai Chi- und Pilates-Workout\, mit dem Sie sich groß\, stark\, zentriert und ruhig fühlen. Ihre ganz persönliche Auszeit\, in der Sie Stress und die Anstrengungen des Alltags hinter sich lassen können.\nEin 60-minütiges musikalisches Gruppenfitnesstraining zur Verbesserung des körperlichen und geistigen Wohlbefindens. \nWas erziehlen Sie durch Body-Balance? \n– Verbesserung der Beweglichkeit\n– Verbesserung der Herz-Kreislauf-Funktionen\n– Stressabbau\n– Anhaltendes Gefühl von Wohlbefinden und Ruhe\n– Zentrierung und Bewusstseinserweiterung durch kontrolliertes Atmen \n 
URL:https://ballettschule-schoofs-carell.de/event/body-balance-onlinekurs-2/2026-01-08/
LOCATION:In der Ballettschule\, Sallingerstr.13-15\, Donauwörth\, Bayern\, 86609\, Deutschland
ATTACH;FMTTYPE=image/jpeg:https://ballettschule-schoofs-carell.de/wp-content/uploads/2021/02/BodyBalance3.jpg
ORGANIZER;CN="Alexander%20Schoofs-Carell":MAILTO:info@ballettschule-schoofs-carell.de
END:VEVENT
BEGIN:VEVENT
DTSTART;TZID=Europe/Berlin:20260109T150000
DTEND;TZID=Europe/Berlin:20260109T160000
DTSTAMP:20260423T225553
CREATED:20210527T224207Z
LAST-MODIFIED:20240521T201704Z
UID:16057-1767970800-1767974400@ballettschule-schoofs-carell.de
SUMMARY:Kinderballett II
DESCRIPTION:Kinderballett II (ab 8 Jahren mit Vorkenntnissen) \nIn diesem Kurs werden die Kenntnisse vertieft und die ersten Ballettkombinationen erarbeitet. \nDie gesamte Körpermuskelatur wird gestärkt und die Musikalität wird gefördert.
URL:https://ballettschule-schoofs-carell.de/event/kinderballett-ii-2021-07-06/2026-01-09/
LOCATION:In der Ballettschule\, Sallingerstr.13-15\, Donauwörth\, Bayern\, 86609\, Deutschland
ATTACH;FMTTYPE=image/jpeg:https://ballettschule-schoofs-carell.de/wp-content/uploads/2021/02/ballet-3301195_1920.jpg
ORGANIZER;CN="Alexander%20Schoofs-Carell":MAILTO:info@ballettschule-schoofs-carell.de
END:VEVENT
BEGIN:VEVENT
DTSTART;TZID=Europe/Berlin:20260109T163000
DTEND;TZID=Europe/Berlin:20260109T180000
DTSTAMP:20260423T225553
CREATED:20210528T001431Z
LAST-MODIFIED:20240521T201903Z
UID:15270-1767976200-1767981600@ballettschule-schoofs-carell.de
SUMMARY:Ballett und Spitzentanz für Jugendliche und Erwachsene (Fortgeschritten II)
DESCRIPTION:In diesem Kurs wird ein klassisches Ballettraining mit Spitzentanz unterrichtet. Die Variationen werden anspruchsvoller und es wird an der im Ballett typischen Schwerelosigkeit gearbeitet.  
URL:https://ballettschule-schoofs-carell.de/event/ballett-und-spitzentanz-fuer-jugendliche-und-erwachsene-fortgeschrittene/2026-01-09/
LOCATION:In der Ballettschule\, Sallingerstr.13-15\, Donauwörth\, Bayern\, 86609\, Deutschland
ATTACH;FMTTYPE=image/jpeg:https://ballettschule-schoofs-carell.de/wp-content/uploads/2021/02/woman-5909024_1920.jpg
ORGANIZER;CN="Alexander%20Schoofs-Carell":MAILTO:info@ballettschule-schoofs-carell.de
END:VEVENT
BEGIN:VEVENT
DTSTART;TZID=Europe/Berlin:20260109T183000
DTEND;TZID=Europe/Berlin:20260109T200000
DTSTAMP:20260423T225553
CREATED:20210528T002351Z
LAST-MODIFIED:20240521T202000Z
UID:17097-1767983400-1767988800@ballettschule-schoofs-carell.de
SUMMARY:Ballett für Erwachsene (Fortgeschritten I )
DESCRIPTION:Hier wird eine klassische Ballettstunde vorbereitet. \nErlerntes wird in fortgeschrittene Kombinationen umgesetzt. \n 
URL:https://ballettschule-schoofs-carell.de/event/ballett-fuer-erwachsene-fortgeschritten-i-2021-09-10/2026-01-09/
LOCATION:In der Ballettschule\, Sallingerstr.13-15\, Donauwörth\, Bayern\, 86609\, Deutschland
ATTACH;FMTTYPE=image/jpeg:https://ballettschule-schoofs-carell.de/wp-content/uploads/2021/02/Design-ohne-Titel-2.jpg
ORGANIZER;CN="Alexander%20Schoofs-Carell":MAILTO:info@ballettschule-schoofs-carell.de
END:VEVENT
BEGIN:VEVENT
DTSTART;TZID=Europe/Berlin:20260112T163000
DTEND;TZID=Europe/Berlin:20260112T173000
DTSTAMP:20260423T225553
CREATED:20210728T064308Z
LAST-MODIFIED:20240521T201500Z
UID:18488-1768235400-1768239000@ballettschule-schoofs-carell.de
SUMMARY:Kinderballett I
DESCRIPTION:
URL:https://ballettschule-schoofs-carell.de/event/kinderballett-i-2/2026-01-12/
ATTACH;FMTTYPE=image/jpeg:https://ballettschule-schoofs-carell.de/wp-content/uploads/2021/02/ballet-3362678_1920.jpg
END:VEVENT
BEGIN:VEVENT
DTSTART;TZID=Europe/Berlin:20260112T173000
DTEND;TZID=Europe/Berlin:20260112T184500
DTSTAMP:20260423T225553
CREATED:20210527T225803Z
LAST-MODIFIED:20210527T225803Z
UID:19697-1768239000-1768243500@ballettschule-schoofs-carell.de
SUMMARY:Kinderballett IV
DESCRIPTION:Kinderballett IV (ab 10 Jahren mit Vorkenntnissen) \nIn diesem Kurs werden die Kenntnisse vertieft und die Ballettkobinationen schneller und Komplizierter. \nDie gesamte Körpermuskelatur wird gestärkt und die Musikalität wird gefördert.
URL:https://ballettschule-schoofs-carell.de/event/kinderballett-iii/2026-01-12/
LOCATION:In der Ballettschule\, Sallingerstr.13-15\, Donauwörth\, Bayern\, 86609\, Deutschland
ATTACH;FMTTYPE=image/jpeg:https://ballettschule-schoofs-carell.de/wp-content/uploads/2021/02/ballet-5352231_1920.jpg
ORGANIZER;CN="Alexander%20Schoofs-Carell":MAILTO:info@ballettschule-schoofs-carell.de
END:VEVENT
BEGIN:VEVENT
DTSTART;TZID=Europe/Berlin:20260112T190000
DTEND;TZID=Europe/Berlin:20260112T203000
DTSTAMP:20260423T225553
CREATED:20210527T230748Z
LAST-MODIFIED:20240521T200454Z
UID:15272-1768244400-1768249800@ballettschule-schoofs-carell.de
SUMMARY: Ballett für Jugendliche und Erwachsene Einsteiger
DESCRIPTION:Ballett für Erwachsene (Einsteiger) \nHier wird eine klassische Ballettstunde vorbereitet. \nErlerntes wird in leichte Kombinationen umgesetzt. \n 
URL:https://ballettschule-schoofs-carell.de/event/ballett-fuer-jugendliche-und-erwachsene-einsteiger/2026-01-12/
LOCATION:In der Ballettschule\, Sallingerstr.13-15\, Donauwörth\, Bayern\, 86609\, Deutschland
ATTACH;FMTTYPE=image/jpeg:https://ballettschule-schoofs-carell.de/wp-content/uploads/2021/02/Design-ohne-Titel-2.jpg
ORGANIZER;CN="Alexander%20Schoofs-Carell":MAILTO:info@ballettschule-schoofs-carell.de
END:VEVENT
BEGIN:VEVENT
DTSTART;TZID=Europe/Berlin:20260113T163000
DTEND;TZID=Europe/Berlin:20260113T172000
DTSTAMP:20260423T225553
CREATED:20210527T220915Z
LAST-MODIFIED:20240521T200646Z
UID:16477-1768321800-1768324800@ballettschule-schoofs-carell.de
SUMMARY:Ballett-Früherziehung
DESCRIPTION:Ballett-Früherziehung (ab 4\,5 Jahren). \nHier wird auf die Tänzerische-Früherziehung aufgebaut. \n Die ersten Grundkenntnisse des klassischen Balletts werden vermittelt. 
URL:https://ballettschule-schoofs-carell.de/event/ballett-frueherziehung/2026-01-13/
LOCATION:In der Ballettschule\, Sallingerstr.13-15\, Donauwörth\, Bayern\, 86609\, Deutschland
ORGANIZER;CN="Alexander%20Schoofs-Carell":MAILTO:info@ballettschule-schoofs-carell.de
END:VEVENT
BEGIN:VEVENT
DTSTART;TZID=Europe/Berlin:20260113T174500
DTEND;TZID=Europe/Berlin:20260113T190000
DTSTAMP:20260423T225553
CREATED:20210527T225803Z
LAST-MODIFIED:20240521T201134Z
UID:16163-1768326300-1768330800@ballettschule-schoofs-carell.de
SUMMARY:Kinderballett III
DESCRIPTION:Kinderballett III (ab 10 Jahren mit Vorkenntnissen) \nIn diesem Kurs werden die Kenntnisse vertieft und die Ballettkobinationen schneller und Komplizierter. \nDie gesamte Körpermuskelatur wird gestärkt und die Musikalität wird gefördert.
URL:https://ballettschule-schoofs-carell.de/event/kinderballett-iii-2021-11-01/2026-01-13/
LOCATION:In der Ballettschule\, Sallingerstr.13-15\, Donauwörth\, Bayern\, 86609\, Deutschland
ATTACH;FMTTYPE=image/jpeg:https://ballettschule-schoofs-carell.de/wp-content/uploads/2021/02/ballet-3362687_1920.jpg
ORGANIZER;CN="Alexander%20Schoofs-Carell":MAILTO:info@ballettschule-schoofs-carell.de
END:VEVENT
BEGIN:VEVENT
DTSTART;TZID=Europe/Berlin:20260113T191500
DTEND;TZID=Europe/Berlin:20260113T201500
DTSTAMP:20260423T225553
CREATED:20250201T131408Z
LAST-MODIFIED:20250201T131408Z
UID:19802-1768331700-1768335300@ballettschule-schoofs-carell.de
SUMMARY:Ballett für Erwachsene Einsteiger (ohne Vorkenntnisse)
DESCRIPTION:
URL:https://ballettschule-schoofs-carell.de/event/ballett-fuer-erwachsene-anfaenger/2026-01-13/
END:VEVENT
BEGIN:VEVENT
DTSTART;TZID=Europe/Berlin:20260114T153000
DTEND;TZID=Europe/Berlin:20260114T161500
DTSTAMP:20260423T225553
CREATED:20210527T213620Z
LAST-MODIFIED:20240521T202624Z
UID:17314-1768404600-1768407300@ballettschule-schoofs-carell.de
SUMMARY:Tänzerische-Früherziehung
DESCRIPTION:Ballett-Früherziehung (ab 3 Jahren). \nEs wird Freude an der Bewegung gefördert und das Interesse für Musik\, Tanz und Ballett geweckt. \nNebenbei werden spielerisch einige Grundkenntnisse des klassischen Balletts vermittelt. \n 
URL:https://ballettschule-schoofs-carell.de/event/taenzerische-frueherziehung/2026-01-14/
LOCATION:In der Ballettschule\, Sallingerstr.13-15\, Donauwörth\, Bayern\, 86609\, Deutschland
ORGANIZER;CN="Alexander%20Schoofs-Carell":MAILTO:info@ballettschule-schoofs-carell.de
END:VEVENT
BEGIN:VEVENT
DTSTART;TZID=Europe/Berlin:20260114T163000
DTEND;TZID=Europe/Berlin:20260114T172000
DTSTAMP:20260423T225553
CREATED:20210527T220915Z
LAST-MODIFIED:20240521T200646Z
UID:16478-1768408200-1768411200@ballettschule-schoofs-carell.de
SUMMARY:Ballett-Früherziehung
DESCRIPTION:Ballett-Früherziehung (ab 4\,5 Jahren). \nHier wird auf die Tänzerische-Früherziehung aufgebaut. \n Die ersten Grundkenntnisse des klassischen Balletts werden vermittelt. 
URL:https://ballettschule-schoofs-carell.de/event/ballett-frueherziehung/2026-01-14/
LOCATION:In der Ballettschule\, Sallingerstr.13-15\, Donauwörth\, Bayern\, 86609\, Deutschland
ORGANIZER;CN="Alexander%20Schoofs-Carell":MAILTO:info@ballettschule-schoofs-carell.de
END:VEVENT
BEGIN:VEVENT
DTSTART;TZID=Europe/Berlin:20260115T163000
DTEND;TZID=Europe/Berlin:20260115T173000
DTSTAMP:20260423T225553
CREATED:20210728T064308Z
LAST-MODIFIED:20240521T201500Z
UID:18489-1768494600-1768498200@ballettschule-schoofs-carell.de
SUMMARY:Kinderballett I
DESCRIPTION:
URL:https://ballettschule-schoofs-carell.de/event/kinderballett-i-2/2026-01-15/
ATTACH;FMTTYPE=image/jpeg:https://ballettschule-schoofs-carell.de/wp-content/uploads/2021/02/ballet-3362678_1920.jpg
END:VEVENT
BEGIN:VEVENT
DTSTART;TZID=Europe/Berlin:20260115T174500
DTEND;TZID=Europe/Berlin:20260115T191500
DTSTAMP:20260423T225553
CREATED:20210528T000446Z
LAST-MODIFIED:20240521T195332Z
UID:16750-1768499100-1768504500@ballettschule-schoofs-carell.de
SUMMARY:Klassisches Ballett mit Spitzentanz für Jugendliche
DESCRIPTION:Klassisches Ballett für mit Spitzentanz (ab 14 Jahren mit Vorkenntnissen) \nIn diesem Kurs wird ein klassisches Ballettraining mit Spitzentanz unterrichtet. Die Variationen werden anspruchsvoller und es wird an der im Ballett typischen Schwerelosigkeit gearbeitet. \n 
URL:https://ballettschule-schoofs-carell.de/event/klassisches-ballett-fuer-fortgeschritten-mit-spitzentanz-2021-06-10-2021-09-16/2026-01-15/
LOCATION:In der Ballettschule\, Sallingerstr.13-15\, Donauwörth\, Bayern\, 86609\, Deutschland
ATTACH;FMTTYPE=image/jpeg:https://ballettschule-schoofs-carell.de/wp-content/uploads/2021/02/ballet-335493_1920.jpg
ORGANIZER;CN="Alexander%20Schoofs-Carell":MAILTO:info@ballettschule-schoofs-carell.de
END:VEVENT
END:VCALENDAR