BEGIN:VCALENDAR
VERSION:2.0
PRODID:-//Ballettschule Schoofs-Carell - ECPv5.11.0//NONSGML v1.0//EN
CALSCALE:GREGORIAN
METHOD:PUBLISH
X-WR-CALNAME:Ballettschule Schoofs-Carell
X-ORIGINAL-URL:https://ballettschule-schoofs-carell.de
X-WR-CALDESC:Veranstaltungen für Ballettschule Schoofs-Carell
BEGIN:VTIMEZONE
TZID:Europe/Berlin
BEGIN:DAYLIGHT
TZOFFSETFROM:+0100
TZOFFSETTO:+0200
TZNAME:CEST
DTSTART:20240331T010000
END:DAYLIGHT
BEGIN:STANDARD
TZOFFSETFROM:+0200
TZOFFSETTO:+0100
TZNAME:CET
DTSTART:20241027T010000
END:STANDARD
END:VTIMEZONE
BEGIN:VEVENT
DTSTART;TZID=Europe/Berlin:20240201T163000
DTEND;TZID=Europe/Berlin:20240201T173000
DTSTAMP:20260425T231305
CREATED:20210728T064308Z
LAST-MODIFIED:20240521T202748Z
UID:18287-1706805000-1706808600@ballettschule-schoofs-carell.de
SUMMARY:Kinderballett I
DESCRIPTION:
URL:https://ballettschule-schoofs-carell.de/event/kinderballett-i-2/2024-02-01/
ATTACH;FMTTYPE=image/jpeg:https://ballettschule-schoofs-carell.de/wp-content/uploads/2021/02/ballet-3362678_1920.jpg
END:VEVENT
BEGIN:VEVENT
DTSTART;TZID=Europe/Berlin:20240201T174500
DTEND;TZID=Europe/Berlin:20240201T191500
DTSTAMP:20260425T231305
CREATED:20210528T000446Z
LAST-MODIFIED:20240521T195257Z
UID:16648-1706809500-1706814900@ballettschule-schoofs-carell.de
SUMMARY:Klassisches Ballett mit Spitzentanz für Jugendliche
DESCRIPTION:Klassisches Ballett für mit Spitzentanz (ab 14 Jahren mit Vorkenntnissen) \nIn diesem Kurs wird ein klassisches Ballettraining mit Spitzentanz unterrichtet. Die Variationen werden anspruchsvoller und es wird an der im Ballett typischen Schwerelosigkeit gearbeitet. \n 
URL:https://ballettschule-schoofs-carell.de/event/klassisches-ballett-fuer-fortgeschritten-mit-spitzentanz-2021-06-10-2021-09-16/2024-02-01/
LOCATION:In der Ballettschule\, Sallingerstr.13-15\, Donauwörth\, Bayern\, 86609\, Deutschland
ATTACH;FMTTYPE=image/jpeg:https://ballettschule-schoofs-carell.de/wp-content/uploads/2021/02/ballet-335493_1920.jpg
ORGANIZER;CN="Alexander%20Schoofs-Carell":MAILTO:info@ballettschule-schoofs-carell.de
END:VEVENT
BEGIN:VEVENT
DTSTART;TZID=Europe/Berlin:20240201T194000
DTEND;TZID=Europe/Berlin:20240201T204000
DTSTAMP:20260425T231305
CREATED:20210208T214938Z
LAST-MODIFIED:20240521T195651Z
UID:15594-1706816400-1706820000@ballettschule-schoofs-carell.de
SUMMARY:Body-Balance
DESCRIPTION:Body-Balance ist das Yoga-\, Tai Chi- und Pilates-Workout\, mit dem Sie sich groß\, stark\, zentriert und ruhig fühlen. Ihre ganz persönliche Auszeit\, in der Sie Stress und die Anstrengungen des Alltags hinter sich lassen können.\nEin 60-minütiges musikalisches Gruppenfitnesstraining zur Verbesserung des körperlichen und geistigen Wohlbefindens. \nWas erziehlen Sie durch Body-Balance? \n– Verbesserung der Beweglichkeit\n– Verbesserung der Herz-Kreislauf-Funktionen\n– Stressabbau\n– Anhaltendes Gefühl von Wohlbefinden und Ruhe\n– Zentrierung und Bewusstseinserweiterung durch kontrolliertes Atmen \n 
URL:https://ballettschule-schoofs-carell.de/event/body-balance-onlinekurs-2/2024-02-01/
LOCATION:In der Ballettschule\, Sallingerstr.13-15\, Donauwörth\, Bayern\, 86609\, Deutschland
ATTACH;FMTTYPE=image/jpeg:https://ballettschule-schoofs-carell.de/wp-content/uploads/2021/02/BodyBalance3.jpg
ORGANIZER;CN="Alexander%20Schoofs-Carell":MAILTO:info@ballettschule-schoofs-carell.de
END:VEVENT
BEGIN:VEVENT
DTSTART;TZID=Europe/Berlin:20240202T150000
DTEND;TZID=Europe/Berlin:20240202T160000
DTSTAMP:20260425T231305
CREATED:20210527T224207Z
LAST-MODIFIED:20240521T201627Z
UID:15956-1706886000-1706889600@ballettschule-schoofs-carell.de
SUMMARY:Kinderballett II
DESCRIPTION:Kinderballett II (ab 8 Jahren mit Vorkenntnissen) \nIn diesem Kurs werden die Kenntnisse vertieft und die ersten Ballettkombinationen erarbeitet. \nDie gesamte Körpermuskelatur wird gestärkt und die Musikalität wird gefördert.
URL:https://ballettschule-schoofs-carell.de/event/kinderballett-ii-2021-07-06/2024-02-02/
LOCATION:In der Ballettschule\, Sallingerstr.13-15\, Donauwörth\, Bayern\, 86609\, Deutschland
ATTACH;FMTTYPE=image/jpeg:https://ballettschule-schoofs-carell.de/wp-content/uploads/2021/02/ballet-3301195_1920.jpg
ORGANIZER;CN="Alexander%20Schoofs-Carell":MAILTO:info@ballettschule-schoofs-carell.de
END:VEVENT
BEGIN:VEVENT
DTSTART;TZID=Europe/Berlin:20240202T163000
DTEND;TZID=Europe/Berlin:20240202T180000
DTSTAMP:20260425T231305
CREATED:20210528T001431Z
LAST-MODIFIED:20240521T201831Z
UID:12715-1706891400-1706896800@ballettschule-schoofs-carell.de
SUMMARY:Ballett und Spitzentanz für Jugendliche und Erwachsene (Fortgeschritten II)
DESCRIPTION:In diesem Kurs wird ein klassisches Ballettraining mit Spitzentanz unterrichtet. Die Variationen werden anspruchsvoller und es wird an der im Ballett typischen Schwerelosigkeit gearbeitet.  
URL:https://ballettschule-schoofs-carell.de/event/ballett-und-spitzentanz-fuer-jugendliche-und-erwachsene-fortgeschrittene/2024-02-02/
LOCATION:In der Ballettschule\, Sallingerstr.13-15\, Donauwörth\, Bayern\, 86609\, Deutschland
ATTACH;FMTTYPE=image/jpeg:https://ballettschule-schoofs-carell.de/wp-content/uploads/2021/02/woman-5909024_1920.jpg
ORGANIZER;CN="Alexander%20Schoofs-Carell":MAILTO:info@ballettschule-schoofs-carell.de
END:VEVENT
BEGIN:VEVENT
DTSTART;TZID=Europe/Berlin:20240202T183000
DTEND;TZID=Europe/Berlin:20240202T200000
DTSTAMP:20260425T231305
CREATED:20210528T002351Z
LAST-MODIFIED:20240521T202024Z
UID:16996-1706898600-1706904000@ballettschule-schoofs-carell.de
SUMMARY:Ballett für Erwachsene (Fortgeschritten I )
DESCRIPTION:Hier wird eine klassische Ballettstunde vorbereitet. \nErlerntes wird in fortgeschrittene Kombinationen umgesetzt. \n 
URL:https://ballettschule-schoofs-carell.de/event/ballett-fuer-erwachsene-fortgeschritten-i-2021-09-10/2024-02-02/
LOCATION:In der Ballettschule\, Sallingerstr.13-15\, Donauwörth\, Bayern\, 86609\, Deutschland
ATTACH;FMTTYPE=image/jpeg:https://ballettschule-schoofs-carell.de/wp-content/uploads/2021/02/Design-ohne-Titel-2.jpg
ORGANIZER;CN="Alexander%20Schoofs-Carell":MAILTO:info@ballettschule-schoofs-carell.de
END:VEVENT
BEGIN:VEVENT
DTSTART;TZID=Europe/Berlin:20240205T163000
DTEND;TZID=Europe/Berlin:20240205T173000
DTSTAMP:20260425T231305
CREATED:20210728T064308Z
LAST-MODIFIED:20240521T202748Z
UID:18288-1707150600-1707154200@ballettschule-schoofs-carell.de
SUMMARY:Kinderballett I
DESCRIPTION:
URL:https://ballettschule-schoofs-carell.de/event/kinderballett-i-2/2024-02-05/
ATTACH;FMTTYPE=image/jpeg:https://ballettschule-schoofs-carell.de/wp-content/uploads/2021/02/ballet-3362678_1920.jpg
END:VEVENT
BEGIN:VEVENT
DTSTART;TZID=Europe/Berlin:20240205T173000
DTEND;TZID=Europe/Berlin:20240205T184500
DTSTAMP:20260425T231305
CREATED:20210527T225803Z
LAST-MODIFIED:20250201T131010Z
UID:15317-1707154200-1707158700@ballettschule-schoofs-carell.de
SUMMARY:Kinderballett IV
DESCRIPTION:Kinderballett IV (ab 10 Jahren mit Vorkenntnissen) \nIn diesem Kurs werden die Kenntnisse vertieft und die Ballettkobinationen schneller und Komplizierter. \nDie gesamte Körpermuskelatur wird gestärkt und die Musikalität wird gefördert.
URL:https://ballettschule-schoofs-carell.de/event/kinderballett-iii/2024-02-05/
LOCATION:In der Ballettschule\, Sallingerstr.13-15\, Donauwörth\, Bayern\, 86609\, Deutschland
ATTACH;FMTTYPE=image/jpeg:https://ballettschule-schoofs-carell.de/wp-content/uploads/2021/02/ballet-5352231_1920.jpg
ORGANIZER;CN="Alexander%20Schoofs-Carell":MAILTO:info@ballettschule-schoofs-carell.de
END:VEVENT
BEGIN:VEVENT
DTSTART;TZID=Europe/Berlin:20240205T190000
DTEND;TZID=Europe/Berlin:20240205T203000
DTSTAMP:20260425T231305
CREATED:20210527T230748Z
LAST-MODIFIED:20240521T200506Z
UID:12839-1707159600-1707165000@ballettschule-schoofs-carell.de
SUMMARY: Ballett für Jugendliche und Erwachsene Einsteiger
DESCRIPTION:Ballett für Erwachsene (Einsteiger) \nHier wird eine klassische Ballettstunde vorbereitet. \nErlerntes wird in leichte Kombinationen umgesetzt. \n 
URL:https://ballettschule-schoofs-carell.de/event/ballett-fuer-jugendliche-und-erwachsene-einsteiger/2024-02-05/
LOCATION:In der Ballettschule\, Sallingerstr.13-15\, Donauwörth\, Bayern\, 86609\, Deutschland
ATTACH;FMTTYPE=image/jpeg:https://ballettschule-schoofs-carell.de/wp-content/uploads/2021/02/Design-ohne-Titel-2.jpg
ORGANIZER;CN="Alexander%20Schoofs-Carell":MAILTO:info@ballettschule-schoofs-carell.de
END:VEVENT
BEGIN:VEVENT
DTSTART;TZID=Europe/Berlin:20240206T163000
DTEND;TZID=Europe/Berlin:20240206T172000
DTSTAMP:20260425T231305
CREATED:20210527T220915Z
LAST-MODIFIED:20240521T200739Z
UID:18926-1707237000-1707240000@ballettschule-schoofs-carell.de
SUMMARY:Ballett-Früherziehung
DESCRIPTION:Ballett-Früherziehung (ab 4\,5 Jahren). \nHier wird auf die Tänzerische-Früherziehung aufgebaut. \n Die ersten Grundkenntnisse des klassischen Balletts werden vermittelt. 
URL:https://ballettschule-schoofs-carell.de/event/ballett-frueherziehung/2024-02-06/
LOCATION:In der Ballettschule\, Sallingerstr.13-15\, Donauwörth\, Bayern\, 86609\, Deutschland
ORGANIZER;CN="Alexander%20Schoofs-Carell":MAILTO:info@ballettschule-schoofs-carell.de
END:VEVENT
BEGIN:VEVENT
DTSTART;TZID=Europe/Berlin:20240206T174500
DTEND;TZID=Europe/Berlin:20240206T190000
DTSTAMP:20260425T231305
CREATED:20210527T225803Z
LAST-MODIFIED:20240521T201058Z
UID:16062-1707241500-1707246000@ballettschule-schoofs-carell.de
SUMMARY:Kinderballett III
DESCRIPTION:Kinderballett III (ab 10 Jahren mit Vorkenntnissen) \nIn diesem Kurs werden die Kenntnisse vertieft und die Ballettkobinationen schneller und Komplizierter. \nDie gesamte Körpermuskelatur wird gestärkt und die Musikalität wird gefördert.
URL:https://ballettschule-schoofs-carell.de/event/kinderballett-iii-2021-11-01/2024-02-06/
LOCATION:In der Ballettschule\, Sallingerstr.13-15\, Donauwörth\, Bayern\, 86609\, Deutschland
ATTACH;FMTTYPE=image/jpeg:https://ballettschule-schoofs-carell.de/wp-content/uploads/2021/02/ballet-3362687_1920.jpg
ORGANIZER;CN="Alexander%20Schoofs-Carell":MAILTO:info@ballettschule-schoofs-carell.de
END:VEVENT
BEGIN:VEVENT
DTSTART;TZID=Europe/Berlin:20240206T191500
DTEND;TZID=Europe/Berlin:20240206T201500
DTSTAMP:20260425T231305
CREATED:20210208T214938Z
LAST-MODIFIED:20240521T195651Z
UID:17638-1707246900-1707250500@ballettschule-schoofs-carell.de
SUMMARY:Body-Balance
DESCRIPTION:Body-Balance ist das Yoga-\, Tai Chi- und Pilates-Workout\, mit dem Sie sich groß\, stark\, zentriert und ruhig fühlen. Ihre ganz persönliche Auszeit\, in der Sie Stress und die Anstrengungen des Alltags hinter sich lassen können.\nEin 60-minütiges musikalisches Gruppenfitnesstraining zur Verbesserung des körperlichen und geistigen Wohlbefindens. \nWas erziehlen Sie durch Body-Balance? \n– Verbesserung der Beweglichkeit\n– Verbesserung der Herz-Kreislauf-Funktionen\n– Stressabbau\n– Anhaltendes Gefühl von Wohlbefinden und Ruhe\n– Zentrierung und Bewusstseinserweiterung durch kontrolliertes Atmen \n 
URL:https://ballettschule-schoofs-carell.de/event/body-balance-onlinekurs-2/2024-02-06/
LOCATION:In der Ballettschule\, Sallingerstr.13-15\, Donauwörth\, Bayern\, 86609\, Deutschland
ATTACH;FMTTYPE=image/jpeg:https://ballettschule-schoofs-carell.de/wp-content/uploads/2021/02/BodyBalance3.jpg
ORGANIZER;CN="Alexander%20Schoofs-Carell":MAILTO:info@ballettschule-schoofs-carell.de
END:VEVENT
BEGIN:VEVENT
DTSTART;TZID=Europe/Berlin:20240207T153000
DTEND;TZID=Europe/Berlin:20240207T161500
DTSTAMP:20260425T231305
CREATED:20210527T213620Z
LAST-MODIFIED:20240521T202633Z
UID:17213-1707319800-1707322500@ballettschule-schoofs-carell.de
SUMMARY:Tänzerische-Früherziehung
DESCRIPTION:Ballett-Früherziehung (ab 3 Jahren). \nEs wird Freude an der Bewegung gefördert und das Interesse für Musik\, Tanz und Ballett geweckt. \nNebenbei werden spielerisch einige Grundkenntnisse des klassischen Balletts vermittelt. \n 
URL:https://ballettschule-schoofs-carell.de/event/taenzerische-frueherziehung/2024-02-07/
LOCATION:In der Ballettschule\, Sallingerstr.13-15\, Donauwörth\, Bayern\, 86609\, Deutschland
ORGANIZER;CN="Alexander%20Schoofs-Carell":MAILTO:info@ballettschule-schoofs-carell.de
END:VEVENT
BEGIN:VEVENT
DTSTART;TZID=Europe/Berlin:20240207T163000
DTEND;TZID=Europe/Berlin:20240207T172000
DTSTAMP:20260425T231305
CREATED:20210527T220915Z
LAST-MODIFIED:20240521T200739Z
UID:17325-1707323400-1707326400@ballettschule-schoofs-carell.de
SUMMARY:Ballett-Früherziehung
DESCRIPTION:Ballett-Früherziehung (ab 4\,5 Jahren). \nHier wird auf die Tänzerische-Früherziehung aufgebaut. \n Die ersten Grundkenntnisse des klassischen Balletts werden vermittelt. 
URL:https://ballettschule-schoofs-carell.de/event/ballett-frueherziehung/2024-02-07/
LOCATION:In der Ballettschule\, Sallingerstr.13-15\, Donauwörth\, Bayern\, 86609\, Deutschland
ORGANIZER;CN="Alexander%20Schoofs-Carell":MAILTO:info@ballettschule-schoofs-carell.de
END:VEVENT
BEGIN:VEVENT
DTSTART;TZID=Europe/Berlin:20240208T163000
DTEND;TZID=Europe/Berlin:20240208T173000
DTSTAMP:20260425T231305
CREATED:20210728T064308Z
LAST-MODIFIED:20240521T202748Z
UID:18289-1707409800-1707413400@ballettschule-schoofs-carell.de
SUMMARY:Kinderballett I
DESCRIPTION:
URL:https://ballettschule-schoofs-carell.de/event/kinderballett-i-2/2024-02-08/
ATTACH;FMTTYPE=image/jpeg:https://ballettschule-schoofs-carell.de/wp-content/uploads/2021/02/ballet-3362678_1920.jpg
END:VEVENT
BEGIN:VEVENT
DTSTART;TZID=Europe/Berlin:20240208T174500
DTEND;TZID=Europe/Berlin:20240208T191500
DTSTAMP:20260425T231305
CREATED:20210528T000446Z
LAST-MODIFIED:20240521T195257Z
UID:16649-1707414300-1707419700@ballettschule-schoofs-carell.de
SUMMARY:Klassisches Ballett mit Spitzentanz für Jugendliche
DESCRIPTION:Klassisches Ballett für mit Spitzentanz (ab 14 Jahren mit Vorkenntnissen) \nIn diesem Kurs wird ein klassisches Ballettraining mit Spitzentanz unterrichtet. Die Variationen werden anspruchsvoller und es wird an der im Ballett typischen Schwerelosigkeit gearbeitet. \n 
URL:https://ballettschule-schoofs-carell.de/event/klassisches-ballett-fuer-fortgeschritten-mit-spitzentanz-2021-06-10-2021-09-16/2024-02-08/
LOCATION:In der Ballettschule\, Sallingerstr.13-15\, Donauwörth\, Bayern\, 86609\, Deutschland
ATTACH;FMTTYPE=image/jpeg:https://ballettschule-schoofs-carell.de/wp-content/uploads/2021/02/ballet-335493_1920.jpg
ORGANIZER;CN="Alexander%20Schoofs-Carell":MAILTO:info@ballettschule-schoofs-carell.de
END:VEVENT
BEGIN:VEVENT
DTSTART;TZID=Europe/Berlin:20240208T194000
DTEND;TZID=Europe/Berlin:20240208T204000
DTSTAMP:20260425T231305
CREATED:20210208T214938Z
LAST-MODIFIED:20240521T195652Z
UID:18960-1707421200-1707424800@ballettschule-schoofs-carell.de
SUMMARY:Body-Balance
DESCRIPTION:Body-Balance ist das Yoga-\, Tai Chi- und Pilates-Workout\, mit dem Sie sich groß\, stark\, zentriert und ruhig fühlen. Ihre ganz persönliche Auszeit\, in der Sie Stress und die Anstrengungen des Alltags hinter sich lassen können.\nEin 60-minütiges musikalisches Gruppenfitnesstraining zur Verbesserung des körperlichen und geistigen Wohlbefindens. \nWas erziehlen Sie durch Body-Balance? \n– Verbesserung der Beweglichkeit\n– Verbesserung der Herz-Kreislauf-Funktionen\n– Stressabbau\n– Anhaltendes Gefühl von Wohlbefinden und Ruhe\n– Zentrierung und Bewusstseinserweiterung durch kontrolliertes Atmen \n 
URL:https://ballettschule-schoofs-carell.de/event/body-balance-onlinekurs-2/2024-02-08/
LOCATION:In der Ballettschule\, Sallingerstr.13-15\, Donauwörth\, Bayern\, 86609\, Deutschland
ATTACH;FMTTYPE=image/jpeg:https://ballettschule-schoofs-carell.de/wp-content/uploads/2021/02/BodyBalance3.jpg
ORGANIZER;CN="Alexander%20Schoofs-Carell":MAILTO:info@ballettschule-schoofs-carell.de
END:VEVENT
BEGIN:VEVENT
DTSTART;TZID=Europe/Berlin:20240209T150000
DTEND;TZID=Europe/Berlin:20240209T160000
DTSTAMP:20260425T231305
CREATED:20210527T224207Z
LAST-MODIFIED:20240521T201628Z
UID:15957-1707490800-1707494400@ballettschule-schoofs-carell.de
SUMMARY:Kinderballett II
DESCRIPTION:Kinderballett II (ab 8 Jahren mit Vorkenntnissen) \nIn diesem Kurs werden die Kenntnisse vertieft und die ersten Ballettkombinationen erarbeitet. \nDie gesamte Körpermuskelatur wird gestärkt und die Musikalität wird gefördert.
URL:https://ballettschule-schoofs-carell.de/event/kinderballett-ii-2021-07-06/2024-02-09/
LOCATION:In der Ballettschule\, Sallingerstr.13-15\, Donauwörth\, Bayern\, 86609\, Deutschland
ATTACH;FMTTYPE=image/jpeg:https://ballettschule-schoofs-carell.de/wp-content/uploads/2021/02/ballet-3301195_1920.jpg
ORGANIZER;CN="Alexander%20Schoofs-Carell":MAILTO:info@ballettschule-schoofs-carell.de
END:VEVENT
BEGIN:VEVENT
DTSTART;TZID=Europe/Berlin:20240209T163000
DTEND;TZID=Europe/Berlin:20240209T180000
DTSTAMP:20260425T231305
CREATED:20210528T001431Z
LAST-MODIFIED:20240521T201832Z
UID:12843-1707496200-1707501600@ballettschule-schoofs-carell.de
SUMMARY:Ballett und Spitzentanz für Jugendliche und Erwachsene (Fortgeschritten II)
DESCRIPTION:In diesem Kurs wird ein klassisches Ballettraining mit Spitzentanz unterrichtet. Die Variationen werden anspruchsvoller und es wird an der im Ballett typischen Schwerelosigkeit gearbeitet.  
URL:https://ballettschule-schoofs-carell.de/event/ballett-und-spitzentanz-fuer-jugendliche-und-erwachsene-fortgeschrittene/2024-02-09/
LOCATION:In der Ballettschule\, Sallingerstr.13-15\, Donauwörth\, Bayern\, 86609\, Deutschland
ATTACH;FMTTYPE=image/jpeg:https://ballettschule-schoofs-carell.de/wp-content/uploads/2021/02/woman-5909024_1920.jpg
ORGANIZER;CN="Alexander%20Schoofs-Carell":MAILTO:info@ballettschule-schoofs-carell.de
END:VEVENT
BEGIN:VEVENT
DTSTART;TZID=Europe/Berlin:20240209T183000
DTEND;TZID=Europe/Berlin:20240209T200000
DTSTAMP:20260425T231305
CREATED:20210528T002351Z
LAST-MODIFIED:20240521T202025Z
UID:16997-1707503400-1707508800@ballettschule-schoofs-carell.de
SUMMARY:Ballett für Erwachsene (Fortgeschritten I )
DESCRIPTION:Hier wird eine klassische Ballettstunde vorbereitet. \nErlerntes wird in fortgeschrittene Kombinationen umgesetzt. \n 
URL:https://ballettschule-schoofs-carell.de/event/ballett-fuer-erwachsene-fortgeschritten-i-2021-09-10/2024-02-09/
LOCATION:In der Ballettschule\, Sallingerstr.13-15\, Donauwörth\, Bayern\, 86609\, Deutschland
ATTACH;FMTTYPE=image/jpeg:https://ballettschule-schoofs-carell.de/wp-content/uploads/2021/02/Design-ohne-Titel-2.jpg
ORGANIZER;CN="Alexander%20Schoofs-Carell":MAILTO:info@ballettschule-schoofs-carell.de
END:VEVENT
BEGIN:VEVENT
DTSTART;TZID=Europe/Berlin:20240212T163000
DTEND;TZID=Europe/Berlin:20240212T173000
DTSTAMP:20260425T231305
CREATED:20210728T064308Z
LAST-MODIFIED:20240521T202749Z
UID:18949-1707755400-1707759000@ballettschule-schoofs-carell.de
SUMMARY:Kinderballett I
DESCRIPTION:
URL:https://ballettschule-schoofs-carell.de/event/kinderballett-i-2/2024-02-12/
ATTACH;FMTTYPE=image/jpeg:https://ballettschule-schoofs-carell.de/wp-content/uploads/2021/02/ballet-3362678_1920.jpg
END:VEVENT
BEGIN:VEVENT
DTSTART;TZID=Europe/Berlin:20240212T173000
DTEND;TZID=Europe/Berlin:20240212T184500
DTSTAMP:20260425T231305
CREATED:20210527T225803Z
LAST-MODIFIED:20250201T131012Z
UID:18977-1707759000-1707763500@ballettschule-schoofs-carell.de
SUMMARY:Kinderballett IV
DESCRIPTION:Kinderballett IV (ab 10 Jahren mit Vorkenntnissen) \nIn diesem Kurs werden die Kenntnisse vertieft und die Ballettkobinationen schneller und Komplizierter. \nDie gesamte Körpermuskelatur wird gestärkt und die Musikalität wird gefördert.
URL:https://ballettschule-schoofs-carell.de/event/kinderballett-iii/2024-02-12/
LOCATION:In der Ballettschule\, Sallingerstr.13-15\, Donauwörth\, Bayern\, 86609\, Deutschland
ATTACH;FMTTYPE=image/jpeg:https://ballettschule-schoofs-carell.de/wp-content/uploads/2021/02/ballet-5352231_1920.jpg
ORGANIZER;CN="Alexander%20Schoofs-Carell":MAILTO:info@ballettschule-schoofs-carell.de
END:VEVENT
BEGIN:VEVENT
DTSTART;TZID=Europe/Berlin:20240212T190000
DTEND;TZID=Europe/Berlin:20240212T203000
DTSTAMP:20260425T231305
CREATED:20210527T230748Z
LAST-MODIFIED:20210527T230748Z
UID:18992-1707764400-1707769800@ballettschule-schoofs-carell.de
SUMMARY: Ballett für Jugendliche und Erwachsene Einsteiger
DESCRIPTION:Ballett für Erwachsene (Einsteiger) \nHier wird eine klassische Ballettstunde vorbereitet. \nErlerntes wird in leichte Kombinationen umgesetzt. \n 
URL:https://ballettschule-schoofs-carell.de/event/ballett-fuer-jugendliche-und-erwachsene-einsteiger/2024-02-12/
LOCATION:In der Ballettschule\, Sallingerstr.13-15\, Donauwörth\, Bayern\, 86609\, Deutschland
ATTACH;FMTTYPE=image/jpeg:https://ballettschule-schoofs-carell.de/wp-content/uploads/2021/02/Design-ohne-Titel-2.jpg
ORGANIZER;CN="Alexander%20Schoofs-Carell":MAILTO:info@ballettschule-schoofs-carell.de
END:VEVENT
BEGIN:VEVENT
DTSTART;TZID=Europe/Berlin:20240213T163000
DTEND;TZID=Europe/Berlin:20240213T172000
DTSTAMP:20260425T231305
CREATED:20210527T220915Z
LAST-MODIFIED:20240521T200739Z
UID:18927-1707841800-1707844800@ballettschule-schoofs-carell.de
SUMMARY:Ballett-Früherziehung
DESCRIPTION:Ballett-Früherziehung (ab 4\,5 Jahren). \nHier wird auf die Tänzerische-Früherziehung aufgebaut. \n Die ersten Grundkenntnisse des klassischen Balletts werden vermittelt. 
URL:https://ballettschule-schoofs-carell.de/event/ballett-frueherziehung/2024-02-13/
LOCATION:In der Ballettschule\, Sallingerstr.13-15\, Donauwörth\, Bayern\, 86609\, Deutschland
ORGANIZER;CN="Alexander%20Schoofs-Carell":MAILTO:info@ballettschule-schoofs-carell.de
END:VEVENT
BEGIN:VEVENT
DTSTART;TZID=Europe/Berlin:20240213T174500
DTEND;TZID=Europe/Berlin:20240213T190000
DTSTAMP:20260425T231305
CREATED:20210527T225803Z
LAST-MODIFIED:20240521T201059Z
UID:18908-1707846300-1707850800@ballettschule-schoofs-carell.de
SUMMARY:Kinderballett III
DESCRIPTION:Kinderballett III (ab 10 Jahren mit Vorkenntnissen) \nIn diesem Kurs werden die Kenntnisse vertieft und die Ballettkobinationen schneller und Komplizierter. \nDie gesamte Körpermuskelatur wird gestärkt und die Musikalität wird gefördert.
URL:https://ballettschule-schoofs-carell.de/event/kinderballett-iii-2021-11-01/2024-02-13/
LOCATION:In der Ballettschule\, Sallingerstr.13-15\, Donauwörth\, Bayern\, 86609\, Deutschland
ATTACH;FMTTYPE=image/jpeg:https://ballettschule-schoofs-carell.de/wp-content/uploads/2021/02/ballet-3362687_1920.jpg
ORGANIZER;CN="Alexander%20Schoofs-Carell":MAILTO:info@ballettschule-schoofs-carell.de
END:VEVENT
BEGIN:VEVENT
DTSTART;TZID=Europe/Berlin:20240214T153000
DTEND;TZID=Europe/Berlin:20240214T161500
DTSTAMP:20260425T231305
CREATED:20210527T213620Z
LAST-MODIFIED:20240521T202633Z
UID:18922-1707924600-1707927300@ballettschule-schoofs-carell.de
SUMMARY:Tänzerische-Früherziehung
DESCRIPTION:Ballett-Früherziehung (ab 3 Jahren). \nEs wird Freude an der Bewegung gefördert und das Interesse für Musik\, Tanz und Ballett geweckt. \nNebenbei werden spielerisch einige Grundkenntnisse des klassischen Balletts vermittelt. \n 
URL:https://ballettschule-schoofs-carell.de/event/taenzerische-frueherziehung/2024-02-14/
LOCATION:In der Ballettschule\, Sallingerstr.13-15\, Donauwörth\, Bayern\, 86609\, Deutschland
ORGANIZER;CN="Alexander%20Schoofs-Carell":MAILTO:info@ballettschule-schoofs-carell.de
END:VEVENT
BEGIN:VEVENT
DTSTART;TZID=Europe/Berlin:20240214T163000
DTEND;TZID=Europe/Berlin:20240214T172000
DTSTAMP:20260425T231305
CREATED:20210527T220915Z
LAST-MODIFIED:20240521T200746Z
UID:18895-1707928200-1707931200@ballettschule-schoofs-carell.de
SUMMARY:Ballett-Früherziehung
DESCRIPTION:Ballett-Früherziehung (ab 4\,5 Jahren). \nHier wird auf die Tänzerische-Früherziehung aufgebaut. \n Die ersten Grundkenntnisse des klassischen Balletts werden vermittelt. 
URL:https://ballettschule-schoofs-carell.de/event/ballett-frueherziehung/2024-02-14/
LOCATION:In der Ballettschule\, Sallingerstr.13-15\, Donauwörth\, Bayern\, 86609\, Deutschland
ORGANIZER;CN="Alexander%20Schoofs-Carell":MAILTO:info@ballettschule-schoofs-carell.de
END:VEVENT
BEGIN:VEVENT
DTSTART;TZID=Europe/Berlin:20240215T163000
DTEND;TZID=Europe/Berlin:20240215T173000
DTSTAMP:20260425T231305
CREATED:20210728T064308Z
LAST-MODIFIED:20240521T202753Z
UID:18950-1708014600-1708018200@ballettschule-schoofs-carell.de
SUMMARY:Kinderballett I
DESCRIPTION:
URL:https://ballettschule-schoofs-carell.de/event/kinderballett-i-2/2024-02-15/
ATTACH;FMTTYPE=image/jpeg:https://ballettschule-schoofs-carell.de/wp-content/uploads/2021/02/ballet-3362678_1920.jpg
END:VEVENT
BEGIN:VEVENT
DTSTART;TZID=Europe/Berlin:20240215T174500
DTEND;TZID=Europe/Berlin:20240215T191500
DTSTAMP:20260425T231305
CREATED:20210528T000446Z
LAST-MODIFIED:20210528T000446Z
UID:18957-1708019100-1708024500@ballettschule-schoofs-carell.de
SUMMARY:Klassisches Ballett mit Spitzentanz für Jugendliche
DESCRIPTION:Klassisches Ballett für mit Spitzentanz (ab 14 Jahren mit Vorkenntnissen) \nIn diesem Kurs wird ein klassisches Ballettraining mit Spitzentanz unterrichtet. Die Variationen werden anspruchsvoller und es wird an der im Ballett typischen Schwerelosigkeit gearbeitet. \n 
URL:https://ballettschule-schoofs-carell.de/event/klassisches-ballett-fuer-fortgeschritten-mit-spitzentanz-2021-06-10-2021-09-16/2024-02-15/
LOCATION:In der Ballettschule\, Sallingerstr.13-15\, Donauwörth\, Bayern\, 86609\, Deutschland
ATTACH;FMTTYPE=image/jpeg:https://ballettschule-schoofs-carell.de/wp-content/uploads/2021/02/ballet-335493_1920.jpg
ORGANIZER;CN="Alexander%20Schoofs-Carell":MAILTO:info@ballettschule-schoofs-carell.de
END:VEVENT
BEGIN:VEVENT
DTSTART;TZID=Europe/Berlin:20240215T194000
DTEND;TZID=Europe/Berlin:20240215T204000
DTSTAMP:20260425T231305
CREATED:20210208T214938Z
LAST-MODIFIED:20240521T195652Z
UID:18961-1708026000-1708029600@ballettschule-schoofs-carell.de
SUMMARY:Body-Balance
DESCRIPTION:Body-Balance ist das Yoga-\, Tai Chi- und Pilates-Workout\, mit dem Sie sich groß\, stark\, zentriert und ruhig fühlen. Ihre ganz persönliche Auszeit\, in der Sie Stress und die Anstrengungen des Alltags hinter sich lassen können.\nEin 60-minütiges musikalisches Gruppenfitnesstraining zur Verbesserung des körperlichen und geistigen Wohlbefindens. \nWas erziehlen Sie durch Body-Balance? \n– Verbesserung der Beweglichkeit\n– Verbesserung der Herz-Kreislauf-Funktionen\n– Stressabbau\n– Anhaltendes Gefühl von Wohlbefinden und Ruhe\n– Zentrierung und Bewusstseinserweiterung durch kontrolliertes Atmen \n 
URL:https://ballettschule-schoofs-carell.de/event/body-balance-onlinekurs-2/2024-02-15/
LOCATION:In der Ballettschule\, Sallingerstr.13-15\, Donauwörth\, Bayern\, 86609\, Deutschland
ATTACH;FMTTYPE=image/jpeg:https://ballettschule-schoofs-carell.de/wp-content/uploads/2021/02/BodyBalance3.jpg
ORGANIZER;CN="Alexander%20Schoofs-Carell":MAILTO:info@ballettschule-schoofs-carell.de
END:VEVENT
END:VCALENDAR