BEGIN:VCALENDAR
VERSION:2.0
PRODID:-//Ballettschule Schoofs-Carell - ECPv5.11.0//NONSGML v1.0//EN
CALSCALE:GREGORIAN
METHOD:PUBLISH
X-WR-CALNAME:Ballettschule Schoofs-Carell
X-ORIGINAL-URL:https://ballettschule-schoofs-carell.de
X-WR-CALDESC:Veranstaltungen für Ballettschule Schoofs-Carell
BEGIN:VTIMEZONE
TZID:Europe/Berlin
BEGIN:DAYLIGHT
TZOFFSETFROM:+0100
TZOFFSETTO:+0200
TZNAME:CEST
DTSTART:20230326T010000
END:DAYLIGHT
BEGIN:STANDARD
TZOFFSETFROM:+0200
TZOFFSETTO:+0100
TZNAME:CET
DTSTART:20231029T010000
END:STANDARD
END:VTIMEZONE
BEGIN:VEVENT
DTSTART;TZID=Europe/Berlin:20230501T163000
DTEND;TZID=Europe/Berlin:20230501T173000
DTSTAMP:20260424T182524
CREATED:20210727T211552Z
LAST-MODIFIED:20210727T211552Z
UID:14539-1682958600-1682962200@ballettschule-schoofs-carell.de
SUMMARY:Kinderballett I
DESCRIPTION:Kinderballett I  (ab 6 Jahren mit Vorkenntnissen) \nIn diesen Kursen werden die Kenntnisse vertieft und erste Ballettschritte erarbeitet. \nDie gesamte Körpermuskelatur wird gestärkt und Musikalität gefördert. \n 
URL:https://ballettschule-schoofs-carell.de/event/kinderballett-i-2021-09-20-2021-09-16-2024-01-29/2023-05-01/
LOCATION:In der Ballettschule\, Sallingerstr.13-15\, Donauwörth\, Bayern\, 86609\, Deutschland
ATTACH;FMTTYPE=image/jpeg:https://ballettschule-schoofs-carell.de/wp-content/uploads/2021/02/ballet-3362678_1920.jpg
ORGANIZER;CN="Alexander%20Schoofs-Carell":MAILTO:info@ballettschule-schoofs-carell.de
END:VEVENT
BEGIN:VEVENT
DTSTART;TZID=Europe/Berlin:20230505T150000
DTEND;TZID=Europe/Berlin:20230505T160000
DTSTAMP:20260424T182524
CREATED:20210527T224903Z
LAST-MODIFIED:20210527T224903Z
UID:14823-1683298800-1683302400@ballettschule-schoofs-carell.de
SUMMARY:Kinderballett II
DESCRIPTION:In diesem Kurs werden die Kenntnisse vertieft und die ersten Ballettkombinationen erarbeitet. \nDie gesamte Körpermuskelatur wird gestärkt und die Musikalität wird gefördert.
URL:https://ballettschule-schoofs-carell.de/event/kinderballett-ii-2/2023-05-05/
LOCATION:In der Ballettschule\, Sallingerstr.13-15\, Donauwörth\, Bayern\, 86609\, Deutschland
ATTACH;FMTTYPE=image/jpeg:https://ballettschule-schoofs-carell.de/wp-content/uploads/2021/02/ballet-3301195_1920.jpg
ORGANIZER;CN="Alexander%20Schoofs-Carell":MAILTO:info@ballettschule-schoofs-carell.de
END:VEVENT
BEGIN:VEVENT
DTSTART;TZID=Europe/Berlin:20230505T183000
DTEND;TZID=Europe/Berlin:20230505T200000
DTSTAMP:20260424T182524
CREATED:20210528T002351Z
LAST-MODIFIED:20210528T002351Z
UID:8682-1683311400-1683316800@ballettschule-schoofs-carell.de
SUMMARY:Ballett für Erwachsene (Fortgeschritten I )
DESCRIPTION:Hier wird eine klassische Ballettstunde vorbereitet. \nErlerntes wird in fortgeschrittene Kombinationen umgesetzt. \n 
URL:https://ballettschule-schoofs-carell.de/event/ballett-fuer-erwachsene-fortgeschritten-i-2021-08-06-2023-05-05/
LOCATION:In der Ballettschule\, Sallingerstr.13-15\, Donauwörth\, Bayern\, 86609\, Deutschland
ATTACH;FMTTYPE=image/jpeg:https://ballettschule-schoofs-carell.de/wp-content/uploads/2021/02/Design-ohne-Titel-2.jpg
ORGANIZER;CN="Alexander%20Schoofs-Carell":MAILTO:info@ballettschule-schoofs-carell.de
END:VEVENT
BEGIN:VEVENT
DTSTART;TZID=Europe/Berlin:20230508T163000
DTEND;TZID=Europe/Berlin:20230508T173000
DTSTAMP:20260424T182524
CREATED:20210727T211552Z
LAST-MODIFIED:20210727T211552Z
UID:14540-1683563400-1683567000@ballettschule-schoofs-carell.de
SUMMARY:Kinderballett I
DESCRIPTION:Kinderballett I  (ab 6 Jahren mit Vorkenntnissen) \nIn diesen Kursen werden die Kenntnisse vertieft und erste Ballettschritte erarbeitet. \nDie gesamte Körpermuskelatur wird gestärkt und Musikalität gefördert. \n 
URL:https://ballettschule-schoofs-carell.de/event/kinderballett-i-2021-09-20-2021-09-16-2024-01-29/2023-05-08/
LOCATION:In der Ballettschule\, Sallingerstr.13-15\, Donauwörth\, Bayern\, 86609\, Deutschland
ATTACH;FMTTYPE=image/jpeg:https://ballettschule-schoofs-carell.de/wp-content/uploads/2021/02/ballet-3362678_1920.jpg
ORGANIZER;CN="Alexander%20Schoofs-Carell":MAILTO:info@ballettschule-schoofs-carell.de
END:VEVENT
BEGIN:VEVENT
DTSTART;TZID=Europe/Berlin:20230512T150000
DTEND;TZID=Europe/Berlin:20230512T160000
DTSTAMP:20260424T182524
CREATED:20210527T224903Z
LAST-MODIFIED:20210527T224903Z
UID:14824-1683903600-1683907200@ballettschule-schoofs-carell.de
SUMMARY:Kinderballett II
DESCRIPTION:In diesem Kurs werden die Kenntnisse vertieft und die ersten Ballettkombinationen erarbeitet. \nDie gesamte Körpermuskelatur wird gestärkt und die Musikalität wird gefördert.
URL:https://ballettschule-schoofs-carell.de/event/kinderballett-ii-2/2023-05-12/
LOCATION:In der Ballettschule\, Sallingerstr.13-15\, Donauwörth\, Bayern\, 86609\, Deutschland
ATTACH;FMTTYPE=image/jpeg:https://ballettschule-schoofs-carell.de/wp-content/uploads/2021/02/ballet-3301195_1920.jpg
ORGANIZER;CN="Alexander%20Schoofs-Carell":MAILTO:info@ballettschule-schoofs-carell.de
END:VEVENT
BEGIN:VEVENT
DTSTART;TZID=Europe/Berlin:20230512T183000
DTEND;TZID=Europe/Berlin:20230512T200000
DTSTAMP:20260424T182524
CREATED:20210528T002351Z
LAST-MODIFIED:20210528T002351Z
UID:8815-1683916200-1683921600@ballettschule-schoofs-carell.de
SUMMARY:Ballett für Erwachsene (Fortgeschritten I )
DESCRIPTION:Hier wird eine klassische Ballettstunde vorbereitet. \nErlerntes wird in fortgeschrittene Kombinationen umgesetzt. \n 
URL:https://ballettschule-schoofs-carell.de/event/ballett-fuer-erwachsene-fortgeschritten-i-2021-08-13-2023-05-12/
LOCATION:In der Ballettschule\, Sallingerstr.13-15\, Donauwörth\, Bayern\, 86609\, Deutschland
ATTACH;FMTTYPE=image/jpeg:https://ballettschule-schoofs-carell.de/wp-content/uploads/2021/02/Design-ohne-Titel-2.jpg
ORGANIZER;CN="Alexander%20Schoofs-Carell":MAILTO:info@ballettschule-schoofs-carell.de
END:VEVENT
BEGIN:VEVENT
DTSTART;TZID=Europe/Berlin:20230512T183000
DTEND;TZID=Europe/Berlin:20230512T200000
DTSTAMP:20260424T182524
CREATED:20210528T002351Z
LAST-MODIFIED:20210528T002351Z
UID:8853-1683916200-1683921600@ballettschule-schoofs-carell.de
SUMMARY:Ballett für Erwachsene (Fortgeschritten I )
DESCRIPTION:Hier wird eine klassische Ballettstunde vorbereitet. \nErlerntes wird in fortgeschrittene Kombinationen umgesetzt. \n 
URL:https://ballettschule-schoofs-carell.de/event/ballett-fuer-erwachsene-fortgeschritten-i-2021-08-20-2023-05-12/
LOCATION:In der Ballettschule\, Sallingerstr.13-15\, Donauwörth\, Bayern\, 86609\, Deutschland
ATTACH;FMTTYPE=image/jpeg:https://ballettschule-schoofs-carell.de/wp-content/uploads/2021/02/Design-ohne-Titel-2.jpg
ORGANIZER;CN="Alexander%20Schoofs-Carell":MAILTO:info@ballettschule-schoofs-carell.de
END:VEVENT
BEGIN:VEVENT
DTSTART;TZID=Europe/Berlin:20230515T163000
DTEND;TZID=Europe/Berlin:20230515T173000
DTSTAMP:20260424T182524
CREATED:20210727T211552Z
LAST-MODIFIED:20210727T211552Z
UID:14541-1684168200-1684171800@ballettschule-schoofs-carell.de
SUMMARY:Kinderballett I
DESCRIPTION:Kinderballett I  (ab 6 Jahren mit Vorkenntnissen) \nIn diesen Kursen werden die Kenntnisse vertieft und erste Ballettschritte erarbeitet. \nDie gesamte Körpermuskelatur wird gestärkt und Musikalität gefördert. \n 
URL:https://ballettschule-schoofs-carell.de/event/kinderballett-i-2021-09-20-2021-09-16-2024-01-29/2023-05-15/
LOCATION:In der Ballettschule\, Sallingerstr.13-15\, Donauwörth\, Bayern\, 86609\, Deutschland
ATTACH;FMTTYPE=image/jpeg:https://ballettschule-schoofs-carell.de/wp-content/uploads/2021/02/ballet-3362678_1920.jpg
ORGANIZER;CN="Alexander%20Schoofs-Carell":MAILTO:info@ballettschule-schoofs-carell.de
END:VEVENT
BEGIN:VEVENT
DTSTART;TZID=Europe/Berlin:20230519T183000
DTEND;TZID=Europe/Berlin:20230519T200000
DTSTAMP:20260424T182524
CREATED:20210528T002351Z
LAST-MODIFIED:20210528T002351Z
UID:8816-1684521000-1684526400@ballettschule-schoofs-carell.de
SUMMARY:Ballett für Erwachsene (Fortgeschritten I )
DESCRIPTION:Hier wird eine klassische Ballettstunde vorbereitet. \nErlerntes wird in fortgeschrittene Kombinationen umgesetzt. \n 
URL:https://ballettschule-schoofs-carell.de/event/ballett-fuer-erwachsene-fortgeschritten-i-2021-08-13-2023-05-19/
LOCATION:In der Ballettschule\, Sallingerstr.13-15\, Donauwörth\, Bayern\, 86609\, Deutschland
ATTACH;FMTTYPE=image/jpeg:https://ballettschule-schoofs-carell.de/wp-content/uploads/2021/02/Design-ohne-Titel-2.jpg
ORGANIZER;CN="Alexander%20Schoofs-Carell":MAILTO:info@ballettschule-schoofs-carell.de
END:VEVENT
BEGIN:VEVENT
DTSTART;TZID=Europe/Berlin:20230519T183000
DTEND;TZID=Europe/Berlin:20230519T200000
DTSTAMP:20260424T182524
CREATED:20210528T002351Z
LAST-MODIFIED:20210528T002351Z
UID:8854-1684521000-1684526400@ballettschule-schoofs-carell.de
SUMMARY:Ballett für Erwachsene (Fortgeschritten I )
DESCRIPTION:Hier wird eine klassische Ballettstunde vorbereitet. \nErlerntes wird in fortgeschrittene Kombinationen umgesetzt. \n 
URL:https://ballettschule-schoofs-carell.de/event/ballett-fuer-erwachsene-fortgeschritten-i-2021-08-20-2023-05-19/
LOCATION:In der Ballettschule\, Sallingerstr.13-15\, Donauwörth\, Bayern\, 86609\, Deutschland
ATTACH;FMTTYPE=image/jpeg:https://ballettschule-schoofs-carell.de/wp-content/uploads/2021/02/Design-ohne-Titel-2.jpg
ORGANIZER;CN="Alexander%20Schoofs-Carell":MAILTO:info@ballettschule-schoofs-carell.de
END:VEVENT
BEGIN:VEVENT
DTSTART;TZID=Europe/Berlin:20230522T163000
DTEND;TZID=Europe/Berlin:20230522T173000
DTSTAMP:20260424T182524
CREATED:20210727T211552Z
LAST-MODIFIED:20210727T211552Z
UID:14542-1684773000-1684776600@ballettschule-schoofs-carell.de
SUMMARY:Kinderballett I
DESCRIPTION:Kinderballett I  (ab 6 Jahren mit Vorkenntnissen) \nIn diesen Kursen werden die Kenntnisse vertieft und erste Ballettschritte erarbeitet. \nDie gesamte Körpermuskelatur wird gestärkt und Musikalität gefördert. \n 
URL:https://ballettschule-schoofs-carell.de/event/kinderballett-i-2021-09-20-2021-09-16-2024-01-29/2023-05-22/
LOCATION:In der Ballettschule\, Sallingerstr.13-15\, Donauwörth\, Bayern\, 86609\, Deutschland
ATTACH;FMTTYPE=image/jpeg:https://ballettschule-schoofs-carell.de/wp-content/uploads/2021/02/ballet-3362678_1920.jpg
ORGANIZER;CN="Alexander%20Schoofs-Carell":MAILTO:info@ballettschule-schoofs-carell.de
END:VEVENT
BEGIN:VEVENT
DTSTART;TZID=Europe/Berlin:20230526T183000
DTEND;TZID=Europe/Berlin:20230526T200000
DTSTAMP:20260424T182524
CREATED:20210528T002351Z
LAST-MODIFIED:20210528T002351Z
UID:8855-1685125800-1685131200@ballettschule-schoofs-carell.de
SUMMARY:Ballett für Erwachsene (Fortgeschritten I )
DESCRIPTION:Hier wird eine klassische Ballettstunde vorbereitet. \nErlerntes wird in fortgeschrittene Kombinationen umgesetzt. \n 
URL:https://ballettschule-schoofs-carell.de/event/ballett-fuer-erwachsene-fortgeschritten-i-2021-08-20-2023-05-26/
LOCATION:In der Ballettschule\, Sallingerstr.13-15\, Donauwörth\, Bayern\, 86609\, Deutschland
ATTACH;FMTTYPE=image/jpeg:https://ballettschule-schoofs-carell.de/wp-content/uploads/2021/02/Design-ohne-Titel-2.jpg
ORGANIZER;CN="Alexander%20Schoofs-Carell":MAILTO:info@ballettschule-schoofs-carell.de
END:VEVENT
BEGIN:VEVENT
DTSTART;TZID=Europe/Berlin:20230526T183000
DTEND;TZID=Europe/Berlin:20230526T200000
DTSTAMP:20260424T182524
CREATED:20210528T002351Z
LAST-MODIFIED:20210528T002351Z
UID:8817-1685125800-1685131200@ballettschule-schoofs-carell.de
SUMMARY:Ballett für Erwachsene (Fortgeschritten I )
DESCRIPTION:Hier wird eine klassische Ballettstunde vorbereitet. \nErlerntes wird in fortgeschrittene Kombinationen umgesetzt. \n 
URL:https://ballettschule-schoofs-carell.de/event/ballett-fuer-erwachsene-fortgeschritten-i-2021-08-13-2023-05-26/
LOCATION:In der Ballettschule\, Sallingerstr.13-15\, Donauwörth\, Bayern\, 86609\, Deutschland
ATTACH;FMTTYPE=image/jpeg:https://ballettschule-schoofs-carell.de/wp-content/uploads/2021/02/Design-ohne-Titel-2.jpg
ORGANIZER;CN="Alexander%20Schoofs-Carell":MAILTO:info@ballettschule-schoofs-carell.de
END:VEVENT
BEGIN:VEVENT
DTSTART;TZID=Europe/Berlin:20230529T163000
DTEND;TZID=Europe/Berlin:20230529T173000
DTSTAMP:20260424T182524
CREATED:20210727T211552Z
LAST-MODIFIED:20210727T211552Z
UID:14543-1685377800-1685381400@ballettschule-schoofs-carell.de
SUMMARY:Kinderballett I
DESCRIPTION:Kinderballett I  (ab 6 Jahren mit Vorkenntnissen) \nIn diesen Kursen werden die Kenntnisse vertieft und erste Ballettschritte erarbeitet. \nDie gesamte Körpermuskelatur wird gestärkt und Musikalität gefördert. \n 
URL:https://ballettschule-schoofs-carell.de/event/kinderballett-i-2021-09-20-2021-09-16-2024-01-29/2023-05-29/
LOCATION:In der Ballettschule\, Sallingerstr.13-15\, Donauwörth\, Bayern\, 86609\, Deutschland
ATTACH;FMTTYPE=image/jpeg:https://ballettschule-schoofs-carell.de/wp-content/uploads/2021/02/ballet-3362678_1920.jpg
ORGANIZER;CN="Alexander%20Schoofs-Carell":MAILTO:info@ballettschule-schoofs-carell.de
END:VEVENT
END:VCALENDAR