BEGIN:VCALENDAR
VERSION:2.0
PRODID:-//Ballettschule Schoofs-Carell - ECPv5.11.0//NONSGML v1.0//EN
CALSCALE:GREGORIAN
METHOD:PUBLISH
X-WR-CALNAME:Ballettschule Schoofs-Carell
X-ORIGINAL-URL:https://ballettschule-schoofs-carell.de
X-WR-CALDESC:Veranstaltungen für Ballettschule Schoofs-Carell
BEGIN:VTIMEZONE
TZID:Europe/Berlin
BEGIN:DAYLIGHT
TZOFFSETFROM:+0100
TZOFFSETTO:+0200
TZNAME:CEST
DTSTART:20230326T010000
END:DAYLIGHT
BEGIN:STANDARD
TZOFFSETFROM:+0200
TZOFFSETTO:+0100
TZNAME:CET
DTSTART:20231029T010000
END:STANDARD
END:VTIMEZONE
BEGIN:VEVENT
DTSTART;TZID=Europe/Berlin:20230403T163000
DTEND;TZID=Europe/Berlin:20230403T173000
DTSTAMP:20260424T165734
CREATED:20210727T211552Z
LAST-MODIFIED:20210727T211552Z
UID:14535-1680539400-1680543000@ballettschule-schoofs-carell.de
SUMMARY:Kinderballett I
DESCRIPTION:Kinderballett I  (ab 6 Jahren mit Vorkenntnissen) \nIn diesen Kursen werden die Kenntnisse vertieft und erste Ballettschritte erarbeitet. \nDie gesamte Körpermuskelatur wird gestärkt und Musikalität gefördert. \n 
URL:https://ballettschule-schoofs-carell.de/event/kinderballett-i-2021-09-20-2021-09-16-2024-01-29/2023-04-03/
LOCATION:In der Ballettschule\, Sallingerstr.13-15\, Donauwörth\, Bayern\, 86609\, Deutschland
ATTACH;FMTTYPE=image/jpeg:https://ballettschule-schoofs-carell.de/wp-content/uploads/2021/02/ballet-3362678_1920.jpg
ORGANIZER;CN="Alexander%20Schoofs-Carell":MAILTO:info@ballettschule-schoofs-carell.de
END:VEVENT
BEGIN:VEVENT
DTSTART;TZID=Europe/Berlin:20230407T150000
DTEND;TZID=Europe/Berlin:20230407T160000
DTSTAMP:20260424T165734
CREATED:20210527T224903Z
LAST-MODIFIED:20210527T224903Z
UID:14819-1680879600-1680883200@ballettschule-schoofs-carell.de
SUMMARY:Kinderballett II
DESCRIPTION:In diesem Kurs werden die Kenntnisse vertieft und die ersten Ballettkombinationen erarbeitet. \nDie gesamte Körpermuskelatur wird gestärkt und die Musikalität wird gefördert.
URL:https://ballettschule-schoofs-carell.de/event/kinderballett-ii-2/2023-04-07/
LOCATION:In der Ballettschule\, Sallingerstr.13-15\, Donauwörth\, Bayern\, 86609\, Deutschland
ATTACH;FMTTYPE=image/jpeg:https://ballettschule-schoofs-carell.de/wp-content/uploads/2021/02/ballet-3301195_1920.jpg
ORGANIZER;CN="Alexander%20Schoofs-Carell":MAILTO:info@ballettschule-schoofs-carell.de
END:VEVENT
BEGIN:VEVENT
DTSTART;TZID=Europe/Berlin:20230407T183000
DTEND;TZID=Europe/Berlin:20230407T200000
DTSTAMP:20260424T165734
CREATED:20210528T002351Z
LAST-MODIFIED:20210528T002351Z
UID:8678-1680892200-1680897600@ballettschule-schoofs-carell.de
SUMMARY:Ballett für Erwachsene (Fortgeschritten I )
DESCRIPTION:Hier wird eine klassische Ballettstunde vorbereitet. \nErlerntes wird in fortgeschrittene Kombinationen umgesetzt. \n 
URL:https://ballettschule-schoofs-carell.de/event/ballett-fuer-erwachsene-fortgeschritten-i-2021-08-06-2023-04-07/
LOCATION:In der Ballettschule\, Sallingerstr.13-15\, Donauwörth\, Bayern\, 86609\, Deutschland
ATTACH;FMTTYPE=image/jpeg:https://ballettschule-schoofs-carell.de/wp-content/uploads/2021/02/Design-ohne-Titel-2.jpg
ORGANIZER;CN="Alexander%20Schoofs-Carell":MAILTO:info@ballettschule-schoofs-carell.de
END:VEVENT
BEGIN:VEVENT
DTSTART;TZID=Europe/Berlin:20230410T163000
DTEND;TZID=Europe/Berlin:20230410T173000
DTSTAMP:20260424T165734
CREATED:20210727T211552Z
LAST-MODIFIED:20210727T211552Z
UID:14536-1681144200-1681147800@ballettschule-schoofs-carell.de
SUMMARY:Kinderballett I
DESCRIPTION:Kinderballett I  (ab 6 Jahren mit Vorkenntnissen) \nIn diesen Kursen werden die Kenntnisse vertieft und erste Ballettschritte erarbeitet. \nDie gesamte Körpermuskelatur wird gestärkt und Musikalität gefördert. \n 
URL:https://ballettschule-schoofs-carell.de/event/kinderballett-i-2021-09-20-2021-09-16-2024-01-29/2023-04-10/
LOCATION:In der Ballettschule\, Sallingerstr.13-15\, Donauwörth\, Bayern\, 86609\, Deutschland
ATTACH;FMTTYPE=image/jpeg:https://ballettschule-schoofs-carell.de/wp-content/uploads/2021/02/ballet-3362678_1920.jpg
ORGANIZER;CN="Alexander%20Schoofs-Carell":MAILTO:info@ballettschule-schoofs-carell.de
END:VEVENT
BEGIN:VEVENT
DTSTART;TZID=Europe/Berlin:20230414T150000
DTEND;TZID=Europe/Berlin:20230414T160000
DTSTAMP:20260424T165734
CREATED:20210527T224903Z
LAST-MODIFIED:20210527T224903Z
UID:14820-1681484400-1681488000@ballettschule-schoofs-carell.de
SUMMARY:Kinderballett II
DESCRIPTION:In diesem Kurs werden die Kenntnisse vertieft und die ersten Ballettkombinationen erarbeitet. \nDie gesamte Körpermuskelatur wird gestärkt und die Musikalität wird gefördert.
URL:https://ballettschule-schoofs-carell.de/event/kinderballett-ii-2/2023-04-14/
LOCATION:In der Ballettschule\, Sallingerstr.13-15\, Donauwörth\, Bayern\, 86609\, Deutschland
ATTACH;FMTTYPE=image/jpeg:https://ballettschule-schoofs-carell.de/wp-content/uploads/2021/02/ballet-3301195_1920.jpg
ORGANIZER;CN="Alexander%20Schoofs-Carell":MAILTO:info@ballettschule-schoofs-carell.de
END:VEVENT
BEGIN:VEVENT
DTSTART;TZID=Europe/Berlin:20230414T183000
DTEND;TZID=Europe/Berlin:20230414T200000
DTSTAMP:20260424T165734
CREATED:20210528T002351Z
LAST-MODIFIED:20210528T002351Z
UID:8679-1681497000-1681502400@ballettschule-schoofs-carell.de
SUMMARY:Ballett für Erwachsene (Fortgeschritten I )
DESCRIPTION:Hier wird eine klassische Ballettstunde vorbereitet. \nErlerntes wird in fortgeschrittene Kombinationen umgesetzt. \n 
URL:https://ballettschule-schoofs-carell.de/event/ballett-fuer-erwachsene-fortgeschritten-i-2021-08-06-2023-04-14/
LOCATION:In der Ballettschule\, Sallingerstr.13-15\, Donauwörth\, Bayern\, 86609\, Deutschland
ATTACH;FMTTYPE=image/jpeg:https://ballettschule-schoofs-carell.de/wp-content/uploads/2021/02/Design-ohne-Titel-2.jpg
ORGANIZER;CN="Alexander%20Schoofs-Carell":MAILTO:info@ballettschule-schoofs-carell.de
END:VEVENT
BEGIN:VEVENT
DTSTART;TZID=Europe/Berlin:20230417T163000
DTEND;TZID=Europe/Berlin:20230417T173000
DTSTAMP:20260424T165734
CREATED:20210727T211552Z
LAST-MODIFIED:20210727T211552Z
UID:14537-1681749000-1681752600@ballettschule-schoofs-carell.de
SUMMARY:Kinderballett I
DESCRIPTION:Kinderballett I  (ab 6 Jahren mit Vorkenntnissen) \nIn diesen Kursen werden die Kenntnisse vertieft und erste Ballettschritte erarbeitet. \nDie gesamte Körpermuskelatur wird gestärkt und Musikalität gefördert. \n 
URL:https://ballettschule-schoofs-carell.de/event/kinderballett-i-2021-09-20-2021-09-16-2024-01-29/2023-04-17/
LOCATION:In der Ballettschule\, Sallingerstr.13-15\, Donauwörth\, Bayern\, 86609\, Deutschland
ATTACH;FMTTYPE=image/jpeg:https://ballettschule-schoofs-carell.de/wp-content/uploads/2021/02/ballet-3362678_1920.jpg
ORGANIZER;CN="Alexander%20Schoofs-Carell":MAILTO:info@ballettschule-schoofs-carell.de
END:VEVENT
BEGIN:VEVENT
DTSTART;TZID=Europe/Berlin:20230421T150000
DTEND;TZID=Europe/Berlin:20230421T160000
DTSTAMP:20260424T165734
CREATED:20210527T224903Z
LAST-MODIFIED:20210527T224903Z
UID:14821-1682089200-1682092800@ballettschule-schoofs-carell.de
SUMMARY:Kinderballett II
DESCRIPTION:In diesem Kurs werden die Kenntnisse vertieft und die ersten Ballettkombinationen erarbeitet. \nDie gesamte Körpermuskelatur wird gestärkt und die Musikalität wird gefördert.
URL:https://ballettschule-schoofs-carell.de/event/kinderballett-ii-2/2023-04-21/
LOCATION:In der Ballettschule\, Sallingerstr.13-15\, Donauwörth\, Bayern\, 86609\, Deutschland
ATTACH;FMTTYPE=image/jpeg:https://ballettschule-schoofs-carell.de/wp-content/uploads/2021/02/ballet-3301195_1920.jpg
ORGANIZER;CN="Alexander%20Schoofs-Carell":MAILTO:info@ballettschule-schoofs-carell.de
END:VEVENT
BEGIN:VEVENT
DTSTART;TZID=Europe/Berlin:20230421T183000
DTEND;TZID=Europe/Berlin:20230421T200000
DTSTAMP:20260424T165734
CREATED:20210528T002351Z
LAST-MODIFIED:20210528T002351Z
UID:8680-1682101800-1682107200@ballettschule-schoofs-carell.de
SUMMARY:Ballett für Erwachsene (Fortgeschritten I )
DESCRIPTION:Hier wird eine klassische Ballettstunde vorbereitet. \nErlerntes wird in fortgeschrittene Kombinationen umgesetzt. \n 
URL:https://ballettschule-schoofs-carell.de/event/ballett-fuer-erwachsene-fortgeschritten-i-2021-08-06-2023-04-21/
LOCATION:In der Ballettschule\, Sallingerstr.13-15\, Donauwörth\, Bayern\, 86609\, Deutschland
ATTACH;FMTTYPE=image/jpeg:https://ballettschule-schoofs-carell.de/wp-content/uploads/2021/02/Design-ohne-Titel-2.jpg
ORGANIZER;CN="Alexander%20Schoofs-Carell":MAILTO:info@ballettschule-schoofs-carell.de
END:VEVENT
BEGIN:VEVENT
DTSTART;TZID=Europe/Berlin:20230424T163000
DTEND;TZID=Europe/Berlin:20230424T173000
DTSTAMP:20260424T165734
CREATED:20210727T211552Z
LAST-MODIFIED:20210727T211552Z
UID:14538-1682353800-1682357400@ballettschule-schoofs-carell.de
SUMMARY:Kinderballett I
DESCRIPTION:Kinderballett I  (ab 6 Jahren mit Vorkenntnissen) \nIn diesen Kursen werden die Kenntnisse vertieft und erste Ballettschritte erarbeitet. \nDie gesamte Körpermuskelatur wird gestärkt und Musikalität gefördert. \n 
URL:https://ballettschule-schoofs-carell.de/event/kinderballett-i-2021-09-20-2021-09-16-2024-01-29/2023-04-24/
LOCATION:In der Ballettschule\, Sallingerstr.13-15\, Donauwörth\, Bayern\, 86609\, Deutschland
ATTACH;FMTTYPE=image/jpeg:https://ballettschule-schoofs-carell.de/wp-content/uploads/2021/02/ballet-3362678_1920.jpg
ORGANIZER;CN="Alexander%20Schoofs-Carell":MAILTO:info@ballettschule-schoofs-carell.de
END:VEVENT
BEGIN:VEVENT
DTSTART;TZID=Europe/Berlin:20230428T150000
DTEND;TZID=Europe/Berlin:20230428T160000
DTSTAMP:20260424T165734
CREATED:20210527T224903Z
LAST-MODIFIED:20210527T224903Z
UID:14822-1682694000-1682697600@ballettschule-schoofs-carell.de
SUMMARY:Kinderballett II
DESCRIPTION:In diesem Kurs werden die Kenntnisse vertieft und die ersten Ballettkombinationen erarbeitet. \nDie gesamte Körpermuskelatur wird gestärkt und die Musikalität wird gefördert.
URL:https://ballettschule-schoofs-carell.de/event/kinderballett-ii-2/2023-04-28/
LOCATION:In der Ballettschule\, Sallingerstr.13-15\, Donauwörth\, Bayern\, 86609\, Deutschland
ATTACH;FMTTYPE=image/jpeg:https://ballettschule-schoofs-carell.de/wp-content/uploads/2021/02/ballet-3301195_1920.jpg
ORGANIZER;CN="Alexander%20Schoofs-Carell":MAILTO:info@ballettschule-schoofs-carell.de
END:VEVENT
BEGIN:VEVENT
DTSTART;TZID=Europe/Berlin:20230428T183000
DTEND;TZID=Europe/Berlin:20230428T200000
DTSTAMP:20260424T165734
CREATED:20210528T002351Z
LAST-MODIFIED:20210528T002351Z
UID:8681-1682706600-1682712000@ballettschule-schoofs-carell.de
SUMMARY:Ballett für Erwachsene (Fortgeschritten I )
DESCRIPTION:Hier wird eine klassische Ballettstunde vorbereitet. \nErlerntes wird in fortgeschrittene Kombinationen umgesetzt. \n 
URL:https://ballettschule-schoofs-carell.de/event/ballett-fuer-erwachsene-fortgeschritten-i-2021-08-06-2023-04-28/
LOCATION:In der Ballettschule\, Sallingerstr.13-15\, Donauwörth\, Bayern\, 86609\, Deutschland
ATTACH;FMTTYPE=image/jpeg:https://ballettschule-schoofs-carell.de/wp-content/uploads/2021/02/Design-ohne-Titel-2.jpg
ORGANIZER;CN="Alexander%20Schoofs-Carell":MAILTO:info@ballettschule-schoofs-carell.de
END:VEVENT
END:VCALENDAR