BEGIN:VCALENDAR
VERSION:2.0
PRODID:-//Ballettschule Schoofs-Carell - ECPv5.11.0//NONSGML v1.0//EN
CALSCALE:GREGORIAN
METHOD:PUBLISH
X-WR-CALNAME:Ballettschule Schoofs-Carell
X-ORIGINAL-URL:https://ballettschule-schoofs-carell.de
X-WR-CALDESC:Veranstaltungen für Ballettschule Schoofs-Carell
BEGIN:VTIMEZONE
TZID:Europe/Berlin
BEGIN:DAYLIGHT
TZOFFSETFROM:+0100
TZOFFSETTO:+0200
TZNAME:CEST
DTSTART:20230326T010000
END:DAYLIGHT
BEGIN:STANDARD
TZOFFSETFROM:+0200
TZOFFSETTO:+0100
TZNAME:CET
DTSTART:20231029T010000
END:STANDARD
END:VTIMEZONE
BEGIN:VEVENT
DTSTART;TZID=Europe/Berlin:20230217T150000
DTEND;TZID=Europe/Berlin:20230217T160000
DTSTAMP:20260424T151658
CREATED:20210527T224903Z
LAST-MODIFIED:20210527T224903Z
UID:14812-1676646000-1676649600@ballettschule-schoofs-carell.de
SUMMARY:Kinderballett II
DESCRIPTION:In diesem Kurs werden die Kenntnisse vertieft und die ersten Ballettkombinationen erarbeitet. \nDie gesamte Körpermuskelatur wird gestärkt und die Musikalität wird gefördert.
URL:https://ballettschule-schoofs-carell.de/event/kinderballett-ii-2/2023-02-17/
LOCATION:In der Ballettschule\, Sallingerstr.13-15\, Donauwörth\, Bayern\, 86609\, Deutschland
ATTACH;FMTTYPE=image/jpeg:https://ballettschule-schoofs-carell.de/wp-content/uploads/2021/02/ballet-3301195_1920.jpg
ORGANIZER;CN="Alexander%20Schoofs-Carell":MAILTO:info@ballettschule-schoofs-carell.de
END:VEVENT
BEGIN:VEVENT
DTSTART;TZID=Europe/Berlin:20230217T183000
DTEND;TZID=Europe/Berlin:20230217T200000
DTSTAMP:20260424T151658
CREATED:20210528T002351Z
LAST-MODIFIED:20210528T002351Z
UID:8477-1676658600-1676664000@ballettschule-schoofs-carell.de
SUMMARY:Ballett für Erwachsene (Fortgeschritten I )
DESCRIPTION:Hier wird eine klassische Ballettstunde vorbereitet. \nErlerntes wird in fortgeschrittene Kombinationen umgesetzt. \n 
URL:https://ballettschule-schoofs-carell.de/event/ballett-fuer-erwachsene-fortgeschritten-i-2021-08-27-2023-02-17/
LOCATION:In der Ballettschule\, Sallingerstr.13-15\, Donauwörth\, Bayern\, 86609\, Deutschland
ATTACH;FMTTYPE=image/jpeg:https://ballettschule-schoofs-carell.de/wp-content/uploads/2021/02/Design-ohne-Titel-2.jpg
ORGANIZER;CN="Alexander%20Schoofs-Carell":MAILTO:info@ballettschule-schoofs-carell.de
END:VEVENT
BEGIN:VEVENT
DTSTART;TZID=Europe/Berlin:20230217T183000
DTEND;TZID=Europe/Berlin:20230217T200000
DTSTAMP:20260424T151658
CREATED:20210528T002351Z
LAST-MODIFIED:20210528T002351Z
UID:7731-1676658600-1676664000@ballettschule-schoofs-carell.de
SUMMARY:Ballett für Erwachsene (Fortgeschritten I )
DESCRIPTION:Hier wird eine klassische Ballettstunde vorbereitet. \nErlerntes wird in fortgeschrittene Kombinationen umgesetzt. \n 
URL:https://ballettschule-schoofs-carell.de/event/ballett-fuer-erwachsene-fortgeschritten-i-2021-06-25-2023-02-17/
LOCATION:In der Ballettschule\, Sallingerstr.13-15\, Donauwörth\, Bayern\, 86609\, Deutschland
ATTACH;FMTTYPE=image/jpeg:https://ballettschule-schoofs-carell.de/wp-content/uploads/2021/02/Design-ohne-Titel-2.jpg
ORGANIZER;CN="Alexander%20Schoofs-Carell":MAILTO:info@ballettschule-schoofs-carell.de
END:VEVENT
BEGIN:VEVENT
DTSTART;TZID=Europe/Berlin:20230217T183000
DTEND;TZID=Europe/Berlin:20230217T200000
DTSTAMP:20260424T151658
CREATED:20210528T002351Z
LAST-MODIFIED:20210528T002351Z
UID:8671-1676658600-1676664000@ballettschule-schoofs-carell.de
SUMMARY:Ballett für Erwachsene (Fortgeschritten I )
DESCRIPTION:Hier wird eine klassische Ballettstunde vorbereitet. \nErlerntes wird in fortgeschrittene Kombinationen umgesetzt. \n 
URL:https://ballettschule-schoofs-carell.de/event/ballett-fuer-erwachsene-fortgeschritten-i-2021-08-06-2023-02-17/
LOCATION:In der Ballettschule\, Sallingerstr.13-15\, Donauwörth\, Bayern\, 86609\, Deutschland
ATTACH;FMTTYPE=image/jpeg:https://ballettschule-schoofs-carell.de/wp-content/uploads/2021/02/Design-ohne-Titel-2.jpg
ORGANIZER;CN="Alexander%20Schoofs-Carell":MAILTO:info@ballettschule-schoofs-carell.de
END:VEVENT
END:VCALENDAR