BEGIN:VCALENDAR
VERSION:2.0
PRODID:-//Ballettschule Schoofs-Carell - ECPv5.11.0//NONSGML v1.0//EN
CALSCALE:GREGORIAN
METHOD:PUBLISH
X-WR-CALNAME:Ballettschule Schoofs-Carell
X-ORIGINAL-URL:https://ballettschule-schoofs-carell.de
X-WR-CALDESC:Veranstaltungen für Ballettschule Schoofs-Carell
BEGIN:VTIMEZONE
TZID:Europe/Berlin
BEGIN:DAYLIGHT
TZOFFSETFROM:+0100
TZOFFSETTO:+0200
TZNAME:CEST
DTSTART:20260329T010000
END:DAYLIGHT
BEGIN:STANDARD
TZOFFSETFROM:+0200
TZOFFSETTO:+0100
TZNAME:CET
DTSTART:20261025T010000
END:STANDARD
BEGIN:DAYLIGHT
TZOFFSETFROM:+0100
TZOFFSETTO:+0200
TZNAME:CEST
DTSTART:20270328T010000
END:DAYLIGHT
BEGIN:STANDARD
TZOFFSETFROM:+0200
TZOFFSETTO:+0100
TZNAME:CET
DTSTART:20271031T010000
END:STANDARD
END:VTIMEZONE
BEGIN:VEVENT
DTSTART;TZID=Europe/Berlin:20260722T153000
DTEND;TZID=Europe/Berlin:20260722T161500
DTSTAMP:20260423T195820
CREATED:20210527T213620Z
LAST-MODIFIED:20210527T213620Z
UID:19221-1784734200-1784736900@ballettschule-schoofs-carell.de
SUMMARY:Tänzerische-Früherziehung
DESCRIPTION:Ballett-Früherziehung (ab 3 Jahren). \nEs wird Freude an der Bewegung gefördert und das Interesse für Musik\, Tanz und Ballett geweckt. \nNebenbei werden spielerisch einige Grundkenntnisse des klassischen Balletts vermittelt. \n 
URL:https://ballettschule-schoofs-carell.de/event/taenzerische-frueherziehung/2026-07-22/
LOCATION:In der Ballettschule\, Sallingerstr.13-15\, Donauwörth\, Bayern\, 86609\, Deutschland
ORGANIZER;CN="Alexander%20Schoofs-Carell":MAILTO:info@ballettschule-schoofs-carell.de
END:VEVENT
BEGIN:VEVENT
DTSTART;TZID=Europe/Berlin:20260729T153000
DTEND;TZID=Europe/Berlin:20260729T161500
DTSTAMP:20260423T195820
CREATED:20210527T213620Z
LAST-MODIFIED:20210527T213620Z
UID:19236-1785339000-1785341700@ballettschule-schoofs-carell.de
SUMMARY:Tänzerische-Früherziehung
DESCRIPTION:Ballett-Früherziehung (ab 3 Jahren). \nEs wird Freude an der Bewegung gefördert und das Interesse für Musik\, Tanz und Ballett geweckt. \nNebenbei werden spielerisch einige Grundkenntnisse des klassischen Balletts vermittelt. \n 
URL:https://ballettschule-schoofs-carell.de/event/taenzerische-frueherziehung/2026-07-29/
LOCATION:In der Ballettschule\, Sallingerstr.13-15\, Donauwörth\, Bayern\, 86609\, Deutschland
ORGANIZER;CN="Alexander%20Schoofs-Carell":MAILTO:info@ballettschule-schoofs-carell.de
END:VEVENT
BEGIN:VEVENT
DTSTART;TZID=Europe/Berlin:20260805T153000
DTEND;TZID=Europe/Berlin:20260805T161500
DTSTAMP:20260423T195820
CREATED:20210527T213620Z
LAST-MODIFIED:20210527T213620Z
UID:19251-1785943800-1785946500@ballettschule-schoofs-carell.de
SUMMARY:Tänzerische-Früherziehung
DESCRIPTION:Ballett-Früherziehung (ab 3 Jahren). \nEs wird Freude an der Bewegung gefördert und das Interesse für Musik\, Tanz und Ballett geweckt. \nNebenbei werden spielerisch einige Grundkenntnisse des klassischen Balletts vermittelt. \n 
URL:https://ballettschule-schoofs-carell.de/event/taenzerische-frueherziehung/2026-08-05/
LOCATION:In der Ballettschule\, Sallingerstr.13-15\, Donauwörth\, Bayern\, 86609\, Deutschland
ORGANIZER;CN="Alexander%20Schoofs-Carell":MAILTO:info@ballettschule-schoofs-carell.de
END:VEVENT
BEGIN:VEVENT
DTSTART;TZID=Europe/Berlin:20260812T153000
DTEND;TZID=Europe/Berlin:20260812T161500
DTSTAMP:20260423T195820
CREATED:20210527T213620Z
LAST-MODIFIED:20210527T213620Z
UID:19266-1786548600-1786551300@ballettschule-schoofs-carell.de
SUMMARY:Tänzerische-Früherziehung
DESCRIPTION:Ballett-Früherziehung (ab 3 Jahren). \nEs wird Freude an der Bewegung gefördert und das Interesse für Musik\, Tanz und Ballett geweckt. \nNebenbei werden spielerisch einige Grundkenntnisse des klassischen Balletts vermittelt. \n 
URL:https://ballettschule-schoofs-carell.de/event/taenzerische-frueherziehung/2026-08-12/
LOCATION:In der Ballettschule\, Sallingerstr.13-15\, Donauwörth\, Bayern\, 86609\, Deutschland
ORGANIZER;CN="Alexander%20Schoofs-Carell":MAILTO:info@ballettschule-schoofs-carell.de
END:VEVENT
BEGIN:VEVENT
DTSTART;TZID=Europe/Berlin:20260819T153000
DTEND;TZID=Europe/Berlin:20260819T161500
DTSTAMP:20260423T195820
CREATED:20210527T213620Z
LAST-MODIFIED:20210527T213620Z
UID:19281-1787153400-1787156100@ballettschule-schoofs-carell.de
SUMMARY:Tänzerische-Früherziehung
DESCRIPTION:Ballett-Früherziehung (ab 3 Jahren). \nEs wird Freude an der Bewegung gefördert und das Interesse für Musik\, Tanz und Ballett geweckt. \nNebenbei werden spielerisch einige Grundkenntnisse des klassischen Balletts vermittelt. \n 
URL:https://ballettschule-schoofs-carell.de/event/taenzerische-frueherziehung/2026-08-19/
LOCATION:In der Ballettschule\, Sallingerstr.13-15\, Donauwörth\, Bayern\, 86609\, Deutschland
ORGANIZER;CN="Alexander%20Schoofs-Carell":MAILTO:info@ballettschule-schoofs-carell.de
END:VEVENT
BEGIN:VEVENT
DTSTART;TZID=Europe/Berlin:20260826T153000
DTEND;TZID=Europe/Berlin:20260826T161500
DTSTAMP:20260423T195820
CREATED:20210527T213620Z
LAST-MODIFIED:20210527T213620Z
UID:19296-1787758200-1787760900@ballettschule-schoofs-carell.de
SUMMARY:Tänzerische-Früherziehung
DESCRIPTION:Ballett-Früherziehung (ab 3 Jahren). \nEs wird Freude an der Bewegung gefördert und das Interesse für Musik\, Tanz und Ballett geweckt. \nNebenbei werden spielerisch einige Grundkenntnisse des klassischen Balletts vermittelt. \n 
URL:https://ballettschule-schoofs-carell.de/event/taenzerische-frueherziehung/2026-08-26/
LOCATION:In der Ballettschule\, Sallingerstr.13-15\, Donauwörth\, Bayern\, 86609\, Deutschland
ORGANIZER;CN="Alexander%20Schoofs-Carell":MAILTO:info@ballettschule-schoofs-carell.de
END:VEVENT
BEGIN:VEVENT
DTSTART;TZID=Europe/Berlin:20260902T153000
DTEND;TZID=Europe/Berlin:20260902T161500
DTSTAMP:20260423T195820
CREATED:20210527T213620Z
LAST-MODIFIED:20210527T213620Z
UID:19311-1788363000-1788365700@ballettschule-schoofs-carell.de
SUMMARY:Tänzerische-Früherziehung
DESCRIPTION:Ballett-Früherziehung (ab 3 Jahren). \nEs wird Freude an der Bewegung gefördert und das Interesse für Musik\, Tanz und Ballett geweckt. \nNebenbei werden spielerisch einige Grundkenntnisse des klassischen Balletts vermittelt. \n 
URL:https://ballettschule-schoofs-carell.de/event/taenzerische-frueherziehung/2026-09-02/
LOCATION:In der Ballettschule\, Sallingerstr.13-15\, Donauwörth\, Bayern\, 86609\, Deutschland
ORGANIZER;CN="Alexander%20Schoofs-Carell":MAILTO:info@ballettschule-schoofs-carell.de
END:VEVENT
BEGIN:VEVENT
DTSTART;TZID=Europe/Berlin:20260909T153000
DTEND;TZID=Europe/Berlin:20260909T161500
DTSTAMP:20260423T195820
CREATED:20210527T213620Z
LAST-MODIFIED:20210527T213620Z
UID:19326-1788967800-1788970500@ballettschule-schoofs-carell.de
SUMMARY:Tänzerische-Früherziehung
DESCRIPTION:Ballett-Früherziehung (ab 3 Jahren). \nEs wird Freude an der Bewegung gefördert und das Interesse für Musik\, Tanz und Ballett geweckt. \nNebenbei werden spielerisch einige Grundkenntnisse des klassischen Balletts vermittelt. \n 
URL:https://ballettschule-schoofs-carell.de/event/taenzerische-frueherziehung/2026-09-09/
LOCATION:In der Ballettschule\, Sallingerstr.13-15\, Donauwörth\, Bayern\, 86609\, Deutschland
ORGANIZER;CN="Alexander%20Schoofs-Carell":MAILTO:info@ballettschule-schoofs-carell.de
END:VEVENT
BEGIN:VEVENT
DTSTART;TZID=Europe/Berlin:20260916T153000
DTEND;TZID=Europe/Berlin:20260916T161500
DTSTAMP:20260423T195820
CREATED:20210527T213620Z
LAST-MODIFIED:20210527T213620Z
UID:19341-1789572600-1789575300@ballettschule-schoofs-carell.de
SUMMARY:Tänzerische-Früherziehung
DESCRIPTION:Ballett-Früherziehung (ab 3 Jahren). \nEs wird Freude an der Bewegung gefördert und das Interesse für Musik\, Tanz und Ballett geweckt. \nNebenbei werden spielerisch einige Grundkenntnisse des klassischen Balletts vermittelt. \n 
URL:https://ballettschule-schoofs-carell.de/event/taenzerische-frueherziehung/2026-09-16/
LOCATION:In der Ballettschule\, Sallingerstr.13-15\, Donauwörth\, Bayern\, 86609\, Deutschland
ORGANIZER;CN="Alexander%20Schoofs-Carell":MAILTO:info@ballettschule-schoofs-carell.de
END:VEVENT
BEGIN:VEVENT
DTSTART;TZID=Europe/Berlin:20260923T153000
DTEND;TZID=Europe/Berlin:20260923T161500
DTSTAMP:20260423T195820
CREATED:20210527T213620Z
LAST-MODIFIED:20210527T213620Z
UID:19356-1790177400-1790180100@ballettschule-schoofs-carell.de
SUMMARY:Tänzerische-Früherziehung
DESCRIPTION:Ballett-Früherziehung (ab 3 Jahren). \nEs wird Freude an der Bewegung gefördert und das Interesse für Musik\, Tanz und Ballett geweckt. \nNebenbei werden spielerisch einige Grundkenntnisse des klassischen Balletts vermittelt. \n 
URL:https://ballettschule-schoofs-carell.de/event/taenzerische-frueherziehung/2026-09-23/
LOCATION:In der Ballettschule\, Sallingerstr.13-15\, Donauwörth\, Bayern\, 86609\, Deutschland
ORGANIZER;CN="Alexander%20Schoofs-Carell":MAILTO:info@ballettschule-schoofs-carell.de
END:VEVENT
BEGIN:VEVENT
DTSTART;TZID=Europe/Berlin:20260930T153000
DTEND;TZID=Europe/Berlin:20260930T161500
DTSTAMP:20260423T195820
CREATED:20210527T213620Z
LAST-MODIFIED:20210527T213620Z
UID:19371-1790782200-1790784900@ballettschule-schoofs-carell.de
SUMMARY:Tänzerische-Früherziehung
DESCRIPTION:Ballett-Früherziehung (ab 3 Jahren). \nEs wird Freude an der Bewegung gefördert und das Interesse für Musik\, Tanz und Ballett geweckt. \nNebenbei werden spielerisch einige Grundkenntnisse des klassischen Balletts vermittelt. \n 
URL:https://ballettschule-schoofs-carell.de/event/taenzerische-frueherziehung/2026-09-30/
LOCATION:In der Ballettschule\, Sallingerstr.13-15\, Donauwörth\, Bayern\, 86609\, Deutschland
ORGANIZER;CN="Alexander%20Schoofs-Carell":MAILTO:info@ballettschule-schoofs-carell.de
END:VEVENT
BEGIN:VEVENT
DTSTART;TZID=Europe/Berlin:20261007T153000
DTEND;TZID=Europe/Berlin:20261007T161500
DTSTAMP:20260423T195820
CREATED:20210527T213620Z
LAST-MODIFIED:20210527T213620Z
UID:19386-1791387000-1791389700@ballettschule-schoofs-carell.de
SUMMARY:Tänzerische-Früherziehung
DESCRIPTION:Ballett-Früherziehung (ab 3 Jahren). \nEs wird Freude an der Bewegung gefördert und das Interesse für Musik\, Tanz und Ballett geweckt. \nNebenbei werden spielerisch einige Grundkenntnisse des klassischen Balletts vermittelt. \n 
URL:https://ballettschule-schoofs-carell.de/event/taenzerische-frueherziehung/2026-10-07/
LOCATION:In der Ballettschule\, Sallingerstr.13-15\, Donauwörth\, Bayern\, 86609\, Deutschland
ORGANIZER;CN="Alexander%20Schoofs-Carell":MAILTO:info@ballettschule-schoofs-carell.de
END:VEVENT
BEGIN:VEVENT
DTSTART;TZID=Europe/Berlin:20261014T153000
DTEND;TZID=Europe/Berlin:20261014T161500
DTSTAMP:20260423T195820
CREATED:20210527T213620Z
LAST-MODIFIED:20210527T213620Z
UID:19401-1791991800-1791994500@ballettschule-schoofs-carell.de
SUMMARY:Tänzerische-Früherziehung
DESCRIPTION:Ballett-Früherziehung (ab 3 Jahren). \nEs wird Freude an der Bewegung gefördert und das Interesse für Musik\, Tanz und Ballett geweckt. \nNebenbei werden spielerisch einige Grundkenntnisse des klassischen Balletts vermittelt. \n 
URL:https://ballettschule-schoofs-carell.de/event/taenzerische-frueherziehung/2026-10-14/
LOCATION:In der Ballettschule\, Sallingerstr.13-15\, Donauwörth\, Bayern\, 86609\, Deutschland
ORGANIZER;CN="Alexander%20Schoofs-Carell":MAILTO:info@ballettschule-schoofs-carell.de
END:VEVENT
BEGIN:VEVENT
DTSTART;TZID=Europe/Berlin:20261021T153000
DTEND;TZID=Europe/Berlin:20261021T161500
DTSTAMP:20260423T195820
CREATED:20210527T213620Z
LAST-MODIFIED:20210527T213620Z
UID:19424-1792596600-1792599300@ballettschule-schoofs-carell.de
SUMMARY:Tänzerische-Früherziehung
DESCRIPTION:Ballett-Früherziehung (ab 3 Jahren). \nEs wird Freude an der Bewegung gefördert und das Interesse für Musik\, Tanz und Ballett geweckt. \nNebenbei werden spielerisch einige Grundkenntnisse des klassischen Balletts vermittelt. \n 
URL:https://ballettschule-schoofs-carell.de/event/taenzerische-frueherziehung/2026-10-21/
LOCATION:In der Ballettschule\, Sallingerstr.13-15\, Donauwörth\, Bayern\, 86609\, Deutschland
ORGANIZER;CN="Alexander%20Schoofs-Carell":MAILTO:info@ballettschule-schoofs-carell.de
END:VEVENT
BEGIN:VEVENT
DTSTART;TZID=Europe/Berlin:20261028T153000
DTEND;TZID=Europe/Berlin:20261028T161500
DTSTAMP:20260423T195820
CREATED:20210527T213620Z
LAST-MODIFIED:20210527T213620Z
UID:19439-1793201400-1793204100@ballettschule-schoofs-carell.de
SUMMARY:Tänzerische-Früherziehung
DESCRIPTION:Ballett-Früherziehung (ab 3 Jahren). \nEs wird Freude an der Bewegung gefördert und das Interesse für Musik\, Tanz und Ballett geweckt. \nNebenbei werden spielerisch einige Grundkenntnisse des klassischen Balletts vermittelt. \n 
URL:https://ballettschule-schoofs-carell.de/event/taenzerische-frueherziehung/2026-10-28/
LOCATION:In der Ballettschule\, Sallingerstr.13-15\, Donauwörth\, Bayern\, 86609\, Deutschland
ORGANIZER;CN="Alexander%20Schoofs-Carell":MAILTO:info@ballettschule-schoofs-carell.de
END:VEVENT
BEGIN:VEVENT
DTSTART;TZID=Europe/Berlin:20261104T153000
DTEND;TZID=Europe/Berlin:20261104T161500
DTSTAMP:20260423T195820
CREATED:20210527T213620Z
LAST-MODIFIED:20210527T213620Z
UID:19454-1793806200-1793808900@ballettschule-schoofs-carell.de
SUMMARY:Tänzerische-Früherziehung
DESCRIPTION:Ballett-Früherziehung (ab 3 Jahren). \nEs wird Freude an der Bewegung gefördert und das Interesse für Musik\, Tanz und Ballett geweckt. \nNebenbei werden spielerisch einige Grundkenntnisse des klassischen Balletts vermittelt. \n 
URL:https://ballettschule-schoofs-carell.de/event/taenzerische-frueherziehung/2026-11-04/
LOCATION:In der Ballettschule\, Sallingerstr.13-15\, Donauwörth\, Bayern\, 86609\, Deutschland
ORGANIZER;CN="Alexander%20Schoofs-Carell":MAILTO:info@ballettschule-schoofs-carell.de
END:VEVENT
BEGIN:VEVENT
DTSTART;TZID=Europe/Berlin:20261111T153000
DTEND;TZID=Europe/Berlin:20261111T161500
DTSTAMP:20260423T195820
CREATED:20210527T213620Z
LAST-MODIFIED:20210527T213620Z
UID:19469-1794411000-1794413700@ballettschule-schoofs-carell.de
SUMMARY:Tänzerische-Früherziehung
DESCRIPTION:Ballett-Früherziehung (ab 3 Jahren). \nEs wird Freude an der Bewegung gefördert und das Interesse für Musik\, Tanz und Ballett geweckt. \nNebenbei werden spielerisch einige Grundkenntnisse des klassischen Balletts vermittelt. \n 
URL:https://ballettschule-schoofs-carell.de/event/taenzerische-frueherziehung/2026-11-11/
LOCATION:In der Ballettschule\, Sallingerstr.13-15\, Donauwörth\, Bayern\, 86609\, Deutschland
ORGANIZER;CN="Alexander%20Schoofs-Carell":MAILTO:info@ballettschule-schoofs-carell.de
END:VEVENT
BEGIN:VEVENT
DTSTART;TZID=Europe/Berlin:20261118T153000
DTEND;TZID=Europe/Berlin:20261118T161500
DTSTAMP:20260423T195820
CREATED:20210527T213620Z
LAST-MODIFIED:20210527T213620Z
UID:19484-1795015800-1795018500@ballettschule-schoofs-carell.de
SUMMARY:Tänzerische-Früherziehung
DESCRIPTION:Ballett-Früherziehung (ab 3 Jahren). \nEs wird Freude an der Bewegung gefördert und das Interesse für Musik\, Tanz und Ballett geweckt. \nNebenbei werden spielerisch einige Grundkenntnisse des klassischen Balletts vermittelt. \n 
URL:https://ballettschule-schoofs-carell.de/event/taenzerische-frueherziehung/2026-11-18/
LOCATION:In der Ballettschule\, Sallingerstr.13-15\, Donauwörth\, Bayern\, 86609\, Deutschland
ORGANIZER;CN="Alexander%20Schoofs-Carell":MAILTO:info@ballettschule-schoofs-carell.de
END:VEVENT
BEGIN:VEVENT
DTSTART;TZID=Europe/Berlin:20261125T153000
DTEND;TZID=Europe/Berlin:20261125T161500
DTSTAMP:20260423T195820
CREATED:20210527T213620Z
LAST-MODIFIED:20210527T213620Z
UID:19499-1795620600-1795623300@ballettschule-schoofs-carell.de
SUMMARY:Tänzerische-Früherziehung
DESCRIPTION:Ballett-Früherziehung (ab 3 Jahren). \nEs wird Freude an der Bewegung gefördert und das Interesse für Musik\, Tanz und Ballett geweckt. \nNebenbei werden spielerisch einige Grundkenntnisse des klassischen Balletts vermittelt. \n 
URL:https://ballettschule-schoofs-carell.de/event/taenzerische-frueherziehung/2026-11-25/
LOCATION:In der Ballettschule\, Sallingerstr.13-15\, Donauwörth\, Bayern\, 86609\, Deutschland
ORGANIZER;CN="Alexander%20Schoofs-Carell":MAILTO:info@ballettschule-schoofs-carell.de
END:VEVENT
BEGIN:VEVENT
DTSTART;TZID=Europe/Berlin:20261202T153000
DTEND;TZID=Europe/Berlin:20261202T161500
DTSTAMP:20260423T195820
CREATED:20210527T213620Z
LAST-MODIFIED:20210527T213620Z
UID:19514-1796225400-1796228100@ballettschule-schoofs-carell.de
SUMMARY:Tänzerische-Früherziehung
DESCRIPTION:Ballett-Früherziehung (ab 3 Jahren). \nEs wird Freude an der Bewegung gefördert und das Interesse für Musik\, Tanz und Ballett geweckt. \nNebenbei werden spielerisch einige Grundkenntnisse des klassischen Balletts vermittelt. \n 
URL:https://ballettschule-schoofs-carell.de/event/taenzerische-frueherziehung/2026-12-02/
LOCATION:In der Ballettschule\, Sallingerstr.13-15\, Donauwörth\, Bayern\, 86609\, Deutschland
ORGANIZER;CN="Alexander%20Schoofs-Carell":MAILTO:info@ballettschule-schoofs-carell.de
END:VEVENT
BEGIN:VEVENT
DTSTART;TZID=Europe/Berlin:20261209T153000
DTEND;TZID=Europe/Berlin:20261209T161500
DTSTAMP:20260423T195820
CREATED:20210527T213620Z
LAST-MODIFIED:20210527T213620Z
UID:19529-1796830200-1796832900@ballettschule-schoofs-carell.de
SUMMARY:Tänzerische-Früherziehung
DESCRIPTION:Ballett-Früherziehung (ab 3 Jahren). \nEs wird Freude an der Bewegung gefördert und das Interesse für Musik\, Tanz und Ballett geweckt. \nNebenbei werden spielerisch einige Grundkenntnisse des klassischen Balletts vermittelt. \n 
URL:https://ballettschule-schoofs-carell.de/event/taenzerische-frueherziehung/2026-12-09/
LOCATION:In der Ballettschule\, Sallingerstr.13-15\, Donauwörth\, Bayern\, 86609\, Deutschland
ORGANIZER;CN="Alexander%20Schoofs-Carell":MAILTO:info@ballettschule-schoofs-carell.de
END:VEVENT
BEGIN:VEVENT
DTSTART;TZID=Europe/Berlin:20261216T153000
DTEND;TZID=Europe/Berlin:20261216T161500
DTSTAMP:20260423T195820
CREATED:20210527T213620Z
LAST-MODIFIED:20210527T213620Z
UID:19544-1797435000-1797437700@ballettschule-schoofs-carell.de
SUMMARY:Tänzerische-Früherziehung
DESCRIPTION:Ballett-Früherziehung (ab 3 Jahren). \nEs wird Freude an der Bewegung gefördert und das Interesse für Musik\, Tanz und Ballett geweckt. \nNebenbei werden spielerisch einige Grundkenntnisse des klassischen Balletts vermittelt. \n 
URL:https://ballettschule-schoofs-carell.de/event/taenzerische-frueherziehung/2026-12-16/
LOCATION:In der Ballettschule\, Sallingerstr.13-15\, Donauwörth\, Bayern\, 86609\, Deutschland
ORGANIZER;CN="Alexander%20Schoofs-Carell":MAILTO:info@ballettschule-schoofs-carell.de
END:VEVENT
BEGIN:VEVENT
DTSTART;TZID=Europe/Berlin:20261223T153000
DTEND;TZID=Europe/Berlin:20261223T161500
DTSTAMP:20260423T195820
CREATED:20210527T213620Z
LAST-MODIFIED:20210527T213620Z
UID:19559-1798039800-1798042500@ballettschule-schoofs-carell.de
SUMMARY:Tänzerische-Früherziehung
DESCRIPTION:Ballett-Früherziehung (ab 3 Jahren). \nEs wird Freude an der Bewegung gefördert und das Interesse für Musik\, Tanz und Ballett geweckt. \nNebenbei werden spielerisch einige Grundkenntnisse des klassischen Balletts vermittelt. \n 
URL:https://ballettschule-schoofs-carell.de/event/taenzerische-frueherziehung/2026-12-23/
LOCATION:In der Ballettschule\, Sallingerstr.13-15\, Donauwörth\, Bayern\, 86609\, Deutschland
ORGANIZER;CN="Alexander%20Schoofs-Carell":MAILTO:info@ballettschule-schoofs-carell.de
END:VEVENT
BEGIN:VEVENT
DTSTART;TZID=Europe/Berlin:20261230T153000
DTEND;TZID=Europe/Berlin:20261230T161500
DTSTAMP:20260423T195820
CREATED:20210527T213620Z
LAST-MODIFIED:20210527T213620Z
UID:19574-1798644600-1798647300@ballettschule-schoofs-carell.de
SUMMARY:Tänzerische-Früherziehung
DESCRIPTION:Ballett-Früherziehung (ab 3 Jahren). \nEs wird Freude an der Bewegung gefördert und das Interesse für Musik\, Tanz und Ballett geweckt. \nNebenbei werden spielerisch einige Grundkenntnisse des klassischen Balletts vermittelt. \n 
URL:https://ballettschule-schoofs-carell.de/event/taenzerische-frueherziehung/2026-12-30/
LOCATION:In der Ballettschule\, Sallingerstr.13-15\, Donauwörth\, Bayern\, 86609\, Deutschland
ORGANIZER;CN="Alexander%20Schoofs-Carell":MAILTO:info@ballettschule-schoofs-carell.de
END:VEVENT
BEGIN:VEVENT
DTSTART;TZID=Europe/Berlin:20270106T153000
DTEND;TZID=Europe/Berlin:20270106T161500
DTSTAMP:20260423T195820
CREATED:20210527T213620Z
LAST-MODIFIED:20210527T213620Z
UID:19589-1799249400-1799252100@ballettschule-schoofs-carell.de
SUMMARY:Tänzerische-Früherziehung
DESCRIPTION:Ballett-Früherziehung (ab 3 Jahren). \nEs wird Freude an der Bewegung gefördert und das Interesse für Musik\, Tanz und Ballett geweckt. \nNebenbei werden spielerisch einige Grundkenntnisse des klassischen Balletts vermittelt. \n 
URL:https://ballettschule-schoofs-carell.de/event/taenzerische-frueherziehung/2027-01-06/
LOCATION:In der Ballettschule\, Sallingerstr.13-15\, Donauwörth\, Bayern\, 86609\, Deutschland
ORGANIZER;CN="Alexander%20Schoofs-Carell":MAILTO:info@ballettschule-schoofs-carell.de
END:VEVENT
BEGIN:VEVENT
DTSTART;TZID=Europe/Berlin:20270113T153000
DTEND;TZID=Europe/Berlin:20270113T161500
DTSTAMP:20260423T195820
CREATED:20210527T213620Z
LAST-MODIFIED:20210527T213620Z
UID:19604-1799854200-1799856900@ballettschule-schoofs-carell.de
SUMMARY:Tänzerische-Früherziehung
DESCRIPTION:Ballett-Früherziehung (ab 3 Jahren). \nEs wird Freude an der Bewegung gefördert und das Interesse für Musik\, Tanz und Ballett geweckt. \nNebenbei werden spielerisch einige Grundkenntnisse des klassischen Balletts vermittelt. \n 
URL:https://ballettschule-schoofs-carell.de/event/taenzerische-frueherziehung/2027-01-13/
LOCATION:In der Ballettschule\, Sallingerstr.13-15\, Donauwörth\, Bayern\, 86609\, Deutschland
ORGANIZER;CN="Alexander%20Schoofs-Carell":MAILTO:info@ballettschule-schoofs-carell.de
END:VEVENT
BEGIN:VEVENT
DTSTART;TZID=Europe/Berlin:20270120T153000
DTEND;TZID=Europe/Berlin:20270120T161500
DTSTAMP:20260423T195820
CREATED:20210527T213620Z
LAST-MODIFIED:20210527T213620Z
UID:19619-1800459000-1800461700@ballettschule-schoofs-carell.de
SUMMARY:Tänzerische-Früherziehung
DESCRIPTION:Ballett-Früherziehung (ab 3 Jahren). \nEs wird Freude an der Bewegung gefördert und das Interesse für Musik\, Tanz und Ballett geweckt. \nNebenbei werden spielerisch einige Grundkenntnisse des klassischen Balletts vermittelt. \n 
URL:https://ballettschule-schoofs-carell.de/event/taenzerische-frueherziehung/2027-01-20/
LOCATION:In der Ballettschule\, Sallingerstr.13-15\, Donauwörth\, Bayern\, 86609\, Deutschland
ORGANIZER;CN="Alexander%20Schoofs-Carell":MAILTO:info@ballettschule-schoofs-carell.de
END:VEVENT
BEGIN:VEVENT
DTSTART;TZID=Europe/Berlin:20270127T153000
DTEND;TZID=Europe/Berlin:20270127T161500
DTSTAMP:20260423T195820
CREATED:20210527T213620Z
LAST-MODIFIED:20210527T213620Z
UID:19634-1801063800-1801066500@ballettschule-schoofs-carell.de
SUMMARY:Tänzerische-Früherziehung
DESCRIPTION:Ballett-Früherziehung (ab 3 Jahren). \nEs wird Freude an der Bewegung gefördert und das Interesse für Musik\, Tanz und Ballett geweckt. \nNebenbei werden spielerisch einige Grundkenntnisse des klassischen Balletts vermittelt. \n 
URL:https://ballettschule-schoofs-carell.de/event/taenzerische-frueherziehung/2027-01-27/
LOCATION:In der Ballettschule\, Sallingerstr.13-15\, Donauwörth\, Bayern\, 86609\, Deutschland
ORGANIZER;CN="Alexander%20Schoofs-Carell":MAILTO:info@ballettschule-schoofs-carell.de
END:VEVENT
BEGIN:VEVENT
DTSTART;TZID=Europe/Berlin:20270203T153000
DTEND;TZID=Europe/Berlin:20270203T161500
DTSTAMP:20260423T195820
CREATED:20210527T213620Z
LAST-MODIFIED:20210527T213620Z
UID:19870-1801668600-1801671300@ballettschule-schoofs-carell.de
SUMMARY:Tänzerische-Früherziehung
DESCRIPTION:Ballett-Früherziehung (ab 3 Jahren). \nEs wird Freude an der Bewegung gefördert und das Interesse für Musik\, Tanz und Ballett geweckt. \nNebenbei werden spielerisch einige Grundkenntnisse des klassischen Balletts vermittelt. \n 
URL:https://ballettschule-schoofs-carell.de/event/taenzerische-frueherziehung/2027-02-03/
LOCATION:In der Ballettschule\, Sallingerstr.13-15\, Donauwörth\, Bayern\, 86609\, Deutschland
ORGANIZER;CN="Alexander%20Schoofs-Carell":MAILTO:info@ballettschule-schoofs-carell.de
END:VEVENT
BEGIN:VEVENT
DTSTART;TZID=Europe/Berlin:20270210T153000
DTEND;TZID=Europe/Berlin:20270210T161500
DTSTAMP:20260423T195820
CREATED:20210527T213620Z
LAST-MODIFIED:20210527T213620Z
UID:19886-1802273400-1802276100@ballettschule-schoofs-carell.de
SUMMARY:Tänzerische-Früherziehung
DESCRIPTION:Ballett-Früherziehung (ab 3 Jahren). \nEs wird Freude an der Bewegung gefördert und das Interesse für Musik\, Tanz und Ballett geweckt. \nNebenbei werden spielerisch einige Grundkenntnisse des klassischen Balletts vermittelt. \n 
URL:https://ballettschule-schoofs-carell.de/event/taenzerische-frueherziehung/2027-02-10/
LOCATION:In der Ballettschule\, Sallingerstr.13-15\, Donauwörth\, Bayern\, 86609\, Deutschland
ORGANIZER;CN="Alexander%20Schoofs-Carell":MAILTO:info@ballettschule-schoofs-carell.de
END:VEVENT
END:VCALENDAR