BEGIN:VCALENDAR
VERSION:2.0
PRODID:-//Ballettschule Schoofs-Carell - ECPv5.11.0//NONSGML v1.0//EN
CALSCALE:GREGORIAN
METHOD:PUBLISH
X-WR-CALNAME:Ballettschule Schoofs-Carell
X-ORIGINAL-URL:https://ballettschule-schoofs-carell.de
X-WR-CALDESC:Veranstaltungen für Ballettschule Schoofs-Carell
BEGIN:VTIMEZONE
TZID:Europe/Berlin
BEGIN:DAYLIGHT
TZOFFSETFROM:+0100
TZOFFSETTO:+0200
TZNAME:CEST
DTSTART:20260329T010000
END:DAYLIGHT
BEGIN:STANDARD
TZOFFSETFROM:+0200
TZOFFSETTO:+0100
TZNAME:CET
DTSTART:20261025T010000
END:STANDARD
BEGIN:DAYLIGHT
TZOFFSETFROM:+0100
TZOFFSETTO:+0200
TZNAME:CEST
DTSTART:20270328T010000
END:DAYLIGHT
BEGIN:STANDARD
TZOFFSETFROM:+0200
TZOFFSETTO:+0100
TZNAME:CET
DTSTART:20271031T010000
END:STANDARD
END:VTIMEZONE
BEGIN:VEVENT
DTSTART;TZID=Europe/Berlin:20261013T174500
DTEND;TZID=Europe/Berlin:20261013T190000
DTSTAMP:20260423T213230
CREATED:20210527T225803Z
LAST-MODIFIED:20210527T225803Z
UID:19398-1791913500-1791918000@ballettschule-schoofs-carell.de
SUMMARY:Kinderballett III
DESCRIPTION:Kinderballett III (ab 10 Jahren mit Vorkenntnissen) \nIn diesem Kurs werden die Kenntnisse vertieft und die Ballettkobinationen schneller und Komplizierter. \nDie gesamte Körpermuskelatur wird gestärkt und die Musikalität wird gefördert.
URL:https://ballettschule-schoofs-carell.de/event/kinderballett-iii-2021-11-01/2026-10-13/
LOCATION:In der Ballettschule\, Sallingerstr.13-15\, Donauwörth\, Bayern\, 86609\, Deutschland
ATTACH;FMTTYPE=image/jpeg:https://ballettschule-schoofs-carell.de/wp-content/uploads/2021/02/ballet-3362687_1920.jpg
ORGANIZER;CN="Alexander%20Schoofs-Carell":MAILTO:info@ballettschule-schoofs-carell.de
END:VEVENT
BEGIN:VEVENT
DTSTART;TZID=Europe/Berlin:20261020T174500
DTEND;TZID=Europe/Berlin:20261020T190000
DTSTAMP:20260423T213230
CREATED:20210527T225803Z
LAST-MODIFIED:20210527T225803Z
UID:19421-1792518300-1792522800@ballettschule-schoofs-carell.de
SUMMARY:Kinderballett III
DESCRIPTION:Kinderballett III (ab 10 Jahren mit Vorkenntnissen) \nIn diesem Kurs werden die Kenntnisse vertieft und die Ballettkobinationen schneller und Komplizierter. \nDie gesamte Körpermuskelatur wird gestärkt und die Musikalität wird gefördert.
URL:https://ballettschule-schoofs-carell.de/event/kinderballett-iii-2021-11-01/2026-10-20/
LOCATION:In der Ballettschule\, Sallingerstr.13-15\, Donauwörth\, Bayern\, 86609\, Deutschland
ATTACH;FMTTYPE=image/jpeg:https://ballettschule-schoofs-carell.de/wp-content/uploads/2021/02/ballet-3362687_1920.jpg
ORGANIZER;CN="Alexander%20Schoofs-Carell":MAILTO:info@ballettschule-schoofs-carell.de
END:VEVENT
BEGIN:VEVENT
DTSTART;TZID=Europe/Berlin:20261027T174500
DTEND;TZID=Europe/Berlin:20261027T190000
DTSTAMP:20260423T213230
CREATED:20210527T225803Z
LAST-MODIFIED:20210527T225803Z
UID:19436-1793123100-1793127600@ballettschule-schoofs-carell.de
SUMMARY:Kinderballett III
DESCRIPTION:Kinderballett III (ab 10 Jahren mit Vorkenntnissen) \nIn diesem Kurs werden die Kenntnisse vertieft und die Ballettkobinationen schneller und Komplizierter. \nDie gesamte Körpermuskelatur wird gestärkt und die Musikalität wird gefördert.
URL:https://ballettschule-schoofs-carell.de/event/kinderballett-iii-2021-11-01/2026-10-27/
LOCATION:In der Ballettschule\, Sallingerstr.13-15\, Donauwörth\, Bayern\, 86609\, Deutschland
ATTACH;FMTTYPE=image/jpeg:https://ballettschule-schoofs-carell.de/wp-content/uploads/2021/02/ballet-3362687_1920.jpg
ORGANIZER;CN="Alexander%20Schoofs-Carell":MAILTO:info@ballettschule-schoofs-carell.de
END:VEVENT
BEGIN:VEVENT
DTSTART;TZID=Europe/Berlin:20261103T174500
DTEND;TZID=Europe/Berlin:20261103T190000
DTSTAMP:20260423T213230
CREATED:20210527T225803Z
LAST-MODIFIED:20210527T225803Z
UID:19451-1793727900-1793732400@ballettschule-schoofs-carell.de
SUMMARY:Kinderballett III
DESCRIPTION:Kinderballett III (ab 10 Jahren mit Vorkenntnissen) \nIn diesem Kurs werden die Kenntnisse vertieft und die Ballettkobinationen schneller und Komplizierter. \nDie gesamte Körpermuskelatur wird gestärkt und die Musikalität wird gefördert.
URL:https://ballettschule-schoofs-carell.de/event/kinderballett-iii-2021-11-01/2026-11-03/
LOCATION:In der Ballettschule\, Sallingerstr.13-15\, Donauwörth\, Bayern\, 86609\, Deutschland
ATTACH;FMTTYPE=image/jpeg:https://ballettschule-schoofs-carell.de/wp-content/uploads/2021/02/ballet-3362687_1920.jpg
ORGANIZER;CN="Alexander%20Schoofs-Carell":MAILTO:info@ballettschule-schoofs-carell.de
END:VEVENT
BEGIN:VEVENT
DTSTART;TZID=Europe/Berlin:20261110T174500
DTEND;TZID=Europe/Berlin:20261110T190000
DTSTAMP:20260423T213230
CREATED:20210527T225803Z
LAST-MODIFIED:20210527T225803Z
UID:19466-1794332700-1794337200@ballettschule-schoofs-carell.de
SUMMARY:Kinderballett III
DESCRIPTION:Kinderballett III (ab 10 Jahren mit Vorkenntnissen) \nIn diesem Kurs werden die Kenntnisse vertieft und die Ballettkobinationen schneller und Komplizierter. \nDie gesamte Körpermuskelatur wird gestärkt und die Musikalität wird gefördert.
URL:https://ballettschule-schoofs-carell.de/event/kinderballett-iii-2021-11-01/2026-11-10/
LOCATION:In der Ballettschule\, Sallingerstr.13-15\, Donauwörth\, Bayern\, 86609\, Deutschland
ATTACH;FMTTYPE=image/jpeg:https://ballettschule-schoofs-carell.de/wp-content/uploads/2021/02/ballet-3362687_1920.jpg
ORGANIZER;CN="Alexander%20Schoofs-Carell":MAILTO:info@ballettschule-schoofs-carell.de
END:VEVENT
BEGIN:VEVENT
DTSTART;TZID=Europe/Berlin:20261117T174500
DTEND;TZID=Europe/Berlin:20261117T190000
DTSTAMP:20260423T213230
CREATED:20210527T225803Z
LAST-MODIFIED:20210527T225803Z
UID:19481-1794937500-1794942000@ballettschule-schoofs-carell.de
SUMMARY:Kinderballett III
DESCRIPTION:Kinderballett III (ab 10 Jahren mit Vorkenntnissen) \nIn diesem Kurs werden die Kenntnisse vertieft und die Ballettkobinationen schneller und Komplizierter. \nDie gesamte Körpermuskelatur wird gestärkt und die Musikalität wird gefördert.
URL:https://ballettschule-schoofs-carell.de/event/kinderballett-iii-2021-11-01/2026-11-17/
LOCATION:In der Ballettschule\, Sallingerstr.13-15\, Donauwörth\, Bayern\, 86609\, Deutschland
ATTACH;FMTTYPE=image/jpeg:https://ballettschule-schoofs-carell.de/wp-content/uploads/2021/02/ballet-3362687_1920.jpg
ORGANIZER;CN="Alexander%20Schoofs-Carell":MAILTO:info@ballettschule-schoofs-carell.de
END:VEVENT
BEGIN:VEVENT
DTSTART;TZID=Europe/Berlin:20261124T174500
DTEND;TZID=Europe/Berlin:20261124T190000
DTSTAMP:20260423T213230
CREATED:20210527T225803Z
LAST-MODIFIED:20210527T225803Z
UID:19496-1795542300-1795546800@ballettschule-schoofs-carell.de
SUMMARY:Kinderballett III
DESCRIPTION:Kinderballett III (ab 10 Jahren mit Vorkenntnissen) \nIn diesem Kurs werden die Kenntnisse vertieft und die Ballettkobinationen schneller und Komplizierter. \nDie gesamte Körpermuskelatur wird gestärkt und die Musikalität wird gefördert.
URL:https://ballettschule-schoofs-carell.de/event/kinderballett-iii-2021-11-01/2026-11-24/
LOCATION:In der Ballettschule\, Sallingerstr.13-15\, Donauwörth\, Bayern\, 86609\, Deutschland
ATTACH;FMTTYPE=image/jpeg:https://ballettschule-schoofs-carell.de/wp-content/uploads/2021/02/ballet-3362687_1920.jpg
ORGANIZER;CN="Alexander%20Schoofs-Carell":MAILTO:info@ballettschule-schoofs-carell.de
END:VEVENT
BEGIN:VEVENT
DTSTART;TZID=Europe/Berlin:20261201T174500
DTEND;TZID=Europe/Berlin:20261201T190000
DTSTAMP:20260423T213230
CREATED:20210527T225803Z
LAST-MODIFIED:20210527T225803Z
UID:19511-1796147100-1796151600@ballettschule-schoofs-carell.de
SUMMARY:Kinderballett III
DESCRIPTION:Kinderballett III (ab 10 Jahren mit Vorkenntnissen) \nIn diesem Kurs werden die Kenntnisse vertieft und die Ballettkobinationen schneller und Komplizierter. \nDie gesamte Körpermuskelatur wird gestärkt und die Musikalität wird gefördert.
URL:https://ballettschule-schoofs-carell.de/event/kinderballett-iii-2021-11-01/2026-12-01/
LOCATION:In der Ballettschule\, Sallingerstr.13-15\, Donauwörth\, Bayern\, 86609\, Deutschland
ATTACH;FMTTYPE=image/jpeg:https://ballettschule-schoofs-carell.de/wp-content/uploads/2021/02/ballet-3362687_1920.jpg
ORGANIZER;CN="Alexander%20Schoofs-Carell":MAILTO:info@ballettschule-schoofs-carell.de
END:VEVENT
BEGIN:VEVENT
DTSTART;TZID=Europe/Berlin:20261208T174500
DTEND;TZID=Europe/Berlin:20261208T190000
DTSTAMP:20260423T213230
CREATED:20210527T225803Z
LAST-MODIFIED:20210527T225803Z
UID:19526-1796751900-1796756400@ballettschule-schoofs-carell.de
SUMMARY:Kinderballett III
DESCRIPTION:Kinderballett III (ab 10 Jahren mit Vorkenntnissen) \nIn diesem Kurs werden die Kenntnisse vertieft und die Ballettkobinationen schneller und Komplizierter. \nDie gesamte Körpermuskelatur wird gestärkt und die Musikalität wird gefördert.
URL:https://ballettschule-schoofs-carell.de/event/kinderballett-iii-2021-11-01/2026-12-08/
LOCATION:In der Ballettschule\, Sallingerstr.13-15\, Donauwörth\, Bayern\, 86609\, Deutschland
ATTACH;FMTTYPE=image/jpeg:https://ballettschule-schoofs-carell.de/wp-content/uploads/2021/02/ballet-3362687_1920.jpg
ORGANIZER;CN="Alexander%20Schoofs-Carell":MAILTO:info@ballettschule-schoofs-carell.de
END:VEVENT
BEGIN:VEVENT
DTSTART;TZID=Europe/Berlin:20261215T174500
DTEND;TZID=Europe/Berlin:20261215T190000
DTSTAMP:20260423T213230
CREATED:20210527T225803Z
LAST-MODIFIED:20210527T225803Z
UID:19541-1797356700-1797361200@ballettschule-schoofs-carell.de
SUMMARY:Kinderballett III
DESCRIPTION:Kinderballett III (ab 10 Jahren mit Vorkenntnissen) \nIn diesem Kurs werden die Kenntnisse vertieft und die Ballettkobinationen schneller und Komplizierter. \nDie gesamte Körpermuskelatur wird gestärkt und die Musikalität wird gefördert.
URL:https://ballettschule-schoofs-carell.de/event/kinderballett-iii-2021-11-01/2026-12-15/
LOCATION:In der Ballettschule\, Sallingerstr.13-15\, Donauwörth\, Bayern\, 86609\, Deutschland
ATTACH;FMTTYPE=image/jpeg:https://ballettschule-schoofs-carell.de/wp-content/uploads/2021/02/ballet-3362687_1920.jpg
ORGANIZER;CN="Alexander%20Schoofs-Carell":MAILTO:info@ballettschule-schoofs-carell.de
END:VEVENT
BEGIN:VEVENT
DTSTART;TZID=Europe/Berlin:20261222T174500
DTEND;TZID=Europe/Berlin:20261222T190000
DTSTAMP:20260423T213230
CREATED:20210527T225803Z
LAST-MODIFIED:20210527T225803Z
UID:19556-1797961500-1797966000@ballettschule-schoofs-carell.de
SUMMARY:Kinderballett III
DESCRIPTION:Kinderballett III (ab 10 Jahren mit Vorkenntnissen) \nIn diesem Kurs werden die Kenntnisse vertieft und die Ballettkobinationen schneller und Komplizierter. \nDie gesamte Körpermuskelatur wird gestärkt und die Musikalität wird gefördert.
URL:https://ballettschule-schoofs-carell.de/event/kinderballett-iii-2021-11-01/2026-12-22/
LOCATION:In der Ballettschule\, Sallingerstr.13-15\, Donauwörth\, Bayern\, 86609\, Deutschland
ATTACH;FMTTYPE=image/jpeg:https://ballettschule-schoofs-carell.de/wp-content/uploads/2021/02/ballet-3362687_1920.jpg
ORGANIZER;CN="Alexander%20Schoofs-Carell":MAILTO:info@ballettschule-schoofs-carell.de
END:VEVENT
BEGIN:VEVENT
DTSTART;TZID=Europe/Berlin:20261229T174500
DTEND;TZID=Europe/Berlin:20261229T190000
DTSTAMP:20260423T213230
CREATED:20210527T225803Z
LAST-MODIFIED:20210527T225803Z
UID:19571-1798566300-1798570800@ballettschule-schoofs-carell.de
SUMMARY:Kinderballett III
DESCRIPTION:Kinderballett III (ab 10 Jahren mit Vorkenntnissen) \nIn diesem Kurs werden die Kenntnisse vertieft und die Ballettkobinationen schneller und Komplizierter. \nDie gesamte Körpermuskelatur wird gestärkt und die Musikalität wird gefördert.
URL:https://ballettschule-schoofs-carell.de/event/kinderballett-iii-2021-11-01/2026-12-29/
LOCATION:In der Ballettschule\, Sallingerstr.13-15\, Donauwörth\, Bayern\, 86609\, Deutschland
ATTACH;FMTTYPE=image/jpeg:https://ballettschule-schoofs-carell.de/wp-content/uploads/2021/02/ballet-3362687_1920.jpg
ORGANIZER;CN="Alexander%20Schoofs-Carell":MAILTO:info@ballettschule-schoofs-carell.de
END:VEVENT
BEGIN:VEVENT
DTSTART;TZID=Europe/Berlin:20270105T174500
DTEND;TZID=Europe/Berlin:20270105T190000
DTSTAMP:20260423T213230
CREATED:20210527T225803Z
LAST-MODIFIED:20210527T225803Z
UID:19586-1799171100-1799175600@ballettschule-schoofs-carell.de
SUMMARY:Kinderballett III
DESCRIPTION:Kinderballett III (ab 10 Jahren mit Vorkenntnissen) \nIn diesem Kurs werden die Kenntnisse vertieft und die Ballettkobinationen schneller und Komplizierter. \nDie gesamte Körpermuskelatur wird gestärkt und die Musikalität wird gefördert.
URL:https://ballettschule-schoofs-carell.de/event/kinderballett-iii-2021-11-01/2027-01-05/
LOCATION:In der Ballettschule\, Sallingerstr.13-15\, Donauwörth\, Bayern\, 86609\, Deutschland
ATTACH;FMTTYPE=image/jpeg:https://ballettschule-schoofs-carell.de/wp-content/uploads/2021/02/ballet-3362687_1920.jpg
ORGANIZER;CN="Alexander%20Schoofs-Carell":MAILTO:info@ballettschule-schoofs-carell.de
END:VEVENT
BEGIN:VEVENT
DTSTART;TZID=Europe/Berlin:20270112T174500
DTEND;TZID=Europe/Berlin:20270112T190000
DTSTAMP:20260423T213230
CREATED:20210527T225803Z
LAST-MODIFIED:20210527T225803Z
UID:19601-1799775900-1799780400@ballettschule-schoofs-carell.de
SUMMARY:Kinderballett III
DESCRIPTION:Kinderballett III (ab 10 Jahren mit Vorkenntnissen) \nIn diesem Kurs werden die Kenntnisse vertieft und die Ballettkobinationen schneller und Komplizierter. \nDie gesamte Körpermuskelatur wird gestärkt und die Musikalität wird gefördert.
URL:https://ballettschule-schoofs-carell.de/event/kinderballett-iii-2021-11-01/2027-01-12/
LOCATION:In der Ballettschule\, Sallingerstr.13-15\, Donauwörth\, Bayern\, 86609\, Deutschland
ATTACH;FMTTYPE=image/jpeg:https://ballettschule-schoofs-carell.de/wp-content/uploads/2021/02/ballet-3362687_1920.jpg
ORGANIZER;CN="Alexander%20Schoofs-Carell":MAILTO:info@ballettschule-schoofs-carell.de
END:VEVENT
BEGIN:VEVENT
DTSTART;TZID=Europe/Berlin:20270119T174500
DTEND;TZID=Europe/Berlin:20270119T190000
DTSTAMP:20260423T213230
CREATED:20210527T225803Z
LAST-MODIFIED:20210527T225803Z
UID:19616-1800380700-1800385200@ballettschule-schoofs-carell.de
SUMMARY:Kinderballett III
DESCRIPTION:Kinderballett III (ab 10 Jahren mit Vorkenntnissen) \nIn diesem Kurs werden die Kenntnisse vertieft und die Ballettkobinationen schneller und Komplizierter. \nDie gesamte Körpermuskelatur wird gestärkt und die Musikalität wird gefördert.
URL:https://ballettschule-schoofs-carell.de/event/kinderballett-iii-2021-11-01/2027-01-19/
LOCATION:In der Ballettschule\, Sallingerstr.13-15\, Donauwörth\, Bayern\, 86609\, Deutschland
ATTACH;FMTTYPE=image/jpeg:https://ballettschule-schoofs-carell.de/wp-content/uploads/2021/02/ballet-3362687_1920.jpg
ORGANIZER;CN="Alexander%20Schoofs-Carell":MAILTO:info@ballettschule-schoofs-carell.de
END:VEVENT
BEGIN:VEVENT
DTSTART;TZID=Europe/Berlin:20270126T174500
DTEND;TZID=Europe/Berlin:20270126T190000
DTSTAMP:20260423T213230
CREATED:20210527T225803Z
LAST-MODIFIED:20210527T225803Z
UID:19631-1800985500-1800990000@ballettschule-schoofs-carell.de
SUMMARY:Kinderballett III
DESCRIPTION:Kinderballett III (ab 10 Jahren mit Vorkenntnissen) \nIn diesem Kurs werden die Kenntnisse vertieft und die Ballettkobinationen schneller und Komplizierter. \nDie gesamte Körpermuskelatur wird gestärkt und die Musikalität wird gefördert.
URL:https://ballettschule-schoofs-carell.de/event/kinderballett-iii-2021-11-01/2027-01-26/
LOCATION:In der Ballettschule\, Sallingerstr.13-15\, Donauwörth\, Bayern\, 86609\, Deutschland
ATTACH;FMTTYPE=image/jpeg:https://ballettschule-schoofs-carell.de/wp-content/uploads/2021/02/ballet-3362687_1920.jpg
ORGANIZER;CN="Alexander%20Schoofs-Carell":MAILTO:info@ballettschule-schoofs-carell.de
END:VEVENT
BEGIN:VEVENT
DTSTART;TZID=Europe/Berlin:20270202T174500
DTEND;TZID=Europe/Berlin:20270202T190000
DTSTAMP:20260423T213230
CREATED:20210527T225803Z
LAST-MODIFIED:20210527T225803Z
UID:19867-1801590300-1801594800@ballettschule-schoofs-carell.de
SUMMARY:Kinderballett III
DESCRIPTION:Kinderballett III (ab 10 Jahren mit Vorkenntnissen) \nIn diesem Kurs werden die Kenntnisse vertieft und die Ballettkobinationen schneller und Komplizierter. \nDie gesamte Körpermuskelatur wird gestärkt und die Musikalität wird gefördert.
URL:https://ballettschule-schoofs-carell.de/event/kinderballett-iii-2021-11-01/2027-02-02/
LOCATION:In der Ballettschule\, Sallingerstr.13-15\, Donauwörth\, Bayern\, 86609\, Deutschland
ATTACH;FMTTYPE=image/jpeg:https://ballettschule-schoofs-carell.de/wp-content/uploads/2021/02/ballet-3362687_1920.jpg
ORGANIZER;CN="Alexander%20Schoofs-Carell":MAILTO:info@ballettschule-schoofs-carell.de
END:VEVENT
BEGIN:VEVENT
DTSTART;TZID=Europe/Berlin:20270209T174500
DTEND;TZID=Europe/Berlin:20270209T190000
DTSTAMP:20260423T213230
CREATED:20210527T225803Z
LAST-MODIFIED:20210527T225803Z
UID:19883-1802195100-1802199600@ballettschule-schoofs-carell.de
SUMMARY:Kinderballett III
DESCRIPTION:Kinderballett III (ab 10 Jahren mit Vorkenntnissen) \nIn diesem Kurs werden die Kenntnisse vertieft und die Ballettkobinationen schneller und Komplizierter. \nDie gesamte Körpermuskelatur wird gestärkt und die Musikalität wird gefördert.
URL:https://ballettschule-schoofs-carell.de/event/kinderballett-iii-2021-11-01/2027-02-09/
LOCATION:In der Ballettschule\, Sallingerstr.13-15\, Donauwörth\, Bayern\, 86609\, Deutschland
ATTACH;FMTTYPE=image/jpeg:https://ballettschule-schoofs-carell.de/wp-content/uploads/2021/02/ballet-3362687_1920.jpg
ORGANIZER;CN="Alexander%20Schoofs-Carell":MAILTO:info@ballettschule-schoofs-carell.de
END:VEVENT
BEGIN:VEVENT
DTSTART;TZID=Europe/Berlin:20270216T174500
DTEND;TZID=Europe/Berlin:20270216T190000
DTSTAMP:20260423T213230
CREATED:20210527T225803Z
LAST-MODIFIED:20210527T225803Z
UID:19899-1802799900-1802804400@ballettschule-schoofs-carell.de
SUMMARY:Kinderballett III
DESCRIPTION:Kinderballett III (ab 10 Jahren mit Vorkenntnissen) \nIn diesem Kurs werden die Kenntnisse vertieft und die Ballettkobinationen schneller und Komplizierter. \nDie gesamte Körpermuskelatur wird gestärkt und die Musikalität wird gefördert.
URL:https://ballettschule-schoofs-carell.de/event/kinderballett-iii-2021-11-01/2027-02-16/
LOCATION:In der Ballettschule\, Sallingerstr.13-15\, Donauwörth\, Bayern\, 86609\, Deutschland
ATTACH;FMTTYPE=image/jpeg:https://ballettschule-schoofs-carell.de/wp-content/uploads/2021/02/ballet-3362687_1920.jpg
ORGANIZER;CN="Alexander%20Schoofs-Carell":MAILTO:info@ballettschule-schoofs-carell.de
END:VEVENT
BEGIN:VEVENT
DTSTART;TZID=Europe/Berlin:20270223T174500
DTEND;TZID=Europe/Berlin:20270223T190000
DTSTAMP:20260423T213230
CREATED:20210527T225803Z
LAST-MODIFIED:20210527T225803Z
UID:19915-1803404700-1803409200@ballettschule-schoofs-carell.de
SUMMARY:Kinderballett III
DESCRIPTION:Kinderballett III (ab 10 Jahren mit Vorkenntnissen) \nIn diesem Kurs werden die Kenntnisse vertieft und die Ballettkobinationen schneller und Komplizierter. \nDie gesamte Körpermuskelatur wird gestärkt und die Musikalität wird gefördert.
URL:https://ballettschule-schoofs-carell.de/event/kinderballett-iii-2021-11-01/2027-02-23/
LOCATION:In der Ballettschule\, Sallingerstr.13-15\, Donauwörth\, Bayern\, 86609\, Deutschland
ATTACH;FMTTYPE=image/jpeg:https://ballettschule-schoofs-carell.de/wp-content/uploads/2021/02/ballet-3362687_1920.jpg
ORGANIZER;CN="Alexander%20Schoofs-Carell":MAILTO:info@ballettschule-schoofs-carell.de
END:VEVENT
BEGIN:VEVENT
DTSTART;TZID=Europe/Berlin:20270302T174500
DTEND;TZID=Europe/Berlin:20270302T190000
DTSTAMP:20260423T213230
CREATED:20210527T225803Z
LAST-MODIFIED:20210527T225803Z
UID:19931-1804009500-1804014000@ballettschule-schoofs-carell.de
SUMMARY:Kinderballett III
DESCRIPTION:Kinderballett III (ab 10 Jahren mit Vorkenntnissen) \nIn diesem Kurs werden die Kenntnisse vertieft und die Ballettkobinationen schneller und Komplizierter. \nDie gesamte Körpermuskelatur wird gestärkt und die Musikalität wird gefördert.
URL:https://ballettschule-schoofs-carell.de/event/kinderballett-iii-2021-11-01/2027-03-02/
LOCATION:In der Ballettschule\, Sallingerstr.13-15\, Donauwörth\, Bayern\, 86609\, Deutschland
ATTACH;FMTTYPE=image/jpeg:https://ballettschule-schoofs-carell.de/wp-content/uploads/2021/02/ballet-3362687_1920.jpg
ORGANIZER;CN="Alexander%20Schoofs-Carell":MAILTO:info@ballettschule-schoofs-carell.de
END:VEVENT
BEGIN:VEVENT
DTSTART;TZID=Europe/Berlin:20270309T174500
DTEND;TZID=Europe/Berlin:20270309T190000
DTSTAMP:20260423T213230
CREATED:20210527T225803Z
LAST-MODIFIED:20210527T225803Z
UID:19947-1804614300-1804618800@ballettschule-schoofs-carell.de
SUMMARY:Kinderballett III
DESCRIPTION:Kinderballett III (ab 10 Jahren mit Vorkenntnissen) \nIn diesem Kurs werden die Kenntnisse vertieft und die Ballettkobinationen schneller und Komplizierter. \nDie gesamte Körpermuskelatur wird gestärkt und die Musikalität wird gefördert.
URL:https://ballettschule-schoofs-carell.de/event/kinderballett-iii-2021-11-01/2027-03-09/
LOCATION:In der Ballettschule\, Sallingerstr.13-15\, Donauwörth\, Bayern\, 86609\, Deutschland
ATTACH;FMTTYPE=image/jpeg:https://ballettschule-schoofs-carell.de/wp-content/uploads/2021/02/ballet-3362687_1920.jpg
ORGANIZER;CN="Alexander%20Schoofs-Carell":MAILTO:info@ballettschule-schoofs-carell.de
END:VEVENT
BEGIN:VEVENT
DTSTART;TZID=Europe/Berlin:20270316T174500
DTEND;TZID=Europe/Berlin:20270316T190000
DTSTAMP:20260423T213230
CREATED:20210527T225803Z
LAST-MODIFIED:20210527T225803Z
UID:19963-1805219100-1805223600@ballettschule-schoofs-carell.de
SUMMARY:Kinderballett III
DESCRIPTION:Kinderballett III (ab 10 Jahren mit Vorkenntnissen) \nIn diesem Kurs werden die Kenntnisse vertieft und die Ballettkobinationen schneller und Komplizierter. \nDie gesamte Körpermuskelatur wird gestärkt und die Musikalität wird gefördert.
URL:https://ballettschule-schoofs-carell.de/event/kinderballett-iii-2021-11-01/2027-03-16/
LOCATION:In der Ballettschule\, Sallingerstr.13-15\, Donauwörth\, Bayern\, 86609\, Deutschland
ATTACH;FMTTYPE=image/jpeg:https://ballettschule-schoofs-carell.de/wp-content/uploads/2021/02/ballet-3362687_1920.jpg
ORGANIZER;CN="Alexander%20Schoofs-Carell":MAILTO:info@ballettschule-schoofs-carell.de
END:VEVENT
BEGIN:VEVENT
DTSTART;TZID=Europe/Berlin:20270323T174500
DTEND;TZID=Europe/Berlin:20270323T190000
DTSTAMP:20260423T213230
CREATED:20210527T225803Z
LAST-MODIFIED:20210527T225803Z
UID:19979-1805823900-1805828400@ballettschule-schoofs-carell.de
SUMMARY:Kinderballett III
DESCRIPTION:Kinderballett III (ab 10 Jahren mit Vorkenntnissen) \nIn diesem Kurs werden die Kenntnisse vertieft und die Ballettkobinationen schneller und Komplizierter. \nDie gesamte Körpermuskelatur wird gestärkt und die Musikalität wird gefördert.
URL:https://ballettschule-schoofs-carell.de/event/kinderballett-iii-2021-11-01/2027-03-23/
LOCATION:In der Ballettschule\, Sallingerstr.13-15\, Donauwörth\, Bayern\, 86609\, Deutschland
ATTACH;FMTTYPE=image/jpeg:https://ballettschule-schoofs-carell.de/wp-content/uploads/2021/02/ballet-3362687_1920.jpg
ORGANIZER;CN="Alexander%20Schoofs-Carell":MAILTO:info@ballettschule-schoofs-carell.de
END:VEVENT
BEGIN:VEVENT
DTSTART;TZID=Europe/Berlin:20270330T174500
DTEND;TZID=Europe/Berlin:20270330T190000
DTSTAMP:20260423T213230
CREATED:20210527T225803Z
LAST-MODIFIED:20210527T225803Z
UID:19994-1806428700-1806433200@ballettschule-schoofs-carell.de
SUMMARY:Kinderballett III
DESCRIPTION:Kinderballett III (ab 10 Jahren mit Vorkenntnissen) \nIn diesem Kurs werden die Kenntnisse vertieft und die Ballettkobinationen schneller und Komplizierter. \nDie gesamte Körpermuskelatur wird gestärkt und die Musikalität wird gefördert.
URL:https://ballettschule-schoofs-carell.de/event/kinderballett-iii-2021-11-01/2027-03-30/
LOCATION:In der Ballettschule\, Sallingerstr.13-15\, Donauwörth\, Bayern\, 86609\, Deutschland
ATTACH;FMTTYPE=image/jpeg:https://ballettschule-schoofs-carell.de/wp-content/uploads/2021/02/ballet-3362687_1920.jpg
ORGANIZER;CN="Alexander%20Schoofs-Carell":MAILTO:info@ballettschule-schoofs-carell.de
END:VEVENT
BEGIN:VEVENT
DTSTART;TZID=Europe/Berlin:20270406T174500
DTEND;TZID=Europe/Berlin:20270406T190000
DTSTAMP:20260423T213230
CREATED:20210527T225803Z
LAST-MODIFIED:20210527T225803Z
UID:20011-1807033500-1807038000@ballettschule-schoofs-carell.de
SUMMARY:Kinderballett III
DESCRIPTION:Kinderballett III (ab 10 Jahren mit Vorkenntnissen) \nIn diesem Kurs werden die Kenntnisse vertieft und die Ballettkobinationen schneller und Komplizierter. \nDie gesamte Körpermuskelatur wird gestärkt und die Musikalität wird gefördert.
URL:https://ballettschule-schoofs-carell.de/event/kinderballett-iii-2021-11-01/2027-04-06/
LOCATION:In der Ballettschule\, Sallingerstr.13-15\, Donauwörth\, Bayern\, 86609\, Deutschland
ATTACH;FMTTYPE=image/jpeg:https://ballettschule-schoofs-carell.de/wp-content/uploads/2021/02/ballet-3362687_1920.jpg
ORGANIZER;CN="Alexander%20Schoofs-Carell":MAILTO:info@ballettschule-schoofs-carell.de
END:VEVENT
BEGIN:VEVENT
DTSTART;TZID=Europe/Berlin:20270413T174500
DTEND;TZID=Europe/Berlin:20270413T190000
DTSTAMP:20260423T213230
CREATED:20210527T225803Z
LAST-MODIFIED:20210527T225803Z
UID:20027-1807638300-1807642800@ballettschule-schoofs-carell.de
SUMMARY:Kinderballett III
DESCRIPTION:Kinderballett III (ab 10 Jahren mit Vorkenntnissen) \nIn diesem Kurs werden die Kenntnisse vertieft und die Ballettkobinationen schneller und Komplizierter. \nDie gesamte Körpermuskelatur wird gestärkt und die Musikalität wird gefördert.
URL:https://ballettschule-schoofs-carell.de/event/kinderballett-iii-2021-11-01/2027-04-13/
LOCATION:In der Ballettschule\, Sallingerstr.13-15\, Donauwörth\, Bayern\, 86609\, Deutschland
ATTACH;FMTTYPE=image/jpeg:https://ballettschule-schoofs-carell.de/wp-content/uploads/2021/02/ballet-3362687_1920.jpg
ORGANIZER;CN="Alexander%20Schoofs-Carell":MAILTO:info@ballettschule-schoofs-carell.de
END:VEVENT
BEGIN:VEVENT
DTSTART;TZID=Europe/Berlin:20270420T174500
DTEND;TZID=Europe/Berlin:20270420T190000
DTSTAMP:20260423T213230
CREATED:20210527T225803Z
LAST-MODIFIED:20210527T225803Z
UID:20043-1808243100-1808247600@ballettschule-schoofs-carell.de
SUMMARY:Kinderballett III
DESCRIPTION:Kinderballett III (ab 10 Jahren mit Vorkenntnissen) \nIn diesem Kurs werden die Kenntnisse vertieft und die Ballettkobinationen schneller und Komplizierter. \nDie gesamte Körpermuskelatur wird gestärkt und die Musikalität wird gefördert.
URL:https://ballettschule-schoofs-carell.de/event/kinderballett-iii-2021-11-01/2027-04-20/
LOCATION:In der Ballettschule\, Sallingerstr.13-15\, Donauwörth\, Bayern\, 86609\, Deutschland
ATTACH;FMTTYPE=image/jpeg:https://ballettschule-schoofs-carell.de/wp-content/uploads/2021/02/ballet-3362687_1920.jpg
ORGANIZER;CN="Alexander%20Schoofs-Carell":MAILTO:info@ballettschule-schoofs-carell.de
END:VEVENT
BEGIN:VEVENT
DTSTART;TZID=Europe/Berlin:20270427T174500
DTEND;TZID=Europe/Berlin:20270427T190000
DTSTAMP:20260423T213230
CREATED:20210527T225803Z
LAST-MODIFIED:20210527T225803Z
UID:20059-1808847900-1808852400@ballettschule-schoofs-carell.de
SUMMARY:Kinderballett III
DESCRIPTION:Kinderballett III (ab 10 Jahren mit Vorkenntnissen) \nIn diesem Kurs werden die Kenntnisse vertieft und die Ballettkobinationen schneller und Komplizierter. \nDie gesamte Körpermuskelatur wird gestärkt und die Musikalität wird gefördert.
URL:https://ballettschule-schoofs-carell.de/event/kinderballett-iii-2021-11-01/2027-04-27/
LOCATION:In der Ballettschule\, Sallingerstr.13-15\, Donauwörth\, Bayern\, 86609\, Deutschland
ATTACH;FMTTYPE=image/jpeg:https://ballettschule-schoofs-carell.de/wp-content/uploads/2021/02/ballet-3362687_1920.jpg
ORGANIZER;CN="Alexander%20Schoofs-Carell":MAILTO:info@ballettschule-schoofs-carell.de
END:VEVENT
BEGIN:VEVENT
DTSTART;TZID=Europe/Berlin:20270504T174500
DTEND;TZID=Europe/Berlin:20270504T190000
DTSTAMP:20260423T213230
CREATED:20210527T225803Z
LAST-MODIFIED:20210527T225803Z
UID:20088-1809452700-1809457200@ballettschule-schoofs-carell.de
SUMMARY:Kinderballett III
DESCRIPTION:Kinderballett III (ab 10 Jahren mit Vorkenntnissen) \nIn diesem Kurs werden die Kenntnisse vertieft und die Ballettkobinationen schneller und Komplizierter. \nDie gesamte Körpermuskelatur wird gestärkt und die Musikalität wird gefördert.
URL:https://ballettschule-schoofs-carell.de/event/kinderballett-iii-2021-11-01/2027-05-04/
LOCATION:In der Ballettschule\, Sallingerstr.13-15\, Donauwörth\, Bayern\, 86609\, Deutschland
ATTACH;FMTTYPE=image/jpeg:https://ballettschule-schoofs-carell.de/wp-content/uploads/2021/02/ballet-3362687_1920.jpg
ORGANIZER;CN="Alexander%20Schoofs-Carell":MAILTO:info@ballettschule-schoofs-carell.de
END:VEVENT
END:VCALENDAR