BEGIN:VCALENDAR
VERSION:2.0
PRODID:-//Ballettschule Schoofs-Carell - ECPv5.11.0//NONSGML v1.0//EN
CALSCALE:GREGORIAN
METHOD:PUBLISH
X-WR-CALNAME:Ballettschule Schoofs-Carell
X-ORIGINAL-URL:https://ballettschule-schoofs-carell.de
X-WR-CALDESC:Veranstaltungen für Ballettschule Schoofs-Carell
BEGIN:VTIMEZONE
TZID:Europe/Berlin
BEGIN:DAYLIGHT
TZOFFSETFROM:+0100
TZOFFSETTO:+0200
TZNAME:CEST
DTSTART:20260329T010000
END:DAYLIGHT
BEGIN:STANDARD
TZOFFSETFROM:+0200
TZOFFSETTO:+0100
TZNAME:CET
DTSTART:20261025T010000
END:STANDARD
BEGIN:DAYLIGHT
TZOFFSETFROM:+0100
TZOFFSETTO:+0200
TZNAME:CEST
DTSTART:20270328T010000
END:DAYLIGHT
BEGIN:STANDARD
TZOFFSETFROM:+0200
TZOFFSETTO:+0100
TZNAME:CET
DTSTART:20271031T010000
END:STANDARD
END:VTIMEZONE
BEGIN:VEVENT
DTSTART;TZID=Europe/Berlin:20261228T163000
DTEND;TZID=Europe/Berlin:20261228T173000
DTSTAMP:20260420T002231
CREATED:20210728T064308Z
LAST-MODIFIED:20210728T064308Z
UID:19567-1798475400-1798479000@ballettschule-schoofs-carell.de
SUMMARY:Kinderballett I
DESCRIPTION:
URL:https://ballettschule-schoofs-carell.de/event/kinderballett-i-2/2026-12-28/
ATTACH;FMTTYPE=image/jpeg:https://ballettschule-schoofs-carell.de/wp-content/uploads/2021/02/ballet-3362678_1920.jpg
END:VEVENT
BEGIN:VEVENT
DTSTART;TZID=Europe/Berlin:20261231T163000
DTEND;TZID=Europe/Berlin:20261231T173000
DTSTAMP:20260420T002231
CREATED:20210728T064308Z
LAST-MODIFIED:20210728T064308Z
UID:19577-1798734600-1798738200@ballettschule-schoofs-carell.de
SUMMARY:Kinderballett I
DESCRIPTION:
URL:https://ballettschule-schoofs-carell.de/event/kinderballett-i-2/2026-12-31/
ATTACH;FMTTYPE=image/jpeg:https://ballettschule-schoofs-carell.de/wp-content/uploads/2021/02/ballet-3362678_1920.jpg
END:VEVENT
BEGIN:VEVENT
DTSTART;TZID=Europe/Berlin:20270104T163000
DTEND;TZID=Europe/Berlin:20270104T173000
DTSTAMP:20260420T002231
CREATED:20210728T064308Z
LAST-MODIFIED:20210728T064308Z
UID:19582-1799080200-1799083800@ballettschule-schoofs-carell.de
SUMMARY:Kinderballett I
DESCRIPTION:
URL:https://ballettschule-schoofs-carell.de/event/kinderballett-i-2/2027-01-04/
ATTACH;FMTTYPE=image/jpeg:https://ballettschule-schoofs-carell.de/wp-content/uploads/2021/02/ballet-3362678_1920.jpg
END:VEVENT
BEGIN:VEVENT
DTSTART;TZID=Europe/Berlin:20270107T163000
DTEND;TZID=Europe/Berlin:20270107T173000
DTSTAMP:20260420T002231
CREATED:20210728T064308Z
LAST-MODIFIED:20210728T064308Z
UID:19592-1799339400-1799343000@ballettschule-schoofs-carell.de
SUMMARY:Kinderballett I
DESCRIPTION:
URL:https://ballettschule-schoofs-carell.de/event/kinderballett-i-2/2027-01-07/
ATTACH;FMTTYPE=image/jpeg:https://ballettschule-schoofs-carell.de/wp-content/uploads/2021/02/ballet-3362678_1920.jpg
END:VEVENT
BEGIN:VEVENT
DTSTART;TZID=Europe/Berlin:20270111T163000
DTEND;TZID=Europe/Berlin:20270111T173000
DTSTAMP:20260420T002231
CREATED:20210728T064308Z
LAST-MODIFIED:20210728T064308Z
UID:19597-1799685000-1799688600@ballettschule-schoofs-carell.de
SUMMARY:Kinderballett I
DESCRIPTION:
URL:https://ballettschule-schoofs-carell.de/event/kinderballett-i-2/2027-01-11/
ATTACH;FMTTYPE=image/jpeg:https://ballettschule-schoofs-carell.de/wp-content/uploads/2021/02/ballet-3362678_1920.jpg
END:VEVENT
BEGIN:VEVENT
DTSTART;TZID=Europe/Berlin:20270114T163000
DTEND;TZID=Europe/Berlin:20270114T173000
DTSTAMP:20260420T002231
CREATED:20210728T064308Z
LAST-MODIFIED:20210728T064308Z
UID:19607-1799944200-1799947800@ballettschule-schoofs-carell.de
SUMMARY:Kinderballett I
DESCRIPTION:
URL:https://ballettschule-schoofs-carell.de/event/kinderballett-i-2/2027-01-14/
ATTACH;FMTTYPE=image/jpeg:https://ballettschule-schoofs-carell.de/wp-content/uploads/2021/02/ballet-3362678_1920.jpg
END:VEVENT
BEGIN:VEVENT
DTSTART;TZID=Europe/Berlin:20270118T163000
DTEND;TZID=Europe/Berlin:20270118T173000
DTSTAMP:20260420T002231
CREATED:20210728T064308Z
LAST-MODIFIED:20210728T064308Z
UID:19612-1800289800-1800293400@ballettschule-schoofs-carell.de
SUMMARY:Kinderballett I
DESCRIPTION:
URL:https://ballettschule-schoofs-carell.de/event/kinderballett-i-2/2027-01-18/
ATTACH;FMTTYPE=image/jpeg:https://ballettschule-schoofs-carell.de/wp-content/uploads/2021/02/ballet-3362678_1920.jpg
END:VEVENT
BEGIN:VEVENT
DTSTART;TZID=Europe/Berlin:20270121T163000
DTEND;TZID=Europe/Berlin:20270121T173000
DTSTAMP:20260420T002231
CREATED:20210728T064308Z
LAST-MODIFIED:20210728T064308Z
UID:19622-1800549000-1800552600@ballettschule-schoofs-carell.de
SUMMARY:Kinderballett I
DESCRIPTION:
URL:https://ballettschule-schoofs-carell.de/event/kinderballett-i-2/2027-01-21/
ATTACH;FMTTYPE=image/jpeg:https://ballettschule-schoofs-carell.de/wp-content/uploads/2021/02/ballet-3362678_1920.jpg
END:VEVENT
BEGIN:VEVENT
DTSTART;TZID=Europe/Berlin:20270125T163000
DTEND;TZID=Europe/Berlin:20270125T173000
DTSTAMP:20260420T002231
CREATED:20210728T064308Z
LAST-MODIFIED:20210728T064308Z
UID:19627-1800894600-1800898200@ballettschule-schoofs-carell.de
SUMMARY:Kinderballett I
DESCRIPTION:
URL:https://ballettschule-schoofs-carell.de/event/kinderballett-i-2/2027-01-25/
ATTACH;FMTTYPE=image/jpeg:https://ballettschule-schoofs-carell.de/wp-content/uploads/2021/02/ballet-3362678_1920.jpg
END:VEVENT
BEGIN:VEVENT
DTSTART;TZID=Europe/Berlin:20270128T163000
DTEND;TZID=Europe/Berlin:20270128T173000
DTSTAMP:20260420T002231
CREATED:20210728T064308Z
LAST-MODIFIED:20210728T064308Z
UID:19637-1801153800-1801157400@ballettschule-schoofs-carell.de
SUMMARY:Kinderballett I
DESCRIPTION:
URL:https://ballettschule-schoofs-carell.de/event/kinderballett-i-2/2027-01-28/
ATTACH;FMTTYPE=image/jpeg:https://ballettschule-schoofs-carell.de/wp-content/uploads/2021/02/ballet-3362678_1920.jpg
END:VEVENT
BEGIN:VEVENT
DTSTART;TZID=Europe/Berlin:20270201T163000
DTEND;TZID=Europe/Berlin:20270201T173000
DTSTAMP:20260420T002231
CREATED:20210728T064308Z
LAST-MODIFIED:20210728T064308Z
UID:19862-1801499400-1801503000@ballettschule-schoofs-carell.de
SUMMARY:Kinderballett I
DESCRIPTION:
URL:https://ballettschule-schoofs-carell.de/event/kinderballett-i-2/2027-02-01/
ATTACH;FMTTYPE=image/jpeg:https://ballettschule-schoofs-carell.de/wp-content/uploads/2021/02/ballet-3362678_1920.jpg
END:VEVENT
BEGIN:VEVENT
DTSTART;TZID=Europe/Berlin:20270204T163000
DTEND;TZID=Europe/Berlin:20270204T173000
DTSTAMP:20260420T002231
CREATED:20210728T064308Z
LAST-MODIFIED:20210728T064308Z
UID:19873-1801758600-1801762200@ballettschule-schoofs-carell.de
SUMMARY:Kinderballett I
DESCRIPTION:
URL:https://ballettschule-schoofs-carell.de/event/kinderballett-i-2/2027-02-04/
ATTACH;FMTTYPE=image/jpeg:https://ballettschule-schoofs-carell.de/wp-content/uploads/2021/02/ballet-3362678_1920.jpg
END:VEVENT
BEGIN:VEVENT
DTSTART;TZID=Europe/Berlin:20270208T163000
DTEND;TZID=Europe/Berlin:20270208T173000
DTSTAMP:20260420T002231
CREATED:20210728T064308Z
LAST-MODIFIED:20210728T064308Z
UID:19878-1802104200-1802107800@ballettschule-schoofs-carell.de
SUMMARY:Kinderballett I
DESCRIPTION:
URL:https://ballettschule-schoofs-carell.de/event/kinderballett-i-2/2027-02-08/
ATTACH;FMTTYPE=image/jpeg:https://ballettschule-schoofs-carell.de/wp-content/uploads/2021/02/ballet-3362678_1920.jpg
END:VEVENT
BEGIN:VEVENT
DTSTART;TZID=Europe/Berlin:20270211T163000
DTEND;TZID=Europe/Berlin:20270211T173000
DTSTAMP:20260420T002231
CREATED:20210728T064308Z
LAST-MODIFIED:20210728T064308Z
UID:19889-1802363400-1802367000@ballettschule-schoofs-carell.de
SUMMARY:Kinderballett I
DESCRIPTION:
URL:https://ballettschule-schoofs-carell.de/event/kinderballett-i-2/2027-02-11/
ATTACH;FMTTYPE=image/jpeg:https://ballettschule-schoofs-carell.de/wp-content/uploads/2021/02/ballet-3362678_1920.jpg
END:VEVENT
BEGIN:VEVENT
DTSTART;TZID=Europe/Berlin:20270215T163000
DTEND;TZID=Europe/Berlin:20270215T173000
DTSTAMP:20260420T002231
CREATED:20210728T064308Z
LAST-MODIFIED:20210728T064308Z
UID:19894-1802709000-1802712600@ballettschule-schoofs-carell.de
SUMMARY:Kinderballett I
DESCRIPTION:
URL:https://ballettschule-schoofs-carell.de/event/kinderballett-i-2/2027-02-15/
ATTACH;FMTTYPE=image/jpeg:https://ballettschule-schoofs-carell.de/wp-content/uploads/2021/02/ballet-3362678_1920.jpg
END:VEVENT
BEGIN:VEVENT
DTSTART;TZID=Europe/Berlin:20270218T163000
DTEND;TZID=Europe/Berlin:20270218T173000
DTSTAMP:20260420T002231
CREATED:20210728T064308Z
LAST-MODIFIED:20210728T064308Z
UID:19905-1802968200-1802971800@ballettschule-schoofs-carell.de
SUMMARY:Kinderballett I
DESCRIPTION:
URL:https://ballettschule-schoofs-carell.de/event/kinderballett-i-2/2027-02-18/
ATTACH;FMTTYPE=image/jpeg:https://ballettschule-schoofs-carell.de/wp-content/uploads/2021/02/ballet-3362678_1920.jpg
END:VEVENT
BEGIN:VEVENT
DTSTART;TZID=Europe/Berlin:20270222T163000
DTEND;TZID=Europe/Berlin:20270222T173000
DTSTAMP:20260420T002231
CREATED:20210728T064308Z
LAST-MODIFIED:20210728T064308Z
UID:19910-1803313800-1803317400@ballettschule-schoofs-carell.de
SUMMARY:Kinderballett I
DESCRIPTION:
URL:https://ballettschule-schoofs-carell.de/event/kinderballett-i-2/2027-02-22/
ATTACH;FMTTYPE=image/jpeg:https://ballettschule-schoofs-carell.de/wp-content/uploads/2021/02/ballet-3362678_1920.jpg
END:VEVENT
BEGIN:VEVENT
DTSTART;TZID=Europe/Berlin:20270225T163000
DTEND;TZID=Europe/Berlin:20270225T173000
DTSTAMP:20260420T002231
CREATED:20210728T064308Z
LAST-MODIFIED:20210728T064308Z
UID:19921-1803573000-1803576600@ballettschule-schoofs-carell.de
SUMMARY:Kinderballett I
DESCRIPTION:
URL:https://ballettschule-schoofs-carell.de/event/kinderballett-i-2/2027-02-25/
ATTACH;FMTTYPE=image/jpeg:https://ballettschule-schoofs-carell.de/wp-content/uploads/2021/02/ballet-3362678_1920.jpg
END:VEVENT
BEGIN:VEVENT
DTSTART;TZID=Europe/Berlin:20270301T163000
DTEND;TZID=Europe/Berlin:20270301T173000
DTSTAMP:20260420T002231
CREATED:20210728T064308Z
LAST-MODIFIED:20210728T064308Z
UID:19926-1803918600-1803922200@ballettschule-schoofs-carell.de
SUMMARY:Kinderballett I
DESCRIPTION:
URL:https://ballettschule-schoofs-carell.de/event/kinderballett-i-2/2027-03-01/
ATTACH;FMTTYPE=image/jpeg:https://ballettschule-schoofs-carell.de/wp-content/uploads/2021/02/ballet-3362678_1920.jpg
END:VEVENT
BEGIN:VEVENT
DTSTART;TZID=Europe/Berlin:20270304T163000
DTEND;TZID=Europe/Berlin:20270304T173000
DTSTAMP:20260420T002231
CREATED:20210728T064308Z
LAST-MODIFIED:20210728T064308Z
UID:19937-1804177800-1804181400@ballettschule-schoofs-carell.de
SUMMARY:Kinderballett I
DESCRIPTION:
URL:https://ballettschule-schoofs-carell.de/event/kinderballett-i-2/2027-03-04/
ATTACH;FMTTYPE=image/jpeg:https://ballettschule-schoofs-carell.de/wp-content/uploads/2021/02/ballet-3362678_1920.jpg
END:VEVENT
BEGIN:VEVENT
DTSTART;TZID=Europe/Berlin:20270308T163000
DTEND;TZID=Europe/Berlin:20270308T173000
DTSTAMP:20260420T002231
CREATED:20210728T064308Z
LAST-MODIFIED:20210728T064308Z
UID:19942-1804523400-1804527000@ballettschule-schoofs-carell.de
SUMMARY:Kinderballett I
DESCRIPTION:
URL:https://ballettschule-schoofs-carell.de/event/kinderballett-i-2/2027-03-08/
ATTACH;FMTTYPE=image/jpeg:https://ballettschule-schoofs-carell.de/wp-content/uploads/2021/02/ballet-3362678_1920.jpg
END:VEVENT
BEGIN:VEVENT
DTSTART;TZID=Europe/Berlin:20270311T163000
DTEND;TZID=Europe/Berlin:20270311T173000
DTSTAMP:20260420T002231
CREATED:20210728T064308Z
LAST-MODIFIED:20210728T064308Z
UID:19953-1804782600-1804786200@ballettschule-schoofs-carell.de
SUMMARY:Kinderballett I
DESCRIPTION:
URL:https://ballettschule-schoofs-carell.de/event/kinderballett-i-2/2027-03-11/
ATTACH;FMTTYPE=image/jpeg:https://ballettschule-schoofs-carell.de/wp-content/uploads/2021/02/ballet-3362678_1920.jpg
END:VEVENT
BEGIN:VEVENT
DTSTART;TZID=Europe/Berlin:20270315T163000
DTEND;TZID=Europe/Berlin:20270315T173000
DTSTAMP:20260420T002231
CREATED:20210728T064308Z
LAST-MODIFIED:20210728T064308Z
UID:19958-1805128200-1805131800@ballettschule-schoofs-carell.de
SUMMARY:Kinderballett I
DESCRIPTION:
URL:https://ballettschule-schoofs-carell.de/event/kinderballett-i-2/2027-03-15/
ATTACH;FMTTYPE=image/jpeg:https://ballettschule-schoofs-carell.de/wp-content/uploads/2021/02/ballet-3362678_1920.jpg
END:VEVENT
BEGIN:VEVENT
DTSTART;TZID=Europe/Berlin:20270318T163000
DTEND;TZID=Europe/Berlin:20270318T173000
DTSTAMP:20260420T002231
CREATED:20210728T064308Z
LAST-MODIFIED:20210728T064308Z
UID:19969-1805387400-1805391000@ballettschule-schoofs-carell.de
SUMMARY:Kinderballett I
DESCRIPTION:
URL:https://ballettschule-schoofs-carell.de/event/kinderballett-i-2/2027-03-18/
ATTACH;FMTTYPE=image/jpeg:https://ballettschule-schoofs-carell.de/wp-content/uploads/2021/02/ballet-3362678_1920.jpg
END:VEVENT
BEGIN:VEVENT
DTSTART;TZID=Europe/Berlin:20270322T163000
DTEND;TZID=Europe/Berlin:20270322T173000
DTSTAMP:20260420T002231
CREATED:20210728T064308Z
LAST-MODIFIED:20210728T064308Z
UID:19974-1805733000-1805736600@ballettschule-schoofs-carell.de
SUMMARY:Kinderballett I
DESCRIPTION:
URL:https://ballettschule-schoofs-carell.de/event/kinderballett-i-2/2027-03-22/
ATTACH;FMTTYPE=image/jpeg:https://ballettschule-schoofs-carell.de/wp-content/uploads/2021/02/ballet-3362678_1920.jpg
END:VEVENT
BEGIN:VEVENT
DTSTART;TZID=Europe/Berlin:20270325T163000
DTEND;TZID=Europe/Berlin:20270325T173000
DTSTAMP:20260420T002231
CREATED:20210728T064308Z
LAST-MODIFIED:20210728T064308Z
UID:19985-1805992200-1805995800@ballettschule-schoofs-carell.de
SUMMARY:Kinderballett I
DESCRIPTION:
URL:https://ballettschule-schoofs-carell.de/event/kinderballett-i-2/2027-03-25/
ATTACH;FMTTYPE=image/jpeg:https://ballettschule-schoofs-carell.de/wp-content/uploads/2021/02/ballet-3362678_1920.jpg
END:VEVENT
BEGIN:VEVENT
DTSTART;TZID=Europe/Berlin:20270329T163000
DTEND;TZID=Europe/Berlin:20270329T173000
DTSTAMP:20260420T002231
CREATED:20210728T064308Z
LAST-MODIFIED:20210728T064308Z
UID:19993-1806337800-1806341400@ballettschule-schoofs-carell.de
SUMMARY:Kinderballett I
DESCRIPTION:
URL:https://ballettschule-schoofs-carell.de/event/kinderballett-i-2/2027-03-29/
ATTACH;FMTTYPE=image/jpeg:https://ballettschule-schoofs-carell.de/wp-content/uploads/2021/02/ballet-3362678_1920.jpg
END:VEVENT
BEGIN:VEVENT
DTSTART;TZID=Europe/Berlin:20270401T163000
DTEND;TZID=Europe/Berlin:20270401T173000
DTSTAMP:20260420T002231
CREATED:20210728T064308Z
LAST-MODIFIED:20210728T064308Z
UID:20001-1806597000-1806600600@ballettschule-schoofs-carell.de
SUMMARY:Kinderballett I
DESCRIPTION:
URL:https://ballettschule-schoofs-carell.de/event/kinderballett-i-2/2027-04-01/
ATTACH;FMTTYPE=image/jpeg:https://ballettschule-schoofs-carell.de/wp-content/uploads/2021/02/ballet-3362678_1920.jpg
END:VEVENT
BEGIN:VEVENT
DTSTART;TZID=Europe/Berlin:20270405T163000
DTEND;TZID=Europe/Berlin:20270405T173000
DTSTAMP:20260420T002231
CREATED:20210728T064308Z
LAST-MODIFIED:20210728T064308Z
UID:20006-1806942600-1806946200@ballettschule-schoofs-carell.de
SUMMARY:Kinderballett I
DESCRIPTION:
URL:https://ballettschule-schoofs-carell.de/event/kinderballett-i-2/2027-04-05/
ATTACH;FMTTYPE=image/jpeg:https://ballettschule-schoofs-carell.de/wp-content/uploads/2021/02/ballet-3362678_1920.jpg
END:VEVENT
BEGIN:VEVENT
DTSTART;TZID=Europe/Berlin:20270408T163000
DTEND;TZID=Europe/Berlin:20270408T173000
DTSTAMP:20260420T002231
CREATED:20210728T064308Z
LAST-MODIFIED:20210728T064308Z
UID:20017-1807201800-1807205400@ballettschule-schoofs-carell.de
SUMMARY:Kinderballett I
DESCRIPTION:
URL:https://ballettschule-schoofs-carell.de/event/kinderballett-i-2/2027-04-08/
ATTACH;FMTTYPE=image/jpeg:https://ballettschule-schoofs-carell.de/wp-content/uploads/2021/02/ballet-3362678_1920.jpg
END:VEVENT
END:VCALENDAR