BEGIN:VCALENDAR
VERSION:2.0
PRODID:-//Ballettschule Schoofs-Carell - ECPv5.11.0//NONSGML v1.0//EN
CALSCALE:GREGORIAN
METHOD:PUBLISH
X-WR-CALNAME:Ballettschule Schoofs-Carell
X-ORIGINAL-URL:https://ballettschule-schoofs-carell.de
X-WR-CALDESC:Veranstaltungen für Ballettschule Schoofs-Carell
BEGIN:VTIMEZONE
TZID:Europe/Berlin
BEGIN:DAYLIGHT
TZOFFSETFROM:+0100
TZOFFSETTO:+0200
TZNAME:CEST
DTSTART:20260329T010000
END:DAYLIGHT
BEGIN:STANDARD
TZOFFSETFROM:+0200
TZOFFSETTO:+0100
TZNAME:CET
DTSTART:20261025T010000
END:STANDARD
END:VTIMEZONE
BEGIN:VEVENT
DTSTART;TZID=Europe/Berlin:20260824T163000
DTEND;TZID=Europe/Berlin:20260824T173000
DTSTAMP:20260419T183343
CREATED:20210728T064308Z
LAST-MODIFIED:20210728T064308Z
UID:19289-1787589000-1787592600@ballettschule-schoofs-carell.de
SUMMARY:Kinderballett I
DESCRIPTION:
URL:https://ballettschule-schoofs-carell.de/event/kinderballett-i-2/2026-08-24/
ATTACH;FMTTYPE=image/jpeg:https://ballettschule-schoofs-carell.de/wp-content/uploads/2021/02/ballet-3362678_1920.jpg
END:VEVENT
BEGIN:VEVENT
DTSTART;TZID=Europe/Berlin:20260827T163000
DTEND;TZID=Europe/Berlin:20260827T173000
DTSTAMP:20260419T183343
CREATED:20210728T064308Z
LAST-MODIFIED:20210728T064308Z
UID:19299-1787848200-1787851800@ballettschule-schoofs-carell.de
SUMMARY:Kinderballett I
DESCRIPTION:
URL:https://ballettschule-schoofs-carell.de/event/kinderballett-i-2/2026-08-27/
ATTACH;FMTTYPE=image/jpeg:https://ballettschule-schoofs-carell.de/wp-content/uploads/2021/02/ballet-3362678_1920.jpg
END:VEVENT
BEGIN:VEVENT
DTSTART;TZID=Europe/Berlin:20260831T163000
DTEND;TZID=Europe/Berlin:20260831T173000
DTSTAMP:20260419T183343
CREATED:20210728T064308Z
LAST-MODIFIED:20210728T064308Z
UID:19304-1788193800-1788197400@ballettschule-schoofs-carell.de
SUMMARY:Kinderballett I
DESCRIPTION:
URL:https://ballettschule-schoofs-carell.de/event/kinderballett-i-2/2026-08-31/
ATTACH;FMTTYPE=image/jpeg:https://ballettschule-schoofs-carell.de/wp-content/uploads/2021/02/ballet-3362678_1920.jpg
END:VEVENT
BEGIN:VEVENT
DTSTART;TZID=Europe/Berlin:20260903T163000
DTEND;TZID=Europe/Berlin:20260903T173000
DTSTAMP:20260419T183343
CREATED:20210728T064308Z
LAST-MODIFIED:20210728T064308Z
UID:19314-1788453000-1788456600@ballettschule-schoofs-carell.de
SUMMARY:Kinderballett I
DESCRIPTION:
URL:https://ballettschule-schoofs-carell.de/event/kinderballett-i-2/2026-09-03/
ATTACH;FMTTYPE=image/jpeg:https://ballettschule-schoofs-carell.de/wp-content/uploads/2021/02/ballet-3362678_1920.jpg
END:VEVENT
BEGIN:VEVENT
DTSTART;TZID=Europe/Berlin:20260907T163000
DTEND;TZID=Europe/Berlin:20260907T173000
DTSTAMP:20260419T183343
CREATED:20210728T064308Z
LAST-MODIFIED:20210728T064308Z
UID:19319-1788798600-1788802200@ballettschule-schoofs-carell.de
SUMMARY:Kinderballett I
DESCRIPTION:
URL:https://ballettschule-schoofs-carell.de/event/kinderballett-i-2/2026-09-07/
ATTACH;FMTTYPE=image/jpeg:https://ballettschule-schoofs-carell.de/wp-content/uploads/2021/02/ballet-3362678_1920.jpg
END:VEVENT
BEGIN:VEVENT
DTSTART;TZID=Europe/Berlin:20260910T163000
DTEND;TZID=Europe/Berlin:20260910T173000
DTSTAMP:20260419T183343
CREATED:20210728T064308Z
LAST-MODIFIED:20210728T064308Z
UID:19329-1789057800-1789061400@ballettschule-schoofs-carell.de
SUMMARY:Kinderballett I
DESCRIPTION:
URL:https://ballettschule-schoofs-carell.de/event/kinderballett-i-2/2026-09-10/
ATTACH;FMTTYPE=image/jpeg:https://ballettschule-schoofs-carell.de/wp-content/uploads/2021/02/ballet-3362678_1920.jpg
END:VEVENT
BEGIN:VEVENT
DTSTART;TZID=Europe/Berlin:20260914T163000
DTEND;TZID=Europe/Berlin:20260914T173000
DTSTAMP:20260419T183343
CREATED:20210728T064308Z
LAST-MODIFIED:20210728T064308Z
UID:19334-1789403400-1789407000@ballettschule-schoofs-carell.de
SUMMARY:Kinderballett I
DESCRIPTION:
URL:https://ballettschule-schoofs-carell.de/event/kinderballett-i-2/2026-09-14/
ATTACH;FMTTYPE=image/jpeg:https://ballettschule-schoofs-carell.de/wp-content/uploads/2021/02/ballet-3362678_1920.jpg
END:VEVENT
BEGIN:VEVENT
DTSTART;TZID=Europe/Berlin:20260917T163000
DTEND;TZID=Europe/Berlin:20260917T173000
DTSTAMP:20260419T183343
CREATED:20210728T064308Z
LAST-MODIFIED:20210728T064308Z
UID:19344-1789662600-1789666200@ballettschule-schoofs-carell.de
SUMMARY:Kinderballett I
DESCRIPTION:
URL:https://ballettschule-schoofs-carell.de/event/kinderballett-i-2/2026-09-17/
ATTACH;FMTTYPE=image/jpeg:https://ballettschule-schoofs-carell.de/wp-content/uploads/2021/02/ballet-3362678_1920.jpg
END:VEVENT
BEGIN:VEVENT
DTSTART;TZID=Europe/Berlin:20260921T163000
DTEND;TZID=Europe/Berlin:20260921T173000
DTSTAMP:20260419T183343
CREATED:20210728T064308Z
LAST-MODIFIED:20210728T064308Z
UID:19349-1790008200-1790011800@ballettschule-schoofs-carell.de
SUMMARY:Kinderballett I
DESCRIPTION:
URL:https://ballettschule-schoofs-carell.de/event/kinderballett-i-2/2026-09-21/
ATTACH;FMTTYPE=image/jpeg:https://ballettschule-schoofs-carell.de/wp-content/uploads/2021/02/ballet-3362678_1920.jpg
END:VEVENT
BEGIN:VEVENT
DTSTART;TZID=Europe/Berlin:20260924T163000
DTEND;TZID=Europe/Berlin:20260924T173000
DTSTAMP:20260419T183343
CREATED:20210728T064308Z
LAST-MODIFIED:20210728T064308Z
UID:19359-1790267400-1790271000@ballettschule-schoofs-carell.de
SUMMARY:Kinderballett I
DESCRIPTION:
URL:https://ballettschule-schoofs-carell.de/event/kinderballett-i-2/2026-09-24/
ATTACH;FMTTYPE=image/jpeg:https://ballettschule-schoofs-carell.de/wp-content/uploads/2021/02/ballet-3362678_1920.jpg
END:VEVENT
BEGIN:VEVENT
DTSTART;TZID=Europe/Berlin:20260928T163000
DTEND;TZID=Europe/Berlin:20260928T173000
DTSTAMP:20260419T183343
CREATED:20210728T064308Z
LAST-MODIFIED:20210728T064308Z
UID:19364-1790613000-1790616600@ballettschule-schoofs-carell.de
SUMMARY:Kinderballett I
DESCRIPTION:
URL:https://ballettschule-schoofs-carell.de/event/kinderballett-i-2/2026-09-28/
ATTACH;FMTTYPE=image/jpeg:https://ballettschule-schoofs-carell.de/wp-content/uploads/2021/02/ballet-3362678_1920.jpg
END:VEVENT
BEGIN:VEVENT
DTSTART;TZID=Europe/Berlin:20261001T163000
DTEND;TZID=Europe/Berlin:20261001T173000
DTSTAMP:20260419T183343
CREATED:20210728T064308Z
LAST-MODIFIED:20210728T064308Z
UID:19374-1790872200-1790875800@ballettschule-schoofs-carell.de
SUMMARY:Kinderballett I
DESCRIPTION:
URL:https://ballettschule-schoofs-carell.de/event/kinderballett-i-2/2026-10-01/
ATTACH;FMTTYPE=image/jpeg:https://ballettschule-schoofs-carell.de/wp-content/uploads/2021/02/ballet-3362678_1920.jpg
END:VEVENT
BEGIN:VEVENT
DTSTART;TZID=Europe/Berlin:20261005T163000
DTEND;TZID=Europe/Berlin:20261005T173000
DTSTAMP:20260419T183343
CREATED:20210728T064308Z
LAST-MODIFIED:20210728T064308Z
UID:19379-1791217800-1791221400@ballettschule-schoofs-carell.de
SUMMARY:Kinderballett I
DESCRIPTION:
URL:https://ballettschule-schoofs-carell.de/event/kinderballett-i-2/2026-10-05/
ATTACH;FMTTYPE=image/jpeg:https://ballettschule-schoofs-carell.de/wp-content/uploads/2021/02/ballet-3362678_1920.jpg
END:VEVENT
BEGIN:VEVENT
DTSTART;TZID=Europe/Berlin:20261008T163000
DTEND;TZID=Europe/Berlin:20261008T173000
DTSTAMP:20260419T183343
CREATED:20210728T064308Z
LAST-MODIFIED:20210728T064308Z
UID:19389-1791477000-1791480600@ballettschule-schoofs-carell.de
SUMMARY:Kinderballett I
DESCRIPTION:
URL:https://ballettschule-schoofs-carell.de/event/kinderballett-i-2/2026-10-08/
ATTACH;FMTTYPE=image/jpeg:https://ballettschule-schoofs-carell.de/wp-content/uploads/2021/02/ballet-3362678_1920.jpg
END:VEVENT
BEGIN:VEVENT
DTSTART;TZID=Europe/Berlin:20261012T163000
DTEND;TZID=Europe/Berlin:20261012T173000
DTSTAMP:20260419T183343
CREATED:20210728T064308Z
LAST-MODIFIED:20210728T064308Z
UID:19394-1791822600-1791826200@ballettschule-schoofs-carell.de
SUMMARY:Kinderballett I
DESCRIPTION:
URL:https://ballettschule-schoofs-carell.de/event/kinderballett-i-2/2026-10-12/
ATTACH;FMTTYPE=image/jpeg:https://ballettschule-schoofs-carell.de/wp-content/uploads/2021/02/ballet-3362678_1920.jpg
END:VEVENT
BEGIN:VEVENT
DTSTART;TZID=Europe/Berlin:20261015T163000
DTEND;TZID=Europe/Berlin:20261015T173000
DTSTAMP:20260419T183343
CREATED:20210728T064308Z
LAST-MODIFIED:20210728T064308Z
UID:19404-1792081800-1792085400@ballettschule-schoofs-carell.de
SUMMARY:Kinderballett I
DESCRIPTION:
URL:https://ballettschule-schoofs-carell.de/event/kinderballett-i-2/2026-10-15/
ATTACH;FMTTYPE=image/jpeg:https://ballettschule-schoofs-carell.de/wp-content/uploads/2021/02/ballet-3362678_1920.jpg
END:VEVENT
BEGIN:VEVENT
DTSTART;TZID=Europe/Berlin:20261019T163000
DTEND;TZID=Europe/Berlin:20261019T173000
DTSTAMP:20260419T183343
CREATED:20210728T064308Z
LAST-MODIFIED:20210728T064308Z
UID:19417-1792427400-1792431000@ballettschule-schoofs-carell.de
SUMMARY:Kinderballett I
DESCRIPTION:
URL:https://ballettschule-schoofs-carell.de/event/kinderballett-i-2/2026-10-19/
ATTACH;FMTTYPE=image/jpeg:https://ballettschule-schoofs-carell.de/wp-content/uploads/2021/02/ballet-3362678_1920.jpg
END:VEVENT
BEGIN:VEVENT
DTSTART;TZID=Europe/Berlin:20261022T163000
DTEND;TZID=Europe/Berlin:20261022T173000
DTSTAMP:20260419T183343
CREATED:20210728T064308Z
LAST-MODIFIED:20210728T064308Z
UID:19427-1792686600-1792690200@ballettschule-schoofs-carell.de
SUMMARY:Kinderballett I
DESCRIPTION:
URL:https://ballettschule-schoofs-carell.de/event/kinderballett-i-2/2026-10-22/
ATTACH;FMTTYPE=image/jpeg:https://ballettschule-schoofs-carell.de/wp-content/uploads/2021/02/ballet-3362678_1920.jpg
END:VEVENT
BEGIN:VEVENT
DTSTART;TZID=Europe/Berlin:20261026T163000
DTEND;TZID=Europe/Berlin:20261026T173000
DTSTAMP:20260419T183343
CREATED:20210728T064308Z
LAST-MODIFIED:20210728T064308Z
UID:19432-1793032200-1793035800@ballettschule-schoofs-carell.de
SUMMARY:Kinderballett I
DESCRIPTION:
URL:https://ballettschule-schoofs-carell.de/event/kinderballett-i-2/2026-10-26/
ATTACH;FMTTYPE=image/jpeg:https://ballettschule-schoofs-carell.de/wp-content/uploads/2021/02/ballet-3362678_1920.jpg
END:VEVENT
BEGIN:VEVENT
DTSTART;TZID=Europe/Berlin:20261029T163000
DTEND;TZID=Europe/Berlin:20261029T173000
DTSTAMP:20260419T183343
CREATED:20210728T064308Z
LAST-MODIFIED:20210728T064308Z
UID:19442-1793291400-1793295000@ballettschule-schoofs-carell.de
SUMMARY:Kinderballett I
DESCRIPTION:
URL:https://ballettschule-schoofs-carell.de/event/kinderballett-i-2/2026-10-29/
ATTACH;FMTTYPE=image/jpeg:https://ballettschule-schoofs-carell.de/wp-content/uploads/2021/02/ballet-3362678_1920.jpg
END:VEVENT
BEGIN:VEVENT
DTSTART;TZID=Europe/Berlin:20261102T163000
DTEND;TZID=Europe/Berlin:20261102T173000
DTSTAMP:20260419T183343
CREATED:20210728T064308Z
LAST-MODIFIED:20210728T064308Z
UID:19447-1793637000-1793640600@ballettschule-schoofs-carell.de
SUMMARY:Kinderballett I
DESCRIPTION:
URL:https://ballettschule-schoofs-carell.de/event/kinderballett-i-2/2026-11-02/
ATTACH;FMTTYPE=image/jpeg:https://ballettschule-schoofs-carell.de/wp-content/uploads/2021/02/ballet-3362678_1920.jpg
END:VEVENT
BEGIN:VEVENT
DTSTART;TZID=Europe/Berlin:20261105T163000
DTEND;TZID=Europe/Berlin:20261105T173000
DTSTAMP:20260419T183343
CREATED:20210728T064308Z
LAST-MODIFIED:20210728T064308Z
UID:19457-1793896200-1793899800@ballettschule-schoofs-carell.de
SUMMARY:Kinderballett I
DESCRIPTION:
URL:https://ballettschule-schoofs-carell.de/event/kinderballett-i-2/2026-11-05/
ATTACH;FMTTYPE=image/jpeg:https://ballettschule-schoofs-carell.de/wp-content/uploads/2021/02/ballet-3362678_1920.jpg
END:VEVENT
BEGIN:VEVENT
DTSTART;TZID=Europe/Berlin:20261109T163000
DTEND;TZID=Europe/Berlin:20261109T173000
DTSTAMP:20260419T183343
CREATED:20210728T064308Z
LAST-MODIFIED:20210728T064308Z
UID:19462-1794241800-1794245400@ballettschule-schoofs-carell.de
SUMMARY:Kinderballett I
DESCRIPTION:
URL:https://ballettschule-schoofs-carell.de/event/kinderballett-i-2/2026-11-09/
ATTACH;FMTTYPE=image/jpeg:https://ballettschule-schoofs-carell.de/wp-content/uploads/2021/02/ballet-3362678_1920.jpg
END:VEVENT
BEGIN:VEVENT
DTSTART;TZID=Europe/Berlin:20261112T163000
DTEND;TZID=Europe/Berlin:20261112T173000
DTSTAMP:20260419T183343
CREATED:20210728T064308Z
LAST-MODIFIED:20210728T064308Z
UID:19472-1794501000-1794504600@ballettschule-schoofs-carell.de
SUMMARY:Kinderballett I
DESCRIPTION:
URL:https://ballettschule-schoofs-carell.de/event/kinderballett-i-2/2026-11-12/
ATTACH;FMTTYPE=image/jpeg:https://ballettschule-schoofs-carell.de/wp-content/uploads/2021/02/ballet-3362678_1920.jpg
END:VEVENT
BEGIN:VEVENT
DTSTART;TZID=Europe/Berlin:20261116T163000
DTEND;TZID=Europe/Berlin:20261116T173000
DTSTAMP:20260419T183343
CREATED:20210728T064308Z
LAST-MODIFIED:20210728T064308Z
UID:19477-1794846600-1794850200@ballettschule-schoofs-carell.de
SUMMARY:Kinderballett I
DESCRIPTION:
URL:https://ballettschule-schoofs-carell.de/event/kinderballett-i-2/2026-11-16/
ATTACH;FMTTYPE=image/jpeg:https://ballettschule-schoofs-carell.de/wp-content/uploads/2021/02/ballet-3362678_1920.jpg
END:VEVENT
BEGIN:VEVENT
DTSTART;TZID=Europe/Berlin:20261119T163000
DTEND;TZID=Europe/Berlin:20261119T173000
DTSTAMP:20260419T183343
CREATED:20210728T064308Z
LAST-MODIFIED:20210728T064308Z
UID:19487-1795105800-1795109400@ballettschule-schoofs-carell.de
SUMMARY:Kinderballett I
DESCRIPTION:
URL:https://ballettschule-schoofs-carell.de/event/kinderballett-i-2/2026-11-19/
ATTACH;FMTTYPE=image/jpeg:https://ballettschule-schoofs-carell.de/wp-content/uploads/2021/02/ballet-3362678_1920.jpg
END:VEVENT
BEGIN:VEVENT
DTSTART;TZID=Europe/Berlin:20261123T163000
DTEND;TZID=Europe/Berlin:20261123T173000
DTSTAMP:20260419T183343
CREATED:20210728T064308Z
LAST-MODIFIED:20210728T064308Z
UID:19492-1795451400-1795455000@ballettschule-schoofs-carell.de
SUMMARY:Kinderballett I
DESCRIPTION:
URL:https://ballettschule-schoofs-carell.de/event/kinderballett-i-2/2026-11-23/
ATTACH;FMTTYPE=image/jpeg:https://ballettschule-schoofs-carell.de/wp-content/uploads/2021/02/ballet-3362678_1920.jpg
END:VEVENT
BEGIN:VEVENT
DTSTART;TZID=Europe/Berlin:20261126T163000
DTEND;TZID=Europe/Berlin:20261126T173000
DTSTAMP:20260419T183343
CREATED:20210728T064308Z
LAST-MODIFIED:20210728T064308Z
UID:19502-1795710600-1795714200@ballettschule-schoofs-carell.de
SUMMARY:Kinderballett I
DESCRIPTION:
URL:https://ballettschule-schoofs-carell.de/event/kinderballett-i-2/2026-11-26/
ATTACH;FMTTYPE=image/jpeg:https://ballettschule-schoofs-carell.de/wp-content/uploads/2021/02/ballet-3362678_1920.jpg
END:VEVENT
BEGIN:VEVENT
DTSTART;TZID=Europe/Berlin:20261130T163000
DTEND;TZID=Europe/Berlin:20261130T173000
DTSTAMP:20260419T183343
CREATED:20210728T064308Z
LAST-MODIFIED:20210728T064308Z
UID:19507-1796056200-1796059800@ballettschule-schoofs-carell.de
SUMMARY:Kinderballett I
DESCRIPTION:
URL:https://ballettschule-schoofs-carell.de/event/kinderballett-i-2/2026-11-30/
ATTACH;FMTTYPE=image/jpeg:https://ballettschule-schoofs-carell.de/wp-content/uploads/2021/02/ballet-3362678_1920.jpg
END:VEVENT
BEGIN:VEVENT
DTSTART;TZID=Europe/Berlin:20261203T163000
DTEND;TZID=Europe/Berlin:20261203T173000
DTSTAMP:20260419T183343
CREATED:20210728T064308Z
LAST-MODIFIED:20210728T064308Z
UID:19517-1796315400-1796319000@ballettschule-schoofs-carell.de
SUMMARY:Kinderballett I
DESCRIPTION:
URL:https://ballettschule-schoofs-carell.de/event/kinderballett-i-2/2026-12-03/
ATTACH;FMTTYPE=image/jpeg:https://ballettschule-schoofs-carell.de/wp-content/uploads/2021/02/ballet-3362678_1920.jpg
END:VEVENT
END:VCALENDAR