BEGIN:VCALENDAR
VERSION:2.0
PRODID:-//Ballettschule Schoofs-Carell - ECPv5.11.0//NONSGML v1.0//EN
CALSCALE:GREGORIAN
METHOD:PUBLISH
X-WR-CALNAME:Ballettschule Schoofs-Carell
X-ORIGINAL-URL:https://ballettschule-schoofs-carell.de
X-WR-CALDESC:Veranstaltungen für Ballettschule Schoofs-Carell
BEGIN:VTIMEZONE
TZID:Europe/Berlin
BEGIN:DAYLIGHT
TZOFFSETFROM:+0100
TZOFFSETTO:+0200
TZNAME:CEST
DTSTART:20270328T010000
END:DAYLIGHT
BEGIN:STANDARD
TZOFFSETFROM:+0200
TZOFFSETTO:+0100
TZNAME:CET
DTSTART:20271031T010000
END:STANDARD
END:VTIMEZONE
BEGIN:VEVENT
DTSTART;TZID=Europe/Berlin:20270913T163000
DTEND;TZID=Europe/Berlin:20270913T173000
DTSTAMP:20260424T103615
CREATED:20210728T064308Z
LAST-MODIFIED:20210728T064308Z
UID:20392-1820853000-1820856600@ballettschule-schoofs-carell.de
SUMMARY:Kinderballett I
DESCRIPTION:
URL:https://ballettschule-schoofs-carell.de/event/kinderballett-i-2/2027-09-13/
ATTACH;FMTTYPE=image/jpeg:https://ballettschule-schoofs-carell.de/wp-content/uploads/2021/02/ballet-3362678_1920.jpg
END:VEVENT
BEGIN:VEVENT
DTSTART;TZID=Europe/Berlin:20270916T163000
DTEND;TZID=Europe/Berlin:20270916T173000
DTSTAMP:20260424T103615
CREATED:20210728T064308Z
LAST-MODIFIED:20210728T064308Z
UID:20401-1821112200-1821115800@ballettschule-schoofs-carell.de
SUMMARY:Kinderballett I
DESCRIPTION:
URL:https://ballettschule-schoofs-carell.de/event/kinderballett-i-2/2027-09-16/
ATTACH;FMTTYPE=image/jpeg:https://ballettschule-schoofs-carell.de/wp-content/uploads/2021/02/ballet-3362678_1920.jpg
END:VEVENT
BEGIN:VEVENT
DTSTART;TZID=Europe/Berlin:20270920T163000
DTEND;TZID=Europe/Berlin:20270920T173000
DTSTAMP:20260424T103615
CREATED:20210728T064308Z
LAST-MODIFIED:20210728T064308Z
UID:20408-1821457800-1821461400@ballettschule-schoofs-carell.de
SUMMARY:Kinderballett I
DESCRIPTION:
URL:https://ballettschule-schoofs-carell.de/event/kinderballett-i-2/2027-09-20/
ATTACH;FMTTYPE=image/jpeg:https://ballettschule-schoofs-carell.de/wp-content/uploads/2021/02/ballet-3362678_1920.jpg
END:VEVENT
BEGIN:VEVENT
DTSTART;TZID=Europe/Berlin:20270923T163000
DTEND;TZID=Europe/Berlin:20270923T173000
DTSTAMP:20260424T103615
CREATED:20210728T064308Z
LAST-MODIFIED:20210728T064308Z
UID:20417-1821717000-1821720600@ballettschule-schoofs-carell.de
SUMMARY:Kinderballett I
DESCRIPTION:
URL:https://ballettschule-schoofs-carell.de/event/kinderballett-i-2/2027-09-23/
ATTACH;FMTTYPE=image/jpeg:https://ballettschule-schoofs-carell.de/wp-content/uploads/2021/02/ballet-3362678_1920.jpg
END:VEVENT
BEGIN:VEVENT
DTSTART;TZID=Europe/Berlin:20270927T163000
DTEND;TZID=Europe/Berlin:20270927T173000
DTSTAMP:20260424T103615
CREATED:20210728T064308Z
LAST-MODIFIED:20210728T064308Z
UID:20424-1822062600-1822066200@ballettschule-schoofs-carell.de
SUMMARY:Kinderballett I
DESCRIPTION:
URL:https://ballettschule-schoofs-carell.de/event/kinderballett-i-2/2027-09-27/
ATTACH;FMTTYPE=image/jpeg:https://ballettschule-schoofs-carell.de/wp-content/uploads/2021/02/ballet-3362678_1920.jpg
END:VEVENT
BEGIN:VEVENT
DTSTART;TZID=Europe/Berlin:20270930T163000
DTEND;TZID=Europe/Berlin:20270930T173000
DTSTAMP:20260424T103615
CREATED:20210728T064308Z
LAST-MODIFIED:20210728T064308Z
UID:20434-1822321800-1822325400@ballettschule-schoofs-carell.de
SUMMARY:Kinderballett I
DESCRIPTION:
URL:https://ballettschule-schoofs-carell.de/event/kinderballett-i-2/2027-09-30/
ATTACH;FMTTYPE=image/jpeg:https://ballettschule-schoofs-carell.de/wp-content/uploads/2021/02/ballet-3362678_1920.jpg
END:VEVENT
BEGIN:VEVENT
DTSTART;TZID=Europe/Berlin:20271004T163000
DTEND;TZID=Europe/Berlin:20271004T173000
DTSTAMP:20260424T103615
CREATED:20210728T064308Z
LAST-MODIFIED:20210728T064308Z
UID:20439-1822667400-1822671000@ballettschule-schoofs-carell.de
SUMMARY:Kinderballett I
DESCRIPTION:
URL:https://ballettschule-schoofs-carell.de/event/kinderballett-i-2/2027-10-04/
ATTACH;FMTTYPE=image/jpeg:https://ballettschule-schoofs-carell.de/wp-content/uploads/2021/02/ballet-3362678_1920.jpg
END:VEVENT
BEGIN:VEVENT
DTSTART;TZID=Europe/Berlin:20271007T163000
DTEND;TZID=Europe/Berlin:20271007T173000
DTSTAMP:20260424T103615
CREATED:20210728T064308Z
LAST-MODIFIED:20210728T064308Z
UID:20450-1822926600-1822930200@ballettschule-schoofs-carell.de
SUMMARY:Kinderballett I
DESCRIPTION:
URL:https://ballettschule-schoofs-carell.de/event/kinderballett-i-2/2027-10-07/
ATTACH;FMTTYPE=image/jpeg:https://ballettschule-schoofs-carell.de/wp-content/uploads/2021/02/ballet-3362678_1920.jpg
END:VEVENT
BEGIN:VEVENT
DTSTART;TZID=Europe/Berlin:20271011T163000
DTEND;TZID=Europe/Berlin:20271011T173000
DTSTAMP:20260424T103615
CREATED:20210728T064308Z
LAST-MODIFIED:20210728T064308Z
UID:20469-1823272200-1823275800@ballettschule-schoofs-carell.de
SUMMARY:Kinderballett I
DESCRIPTION:
URL:https://ballettschule-schoofs-carell.de/event/kinderballett-i-2/2027-10-11/
ATTACH;FMTTYPE=image/jpeg:https://ballettschule-schoofs-carell.de/wp-content/uploads/2021/02/ballet-3362678_1920.jpg
END:VEVENT
BEGIN:VEVENT
DTSTART;TZID=Europe/Berlin:20271014T163000
DTEND;TZID=Europe/Berlin:20271014T173000
DTSTAMP:20260424T103615
CREATED:20210728T064308Z
LAST-MODIFIED:20210728T064308Z
UID:20480-1823531400-1823535000@ballettschule-schoofs-carell.de
SUMMARY:Kinderballett I
DESCRIPTION:
URL:https://ballettschule-schoofs-carell.de/event/kinderballett-i-2/2027-10-14/
ATTACH;FMTTYPE=image/jpeg:https://ballettschule-schoofs-carell.de/wp-content/uploads/2021/02/ballet-3362678_1920.jpg
END:VEVENT
BEGIN:VEVENT
DTSTART;TZID=Europe/Berlin:20271018T163000
DTEND;TZID=Europe/Berlin:20271018T173000
DTSTAMP:20260424T103615
CREATED:20210728T064308Z
LAST-MODIFIED:20210728T064308Z
UID:20485-1823877000-1823880600@ballettschule-schoofs-carell.de
SUMMARY:Kinderballett I
DESCRIPTION:
URL:https://ballettschule-schoofs-carell.de/event/kinderballett-i-2/2027-10-18/
ATTACH;FMTTYPE=image/jpeg:https://ballettschule-schoofs-carell.de/wp-content/uploads/2021/02/ballet-3362678_1920.jpg
END:VEVENT
BEGIN:VEVENT
DTSTART;TZID=Europe/Berlin:20271021T163000
DTEND;TZID=Europe/Berlin:20271021T173000
DTSTAMP:20260424T103615
CREATED:20210728T064308Z
LAST-MODIFIED:20210728T064308Z
UID:20496-1824136200-1824139800@ballettschule-schoofs-carell.de
SUMMARY:Kinderballett I
DESCRIPTION:
URL:https://ballettschule-schoofs-carell.de/event/kinderballett-i-2/2027-10-21/
ATTACH;FMTTYPE=image/jpeg:https://ballettschule-schoofs-carell.de/wp-content/uploads/2021/02/ballet-3362678_1920.jpg
END:VEVENT
BEGIN:VEVENT
DTSTART;TZID=Europe/Berlin:20271025T163000
DTEND;TZID=Europe/Berlin:20271025T173000
DTSTAMP:20260424T103615
CREATED:20210728T064308Z
LAST-MODIFIED:20210728T064308Z
UID:20501-1824481800-1824485400@ballettschule-schoofs-carell.de
SUMMARY:Kinderballett I
DESCRIPTION:
URL:https://ballettschule-schoofs-carell.de/event/kinderballett-i-2/2027-10-25/
ATTACH;FMTTYPE=image/jpeg:https://ballettschule-schoofs-carell.de/wp-content/uploads/2021/02/ballet-3362678_1920.jpg
END:VEVENT
BEGIN:VEVENT
DTSTART;TZID=Europe/Berlin:20271028T163000
DTEND;TZID=Europe/Berlin:20271028T173000
DTSTAMP:20260424T103615
CREATED:20210728T064308Z
LAST-MODIFIED:20210728T064308Z
UID:20512-1824741000-1824744600@ballettschule-schoofs-carell.de
SUMMARY:Kinderballett I
DESCRIPTION:
URL:https://ballettschule-schoofs-carell.de/event/kinderballett-i-2/2027-10-28/
ATTACH;FMTTYPE=image/jpeg:https://ballettschule-schoofs-carell.de/wp-content/uploads/2021/02/ballet-3362678_1920.jpg
END:VEVENT
BEGIN:VEVENT
DTSTART;TZID=Europe/Berlin:20271101T163000
DTEND;TZID=Europe/Berlin:20271101T173000
DTSTAMP:20260424T103615
CREATED:20210728T064308Z
LAST-MODIFIED:20210728T064308Z
UID:20517-1825086600-1825090200@ballettschule-schoofs-carell.de
SUMMARY:Kinderballett I
DESCRIPTION:
URL:https://ballettschule-schoofs-carell.de/event/kinderballett-i-2/2027-11-01/
ATTACH;FMTTYPE=image/jpeg:https://ballettschule-schoofs-carell.de/wp-content/uploads/2021/02/ballet-3362678_1920.jpg
END:VEVENT
BEGIN:VEVENT
DTSTART;TZID=Europe/Berlin:20271104T163000
DTEND;TZID=Europe/Berlin:20271104T173000
DTSTAMP:20260424T103615
CREATED:20210728T064308Z
LAST-MODIFIED:20210728T064308Z
UID:20528-1825345800-1825349400@ballettschule-schoofs-carell.de
SUMMARY:Kinderballett I
DESCRIPTION:
URL:https://ballettschule-schoofs-carell.de/event/kinderballett-i-2/2027-11-04/
ATTACH;FMTTYPE=image/jpeg:https://ballettschule-schoofs-carell.de/wp-content/uploads/2021/02/ballet-3362678_1920.jpg
END:VEVENT
BEGIN:VEVENT
DTSTART;TZID=Europe/Berlin:20271108T163000
DTEND;TZID=Europe/Berlin:20271108T173000
DTSTAMP:20260424T103615
CREATED:20210728T064308Z
LAST-MODIFIED:20210728T064308Z
UID:20533-1825691400-1825695000@ballettschule-schoofs-carell.de
SUMMARY:Kinderballett I
DESCRIPTION:
URL:https://ballettschule-schoofs-carell.de/event/kinderballett-i-2/2027-11-08/
ATTACH;FMTTYPE=image/jpeg:https://ballettschule-schoofs-carell.de/wp-content/uploads/2021/02/ballet-3362678_1920.jpg
END:VEVENT
BEGIN:VEVENT
DTSTART;TZID=Europe/Berlin:20271111T163000
DTEND;TZID=Europe/Berlin:20271111T173000
DTSTAMP:20260424T103615
CREATED:20210728T064308Z
LAST-MODIFIED:20210728T064308Z
UID:20544-1825950600-1825954200@ballettschule-schoofs-carell.de
SUMMARY:Kinderballett I
DESCRIPTION:
URL:https://ballettschule-schoofs-carell.de/event/kinderballett-i-2/2027-11-11/
ATTACH;FMTTYPE=image/jpeg:https://ballettschule-schoofs-carell.de/wp-content/uploads/2021/02/ballet-3362678_1920.jpg
END:VEVENT
BEGIN:VEVENT
DTSTART;TZID=Europe/Berlin:20271115T163000
DTEND;TZID=Europe/Berlin:20271115T173000
DTSTAMP:20260424T103615
CREATED:20210728T064308Z
LAST-MODIFIED:20210728T064308Z
UID:20549-1826296200-1826299800@ballettschule-schoofs-carell.de
SUMMARY:Kinderballett I
DESCRIPTION:
URL:https://ballettschule-schoofs-carell.de/event/kinderballett-i-2/2027-11-15/
ATTACH;FMTTYPE=image/jpeg:https://ballettschule-schoofs-carell.de/wp-content/uploads/2021/02/ballet-3362678_1920.jpg
END:VEVENT
BEGIN:VEVENT
DTSTART;TZID=Europe/Berlin:20271118T163000
DTEND;TZID=Europe/Berlin:20271118T173000
DTSTAMP:20260424T103615
CREATED:20210728T064308Z
LAST-MODIFIED:20210728T064308Z
UID:20560-1826555400-1826559000@ballettschule-schoofs-carell.de
SUMMARY:Kinderballett I
DESCRIPTION:
URL:https://ballettschule-schoofs-carell.de/event/kinderballett-i-2/2027-11-18/
ATTACH;FMTTYPE=image/jpeg:https://ballettschule-schoofs-carell.de/wp-content/uploads/2021/02/ballet-3362678_1920.jpg
END:VEVENT
BEGIN:VEVENT
DTSTART;TZID=Europe/Berlin:20271122T163000
DTEND;TZID=Europe/Berlin:20271122T173000
DTSTAMP:20260424T103615
CREATED:20210728T064308Z
LAST-MODIFIED:20210728T064308Z
UID:20565-1826901000-1826904600@ballettschule-schoofs-carell.de
SUMMARY:Kinderballett I
DESCRIPTION:
URL:https://ballettschule-schoofs-carell.de/event/kinderballett-i-2/2027-11-22/
ATTACH;FMTTYPE=image/jpeg:https://ballettschule-schoofs-carell.de/wp-content/uploads/2021/02/ballet-3362678_1920.jpg
END:VEVENT
BEGIN:VEVENT
DTSTART;TZID=Europe/Berlin:20271125T163000
DTEND;TZID=Europe/Berlin:20271125T173000
DTSTAMP:20260424T103615
CREATED:20210728T064308Z
LAST-MODIFIED:20210728T064308Z
UID:20576-1827160200-1827163800@ballettschule-schoofs-carell.de
SUMMARY:Kinderballett I
DESCRIPTION:
URL:https://ballettschule-schoofs-carell.de/event/kinderballett-i-2/2027-11-25/
ATTACH;FMTTYPE=image/jpeg:https://ballettschule-schoofs-carell.de/wp-content/uploads/2021/02/ballet-3362678_1920.jpg
END:VEVENT
BEGIN:VEVENT
DTSTART;TZID=Europe/Berlin:20271129T163000
DTEND;TZID=Europe/Berlin:20271129T173000
DTSTAMP:20260424T103615
CREATED:20210728T064308Z
LAST-MODIFIED:20210728T064308Z
UID:20581-1827505800-1827509400@ballettschule-schoofs-carell.de
SUMMARY:Kinderballett I
DESCRIPTION:
URL:https://ballettschule-schoofs-carell.de/event/kinderballett-i-2/2027-11-29/
ATTACH;FMTTYPE=image/jpeg:https://ballettschule-schoofs-carell.de/wp-content/uploads/2021/02/ballet-3362678_1920.jpg
END:VEVENT
BEGIN:VEVENT
DTSTART;TZID=Europe/Berlin:20271202T163000
DTEND;TZID=Europe/Berlin:20271202T173000
DTSTAMP:20260424T103615
CREATED:20210728T064308Z
LAST-MODIFIED:20210728T064308Z
UID:20592-1827765000-1827768600@ballettschule-schoofs-carell.de
SUMMARY:Kinderballett I
DESCRIPTION:
URL:https://ballettschule-schoofs-carell.de/event/kinderballett-i-2/2027-12-02/
ATTACH;FMTTYPE=image/jpeg:https://ballettschule-schoofs-carell.de/wp-content/uploads/2021/02/ballet-3362678_1920.jpg
END:VEVENT
BEGIN:VEVENT
DTSTART;TZID=Europe/Berlin:20271206T163000
DTEND;TZID=Europe/Berlin:20271206T173000
DTSTAMP:20260424T103615
CREATED:20210728T064308Z
LAST-MODIFIED:20210728T064308Z
UID:20597-1828110600-1828114200@ballettschule-schoofs-carell.de
SUMMARY:Kinderballett I
DESCRIPTION:
URL:https://ballettschule-schoofs-carell.de/event/kinderballett-i-2/2027-12-06/
ATTACH;FMTTYPE=image/jpeg:https://ballettschule-schoofs-carell.de/wp-content/uploads/2021/02/ballet-3362678_1920.jpg
END:VEVENT
BEGIN:VEVENT
DTSTART;TZID=Europe/Berlin:20271209T163000
DTEND;TZID=Europe/Berlin:20271209T173000
DTSTAMP:20260424T103615
CREATED:20210728T064308Z
LAST-MODIFIED:20210728T064308Z
UID:20607-1828369800-1828373400@ballettschule-schoofs-carell.de
SUMMARY:Kinderballett I
DESCRIPTION:
URL:https://ballettschule-schoofs-carell.de/event/kinderballett-i-2/2027-12-09/
ATTACH;FMTTYPE=image/jpeg:https://ballettschule-schoofs-carell.de/wp-content/uploads/2021/02/ballet-3362678_1920.jpg
END:VEVENT
BEGIN:VEVENT
DTSTART;TZID=Europe/Berlin:20271213T163000
DTEND;TZID=Europe/Berlin:20271213T173000
DTSTAMP:20260424T103615
CREATED:20210728T064308Z
LAST-MODIFIED:20210728T064308Z
UID:20614-1828715400-1828719000@ballettschule-schoofs-carell.de
SUMMARY:Kinderballett I
DESCRIPTION:
URL:https://ballettschule-schoofs-carell.de/event/kinderballett-i-2/2027-12-13/
ATTACH;FMTTYPE=image/jpeg:https://ballettschule-schoofs-carell.de/wp-content/uploads/2021/02/ballet-3362678_1920.jpg
END:VEVENT
BEGIN:VEVENT
DTSTART;TZID=Europe/Berlin:20271216T163000
DTEND;TZID=Europe/Berlin:20271216T173000
DTSTAMP:20260424T103615
CREATED:20210728T064308Z
LAST-MODIFIED:20210728T064308Z
UID:20623-1828974600-1828978200@ballettschule-schoofs-carell.de
SUMMARY:Kinderballett I
DESCRIPTION:
URL:https://ballettschule-schoofs-carell.de/event/kinderballett-i-2/2027-12-16/
ATTACH;FMTTYPE=image/jpeg:https://ballettschule-schoofs-carell.de/wp-content/uploads/2021/02/ballet-3362678_1920.jpg
END:VEVENT
BEGIN:VEVENT
DTSTART;TZID=Europe/Berlin:20271220T163000
DTEND;TZID=Europe/Berlin:20271220T173000
DTSTAMP:20260424T103615
CREATED:20210728T064308Z
LAST-MODIFIED:20210728T064308Z
UID:20652-1829320200-1829323800@ballettschule-schoofs-carell.de
SUMMARY:Kinderballett I
DESCRIPTION:
URL:https://ballettschule-schoofs-carell.de/event/kinderballett-i-2/2027-12-20/
ATTACH;FMTTYPE=image/jpeg:https://ballettschule-schoofs-carell.de/wp-content/uploads/2021/02/ballet-3362678_1920.jpg
END:VEVENT
BEGIN:VEVENT
DTSTART;TZID=Europe/Berlin:20271223T163000
DTEND;TZID=Europe/Berlin:20271223T173000
DTSTAMP:20260424T103615
CREATED:20210728T064308Z
LAST-MODIFIED:20210728T064308Z
UID:20661-1829579400-1829583000@ballettschule-schoofs-carell.de
SUMMARY:Kinderballett I
DESCRIPTION:
URL:https://ballettschule-schoofs-carell.de/event/kinderballett-i-2/2027-12-23/
ATTACH;FMTTYPE=image/jpeg:https://ballettschule-schoofs-carell.de/wp-content/uploads/2021/02/ballet-3362678_1920.jpg
END:VEVENT
END:VCALENDAR