BEGIN:VCALENDAR
VERSION:2.0
PRODID:-//Ballettschule Schoofs-Carell - ECPv5.11.0//NONSGML v1.0//EN
CALSCALE:GREGORIAN
METHOD:PUBLISH
X-WR-CALNAME:Ballettschule Schoofs-Carell
X-ORIGINAL-URL:https://ballettschule-schoofs-carell.de
X-WR-CALDESC:Veranstaltungen für Ballettschule Schoofs-Carell
BEGIN:VTIMEZONE
TZID:Europe/Berlin
BEGIN:DAYLIGHT
TZOFFSETFROM:+0100
TZOFFSETTO:+0200
TZNAME:CEST
DTSTART:20260329T010000
END:DAYLIGHT
BEGIN:STANDARD
TZOFFSETFROM:+0200
TZOFFSETTO:+0100
TZNAME:CET
DTSTART:20261025T010000
END:STANDARD
BEGIN:DAYLIGHT
TZOFFSETFROM:+0100
TZOFFSETTO:+0200
TZNAME:CEST
DTSTART:20270328T010000
END:DAYLIGHT
BEGIN:STANDARD
TZOFFSETFROM:+0200
TZOFFSETTO:+0100
TZNAME:CET
DTSTART:20271031T010000
END:STANDARD
END:VTIMEZONE
BEGIN:VEVENT
DTSTART;TZID=Europe/Berlin:20261012T190000
DTEND;TZID=Europe/Berlin:20261012T203000
DTSTAMP:20260423T232517
CREATED:20210527T230748Z
LAST-MODIFIED:20210527T230748Z
UID:19395-1791831600-1791837000@ballettschule-schoofs-carell.de
SUMMARY: Ballett für Jugendliche und Erwachsene Einsteiger
DESCRIPTION:Ballett für Erwachsene (Einsteiger) \nHier wird eine klassische Ballettstunde vorbereitet. \nErlerntes wird in leichte Kombinationen umgesetzt. \n 
URL:https://ballettschule-schoofs-carell.de/event/ballett-fuer-jugendliche-und-erwachsene-einsteiger/2026-10-12/
LOCATION:In der Ballettschule\, Sallingerstr.13-15\, Donauwörth\, Bayern\, 86609\, Deutschland
ATTACH;FMTTYPE=image/jpeg:https://ballettschule-schoofs-carell.de/wp-content/uploads/2021/02/Design-ohne-Titel-2.jpg
ORGANIZER;CN="Alexander%20Schoofs-Carell":MAILTO:info@ballettschule-schoofs-carell.de
END:VEVENT
BEGIN:VEVENT
DTSTART;TZID=Europe/Berlin:20261019T190000
DTEND;TZID=Europe/Berlin:20261019T203000
DTSTAMP:20260423T232517
CREATED:20210527T230748Z
LAST-MODIFIED:20210527T230748Z
UID:19418-1792436400-1792441800@ballettschule-schoofs-carell.de
SUMMARY: Ballett für Jugendliche und Erwachsene Einsteiger
DESCRIPTION:Ballett für Erwachsene (Einsteiger) \nHier wird eine klassische Ballettstunde vorbereitet. \nErlerntes wird in leichte Kombinationen umgesetzt. \n 
URL:https://ballettschule-schoofs-carell.de/event/ballett-fuer-jugendliche-und-erwachsene-einsteiger/2026-10-19/
LOCATION:In der Ballettschule\, Sallingerstr.13-15\, Donauwörth\, Bayern\, 86609\, Deutschland
ATTACH;FMTTYPE=image/jpeg:https://ballettschule-schoofs-carell.de/wp-content/uploads/2021/02/Design-ohne-Titel-2.jpg
ORGANIZER;CN="Alexander%20Schoofs-Carell":MAILTO:info@ballettschule-schoofs-carell.de
END:VEVENT
BEGIN:VEVENT
DTSTART;TZID=Europe/Berlin:20261026T190000
DTEND;TZID=Europe/Berlin:20261026T203000
DTSTAMP:20260423T232517
CREATED:20210527T230748Z
LAST-MODIFIED:20210527T230748Z
UID:19433-1793041200-1793046600@ballettschule-schoofs-carell.de
SUMMARY: Ballett für Jugendliche und Erwachsene Einsteiger
DESCRIPTION:Ballett für Erwachsene (Einsteiger) \nHier wird eine klassische Ballettstunde vorbereitet. \nErlerntes wird in leichte Kombinationen umgesetzt. \n 
URL:https://ballettschule-schoofs-carell.de/event/ballett-fuer-jugendliche-und-erwachsene-einsteiger/2026-10-26/
LOCATION:In der Ballettschule\, Sallingerstr.13-15\, Donauwörth\, Bayern\, 86609\, Deutschland
ATTACH;FMTTYPE=image/jpeg:https://ballettschule-schoofs-carell.de/wp-content/uploads/2021/02/Design-ohne-Titel-2.jpg
ORGANIZER;CN="Alexander%20Schoofs-Carell":MAILTO:info@ballettschule-schoofs-carell.de
END:VEVENT
BEGIN:VEVENT
DTSTART;TZID=Europe/Berlin:20261102T190000
DTEND;TZID=Europe/Berlin:20261102T203000
DTSTAMP:20260423T232517
CREATED:20210527T230748Z
LAST-MODIFIED:20210527T230748Z
UID:19448-1793646000-1793651400@ballettschule-schoofs-carell.de
SUMMARY: Ballett für Jugendliche und Erwachsene Einsteiger
DESCRIPTION:Ballett für Erwachsene (Einsteiger) \nHier wird eine klassische Ballettstunde vorbereitet. \nErlerntes wird in leichte Kombinationen umgesetzt. \n 
URL:https://ballettschule-schoofs-carell.de/event/ballett-fuer-jugendliche-und-erwachsene-einsteiger/2026-11-02/
LOCATION:In der Ballettschule\, Sallingerstr.13-15\, Donauwörth\, Bayern\, 86609\, Deutschland
ATTACH;FMTTYPE=image/jpeg:https://ballettschule-schoofs-carell.de/wp-content/uploads/2021/02/Design-ohne-Titel-2.jpg
ORGANIZER;CN="Alexander%20Schoofs-Carell":MAILTO:info@ballettschule-schoofs-carell.de
END:VEVENT
BEGIN:VEVENT
DTSTART;TZID=Europe/Berlin:20261109T190000
DTEND;TZID=Europe/Berlin:20261109T203000
DTSTAMP:20260423T232517
CREATED:20210527T230748Z
LAST-MODIFIED:20210527T230748Z
UID:19463-1794250800-1794256200@ballettschule-schoofs-carell.de
SUMMARY: Ballett für Jugendliche und Erwachsene Einsteiger
DESCRIPTION:Ballett für Erwachsene (Einsteiger) \nHier wird eine klassische Ballettstunde vorbereitet. \nErlerntes wird in leichte Kombinationen umgesetzt. \n 
URL:https://ballettschule-schoofs-carell.de/event/ballett-fuer-jugendliche-und-erwachsene-einsteiger/2026-11-09/
LOCATION:In der Ballettschule\, Sallingerstr.13-15\, Donauwörth\, Bayern\, 86609\, Deutschland
ATTACH;FMTTYPE=image/jpeg:https://ballettschule-schoofs-carell.de/wp-content/uploads/2021/02/Design-ohne-Titel-2.jpg
ORGANIZER;CN="Alexander%20Schoofs-Carell":MAILTO:info@ballettschule-schoofs-carell.de
END:VEVENT
BEGIN:VEVENT
DTSTART;TZID=Europe/Berlin:20261116T190000
DTEND;TZID=Europe/Berlin:20261116T203000
DTSTAMP:20260423T232517
CREATED:20210527T230748Z
LAST-MODIFIED:20210527T230748Z
UID:19478-1794855600-1794861000@ballettschule-schoofs-carell.de
SUMMARY: Ballett für Jugendliche und Erwachsene Einsteiger
DESCRIPTION:Ballett für Erwachsene (Einsteiger) \nHier wird eine klassische Ballettstunde vorbereitet. \nErlerntes wird in leichte Kombinationen umgesetzt. \n 
URL:https://ballettschule-schoofs-carell.de/event/ballett-fuer-jugendliche-und-erwachsene-einsteiger/2026-11-16/
LOCATION:In der Ballettschule\, Sallingerstr.13-15\, Donauwörth\, Bayern\, 86609\, Deutschland
ATTACH;FMTTYPE=image/jpeg:https://ballettschule-schoofs-carell.de/wp-content/uploads/2021/02/Design-ohne-Titel-2.jpg
ORGANIZER;CN="Alexander%20Schoofs-Carell":MAILTO:info@ballettschule-schoofs-carell.de
END:VEVENT
BEGIN:VEVENT
DTSTART;TZID=Europe/Berlin:20261123T190000
DTEND;TZID=Europe/Berlin:20261123T203000
DTSTAMP:20260423T232517
CREATED:20210527T230748Z
LAST-MODIFIED:20210527T230748Z
UID:19493-1795460400-1795465800@ballettschule-schoofs-carell.de
SUMMARY: Ballett für Jugendliche und Erwachsene Einsteiger
DESCRIPTION:Ballett für Erwachsene (Einsteiger) \nHier wird eine klassische Ballettstunde vorbereitet. \nErlerntes wird in leichte Kombinationen umgesetzt. \n 
URL:https://ballettschule-schoofs-carell.de/event/ballett-fuer-jugendliche-und-erwachsene-einsteiger/2026-11-23/
LOCATION:In der Ballettschule\, Sallingerstr.13-15\, Donauwörth\, Bayern\, 86609\, Deutschland
ATTACH;FMTTYPE=image/jpeg:https://ballettschule-schoofs-carell.de/wp-content/uploads/2021/02/Design-ohne-Titel-2.jpg
ORGANIZER;CN="Alexander%20Schoofs-Carell":MAILTO:info@ballettschule-schoofs-carell.de
END:VEVENT
BEGIN:VEVENT
DTSTART;TZID=Europe/Berlin:20261130T190000
DTEND;TZID=Europe/Berlin:20261130T203000
DTSTAMP:20260423T232517
CREATED:20210527T230748Z
LAST-MODIFIED:20210527T230748Z
UID:19508-1796065200-1796070600@ballettschule-schoofs-carell.de
SUMMARY: Ballett für Jugendliche und Erwachsene Einsteiger
DESCRIPTION:Ballett für Erwachsene (Einsteiger) \nHier wird eine klassische Ballettstunde vorbereitet. \nErlerntes wird in leichte Kombinationen umgesetzt. \n 
URL:https://ballettschule-schoofs-carell.de/event/ballett-fuer-jugendliche-und-erwachsene-einsteiger/2026-11-30/
LOCATION:In der Ballettschule\, Sallingerstr.13-15\, Donauwörth\, Bayern\, 86609\, Deutschland
ATTACH;FMTTYPE=image/jpeg:https://ballettschule-schoofs-carell.de/wp-content/uploads/2021/02/Design-ohne-Titel-2.jpg
ORGANIZER;CN="Alexander%20Schoofs-Carell":MAILTO:info@ballettschule-schoofs-carell.de
END:VEVENT
BEGIN:VEVENT
DTSTART;TZID=Europe/Berlin:20261207T190000
DTEND;TZID=Europe/Berlin:20261207T203000
DTSTAMP:20260423T232517
CREATED:20210527T230748Z
LAST-MODIFIED:20210527T230748Z
UID:19523-1796670000-1796675400@ballettschule-schoofs-carell.de
SUMMARY: Ballett für Jugendliche und Erwachsene Einsteiger
DESCRIPTION:Ballett für Erwachsene (Einsteiger) \nHier wird eine klassische Ballettstunde vorbereitet. \nErlerntes wird in leichte Kombinationen umgesetzt. \n 
URL:https://ballettschule-schoofs-carell.de/event/ballett-fuer-jugendliche-und-erwachsene-einsteiger/2026-12-07/
LOCATION:In der Ballettschule\, Sallingerstr.13-15\, Donauwörth\, Bayern\, 86609\, Deutschland
ATTACH;FMTTYPE=image/jpeg:https://ballettschule-schoofs-carell.de/wp-content/uploads/2021/02/Design-ohne-Titel-2.jpg
ORGANIZER;CN="Alexander%20Schoofs-Carell":MAILTO:info@ballettschule-schoofs-carell.de
END:VEVENT
BEGIN:VEVENT
DTSTART;TZID=Europe/Berlin:20261214T190000
DTEND;TZID=Europe/Berlin:20261214T203000
DTSTAMP:20260423T232517
CREATED:20210527T230748Z
LAST-MODIFIED:20210527T230748Z
UID:19538-1797274800-1797280200@ballettschule-schoofs-carell.de
SUMMARY: Ballett für Jugendliche und Erwachsene Einsteiger
DESCRIPTION:Ballett für Erwachsene (Einsteiger) \nHier wird eine klassische Ballettstunde vorbereitet. \nErlerntes wird in leichte Kombinationen umgesetzt. \n 
URL:https://ballettschule-schoofs-carell.de/event/ballett-fuer-jugendliche-und-erwachsene-einsteiger/2026-12-14/
LOCATION:In der Ballettschule\, Sallingerstr.13-15\, Donauwörth\, Bayern\, 86609\, Deutschland
ATTACH;FMTTYPE=image/jpeg:https://ballettschule-schoofs-carell.de/wp-content/uploads/2021/02/Design-ohne-Titel-2.jpg
ORGANIZER;CN="Alexander%20Schoofs-Carell":MAILTO:info@ballettschule-schoofs-carell.de
END:VEVENT
BEGIN:VEVENT
DTSTART;TZID=Europe/Berlin:20261221T190000
DTEND;TZID=Europe/Berlin:20261221T203000
DTSTAMP:20260423T232517
CREATED:20210527T230748Z
LAST-MODIFIED:20210527T230748Z
UID:19553-1797879600-1797885000@ballettschule-schoofs-carell.de
SUMMARY: Ballett für Jugendliche und Erwachsene Einsteiger
DESCRIPTION:Ballett für Erwachsene (Einsteiger) \nHier wird eine klassische Ballettstunde vorbereitet. \nErlerntes wird in leichte Kombinationen umgesetzt. \n 
URL:https://ballettschule-schoofs-carell.de/event/ballett-fuer-jugendliche-und-erwachsene-einsteiger/2026-12-21/
LOCATION:In der Ballettschule\, Sallingerstr.13-15\, Donauwörth\, Bayern\, 86609\, Deutschland
ATTACH;FMTTYPE=image/jpeg:https://ballettschule-schoofs-carell.de/wp-content/uploads/2021/02/Design-ohne-Titel-2.jpg
ORGANIZER;CN="Alexander%20Schoofs-Carell":MAILTO:info@ballettschule-schoofs-carell.de
END:VEVENT
BEGIN:VEVENT
DTSTART;TZID=Europe/Berlin:20261228T190000
DTEND;TZID=Europe/Berlin:20261228T203000
DTSTAMP:20260423T232517
CREATED:20210527T230748Z
LAST-MODIFIED:20210527T230748Z
UID:19568-1798484400-1798489800@ballettschule-schoofs-carell.de
SUMMARY: Ballett für Jugendliche und Erwachsene Einsteiger
DESCRIPTION:Ballett für Erwachsene (Einsteiger) \nHier wird eine klassische Ballettstunde vorbereitet. \nErlerntes wird in leichte Kombinationen umgesetzt. \n 
URL:https://ballettschule-schoofs-carell.de/event/ballett-fuer-jugendliche-und-erwachsene-einsteiger/2026-12-28/
LOCATION:In der Ballettschule\, Sallingerstr.13-15\, Donauwörth\, Bayern\, 86609\, Deutschland
ATTACH;FMTTYPE=image/jpeg:https://ballettschule-schoofs-carell.de/wp-content/uploads/2021/02/Design-ohne-Titel-2.jpg
ORGANIZER;CN="Alexander%20Schoofs-Carell":MAILTO:info@ballettschule-schoofs-carell.de
END:VEVENT
BEGIN:VEVENT
DTSTART;TZID=Europe/Berlin:20270104T190000
DTEND;TZID=Europe/Berlin:20270104T203000
DTSTAMP:20260423T232517
CREATED:20210527T230748Z
LAST-MODIFIED:20210527T230748Z
UID:19583-1799089200-1799094600@ballettschule-schoofs-carell.de
SUMMARY: Ballett für Jugendliche und Erwachsene Einsteiger
DESCRIPTION:Ballett für Erwachsene (Einsteiger) \nHier wird eine klassische Ballettstunde vorbereitet. \nErlerntes wird in leichte Kombinationen umgesetzt. \n 
URL:https://ballettschule-schoofs-carell.de/event/ballett-fuer-jugendliche-und-erwachsene-einsteiger/2027-01-04/
LOCATION:In der Ballettschule\, Sallingerstr.13-15\, Donauwörth\, Bayern\, 86609\, Deutschland
ATTACH;FMTTYPE=image/jpeg:https://ballettschule-schoofs-carell.de/wp-content/uploads/2021/02/Design-ohne-Titel-2.jpg
ORGANIZER;CN="Alexander%20Schoofs-Carell":MAILTO:info@ballettschule-schoofs-carell.de
END:VEVENT
BEGIN:VEVENT
DTSTART;TZID=Europe/Berlin:20270111T190000
DTEND;TZID=Europe/Berlin:20270111T203000
DTSTAMP:20260423T232517
CREATED:20210527T230748Z
LAST-MODIFIED:20210527T230748Z
UID:19598-1799694000-1799699400@ballettschule-schoofs-carell.de
SUMMARY: Ballett für Jugendliche und Erwachsene Einsteiger
DESCRIPTION:Ballett für Erwachsene (Einsteiger) \nHier wird eine klassische Ballettstunde vorbereitet. \nErlerntes wird in leichte Kombinationen umgesetzt. \n 
URL:https://ballettschule-schoofs-carell.de/event/ballett-fuer-jugendliche-und-erwachsene-einsteiger/2027-01-11/
LOCATION:In der Ballettschule\, Sallingerstr.13-15\, Donauwörth\, Bayern\, 86609\, Deutschland
ATTACH;FMTTYPE=image/jpeg:https://ballettschule-schoofs-carell.de/wp-content/uploads/2021/02/Design-ohne-Titel-2.jpg
ORGANIZER;CN="Alexander%20Schoofs-Carell":MAILTO:info@ballettschule-schoofs-carell.de
END:VEVENT
BEGIN:VEVENT
DTSTART;TZID=Europe/Berlin:20270118T190000
DTEND;TZID=Europe/Berlin:20270118T203000
DTSTAMP:20260423T232517
CREATED:20210527T230748Z
LAST-MODIFIED:20210527T230748Z
UID:19613-1800298800-1800304200@ballettschule-schoofs-carell.de
SUMMARY: Ballett für Jugendliche und Erwachsene Einsteiger
DESCRIPTION:Ballett für Erwachsene (Einsteiger) \nHier wird eine klassische Ballettstunde vorbereitet. \nErlerntes wird in leichte Kombinationen umgesetzt. \n 
URL:https://ballettschule-schoofs-carell.de/event/ballett-fuer-jugendliche-und-erwachsene-einsteiger/2027-01-18/
LOCATION:In der Ballettschule\, Sallingerstr.13-15\, Donauwörth\, Bayern\, 86609\, Deutschland
ATTACH;FMTTYPE=image/jpeg:https://ballettschule-schoofs-carell.de/wp-content/uploads/2021/02/Design-ohne-Titel-2.jpg
ORGANIZER;CN="Alexander%20Schoofs-Carell":MAILTO:info@ballettschule-schoofs-carell.de
END:VEVENT
BEGIN:VEVENT
DTSTART;TZID=Europe/Berlin:20270125T190000
DTEND;TZID=Europe/Berlin:20270125T203000
DTSTAMP:20260423T232517
CREATED:20210527T230748Z
LAST-MODIFIED:20210527T230748Z
UID:19628-1800903600-1800909000@ballettschule-schoofs-carell.de
SUMMARY: Ballett für Jugendliche und Erwachsene Einsteiger
DESCRIPTION:Ballett für Erwachsene (Einsteiger) \nHier wird eine klassische Ballettstunde vorbereitet. \nErlerntes wird in leichte Kombinationen umgesetzt. \n 
URL:https://ballettschule-schoofs-carell.de/event/ballett-fuer-jugendliche-und-erwachsene-einsteiger/2027-01-25/
LOCATION:In der Ballettschule\, Sallingerstr.13-15\, Donauwörth\, Bayern\, 86609\, Deutschland
ATTACH;FMTTYPE=image/jpeg:https://ballettschule-schoofs-carell.de/wp-content/uploads/2021/02/Design-ohne-Titel-2.jpg
ORGANIZER;CN="Alexander%20Schoofs-Carell":MAILTO:info@ballettschule-schoofs-carell.de
END:VEVENT
BEGIN:VEVENT
DTSTART;TZID=Europe/Berlin:20270201T190000
DTEND;TZID=Europe/Berlin:20270201T203000
DTSTAMP:20260423T232517
CREATED:20210527T230748Z
LAST-MODIFIED:20210527T230748Z
UID:19863-1801508400-1801513800@ballettschule-schoofs-carell.de
SUMMARY: Ballett für Jugendliche und Erwachsene Einsteiger
DESCRIPTION:Ballett für Erwachsene (Einsteiger) \nHier wird eine klassische Ballettstunde vorbereitet. \nErlerntes wird in leichte Kombinationen umgesetzt. \n 
URL:https://ballettschule-schoofs-carell.de/event/ballett-fuer-jugendliche-und-erwachsene-einsteiger/2027-02-01/
LOCATION:In der Ballettschule\, Sallingerstr.13-15\, Donauwörth\, Bayern\, 86609\, Deutschland
ATTACH;FMTTYPE=image/jpeg:https://ballettschule-schoofs-carell.de/wp-content/uploads/2021/02/Design-ohne-Titel-2.jpg
ORGANIZER;CN="Alexander%20Schoofs-Carell":MAILTO:info@ballettschule-schoofs-carell.de
END:VEVENT
BEGIN:VEVENT
DTSTART;TZID=Europe/Berlin:20270208T190000
DTEND;TZID=Europe/Berlin:20270208T203000
DTSTAMP:20260423T232517
CREATED:20210527T230748Z
LAST-MODIFIED:20210527T230748Z
UID:19879-1802113200-1802118600@ballettschule-schoofs-carell.de
SUMMARY: Ballett für Jugendliche und Erwachsene Einsteiger
DESCRIPTION:Ballett für Erwachsene (Einsteiger) \nHier wird eine klassische Ballettstunde vorbereitet. \nErlerntes wird in leichte Kombinationen umgesetzt. \n 
URL:https://ballettschule-schoofs-carell.de/event/ballett-fuer-jugendliche-und-erwachsene-einsteiger/2027-02-08/
LOCATION:In der Ballettschule\, Sallingerstr.13-15\, Donauwörth\, Bayern\, 86609\, Deutschland
ATTACH;FMTTYPE=image/jpeg:https://ballettschule-schoofs-carell.de/wp-content/uploads/2021/02/Design-ohne-Titel-2.jpg
ORGANIZER;CN="Alexander%20Schoofs-Carell":MAILTO:info@ballettschule-schoofs-carell.de
END:VEVENT
BEGIN:VEVENT
DTSTART;TZID=Europe/Berlin:20270215T190000
DTEND;TZID=Europe/Berlin:20270215T203000
DTSTAMP:20260423T232517
CREATED:20210527T230748Z
LAST-MODIFIED:20210527T230748Z
UID:19895-1802718000-1802723400@ballettschule-schoofs-carell.de
SUMMARY: Ballett für Jugendliche und Erwachsene Einsteiger
DESCRIPTION:Ballett für Erwachsene (Einsteiger) \nHier wird eine klassische Ballettstunde vorbereitet. \nErlerntes wird in leichte Kombinationen umgesetzt. \n 
URL:https://ballettschule-schoofs-carell.de/event/ballett-fuer-jugendliche-und-erwachsene-einsteiger/2027-02-15/
LOCATION:In der Ballettschule\, Sallingerstr.13-15\, Donauwörth\, Bayern\, 86609\, Deutschland
ATTACH;FMTTYPE=image/jpeg:https://ballettschule-schoofs-carell.de/wp-content/uploads/2021/02/Design-ohne-Titel-2.jpg
ORGANIZER;CN="Alexander%20Schoofs-Carell":MAILTO:info@ballettschule-schoofs-carell.de
END:VEVENT
BEGIN:VEVENT
DTSTART;TZID=Europe/Berlin:20270222T190000
DTEND;TZID=Europe/Berlin:20270222T203000
DTSTAMP:20260423T232517
CREATED:20210527T230748Z
LAST-MODIFIED:20210527T230748Z
UID:19911-1803322800-1803328200@ballettschule-schoofs-carell.de
SUMMARY: Ballett für Jugendliche und Erwachsene Einsteiger
DESCRIPTION:Ballett für Erwachsene (Einsteiger) \nHier wird eine klassische Ballettstunde vorbereitet. \nErlerntes wird in leichte Kombinationen umgesetzt. \n 
URL:https://ballettschule-schoofs-carell.de/event/ballett-fuer-jugendliche-und-erwachsene-einsteiger/2027-02-22/
LOCATION:In der Ballettschule\, Sallingerstr.13-15\, Donauwörth\, Bayern\, 86609\, Deutschland
ATTACH;FMTTYPE=image/jpeg:https://ballettschule-schoofs-carell.de/wp-content/uploads/2021/02/Design-ohne-Titel-2.jpg
ORGANIZER;CN="Alexander%20Schoofs-Carell":MAILTO:info@ballettschule-schoofs-carell.de
END:VEVENT
BEGIN:VEVENT
DTSTART;TZID=Europe/Berlin:20270301T190000
DTEND;TZID=Europe/Berlin:20270301T203000
DTSTAMP:20260423T232517
CREATED:20210527T230748Z
LAST-MODIFIED:20210527T230748Z
UID:19927-1803927600-1803933000@ballettschule-schoofs-carell.de
SUMMARY: Ballett für Jugendliche und Erwachsene Einsteiger
DESCRIPTION:Ballett für Erwachsene (Einsteiger) \nHier wird eine klassische Ballettstunde vorbereitet. \nErlerntes wird in leichte Kombinationen umgesetzt. \n 
URL:https://ballettschule-schoofs-carell.de/event/ballett-fuer-jugendliche-und-erwachsene-einsteiger/2027-03-01/
LOCATION:In der Ballettschule\, Sallingerstr.13-15\, Donauwörth\, Bayern\, 86609\, Deutschland
ATTACH;FMTTYPE=image/jpeg:https://ballettschule-schoofs-carell.de/wp-content/uploads/2021/02/Design-ohne-Titel-2.jpg
ORGANIZER;CN="Alexander%20Schoofs-Carell":MAILTO:info@ballettschule-schoofs-carell.de
END:VEVENT
BEGIN:VEVENT
DTSTART;TZID=Europe/Berlin:20270308T190000
DTEND;TZID=Europe/Berlin:20270308T203000
DTSTAMP:20260423T232517
CREATED:20210527T230748Z
LAST-MODIFIED:20210527T230748Z
UID:19943-1804532400-1804537800@ballettschule-schoofs-carell.de
SUMMARY: Ballett für Jugendliche und Erwachsene Einsteiger
DESCRIPTION:Ballett für Erwachsene (Einsteiger) \nHier wird eine klassische Ballettstunde vorbereitet. \nErlerntes wird in leichte Kombinationen umgesetzt. \n 
URL:https://ballettschule-schoofs-carell.de/event/ballett-fuer-jugendliche-und-erwachsene-einsteiger/2027-03-08/
LOCATION:In der Ballettschule\, Sallingerstr.13-15\, Donauwörth\, Bayern\, 86609\, Deutschland
ATTACH;FMTTYPE=image/jpeg:https://ballettschule-schoofs-carell.de/wp-content/uploads/2021/02/Design-ohne-Titel-2.jpg
ORGANIZER;CN="Alexander%20Schoofs-Carell":MAILTO:info@ballettschule-schoofs-carell.de
END:VEVENT
BEGIN:VEVENT
DTSTART;TZID=Europe/Berlin:20270315T190000
DTEND;TZID=Europe/Berlin:20270315T203000
DTSTAMP:20260423T232517
CREATED:20210527T230748Z
LAST-MODIFIED:20210527T230748Z
UID:19959-1805137200-1805142600@ballettschule-schoofs-carell.de
SUMMARY: Ballett für Jugendliche und Erwachsene Einsteiger
DESCRIPTION:Ballett für Erwachsene (Einsteiger) \nHier wird eine klassische Ballettstunde vorbereitet. \nErlerntes wird in leichte Kombinationen umgesetzt. \n 
URL:https://ballettschule-schoofs-carell.de/event/ballett-fuer-jugendliche-und-erwachsene-einsteiger/2027-03-15/
LOCATION:In der Ballettschule\, Sallingerstr.13-15\, Donauwörth\, Bayern\, 86609\, Deutschland
ATTACH;FMTTYPE=image/jpeg:https://ballettschule-schoofs-carell.de/wp-content/uploads/2021/02/Design-ohne-Titel-2.jpg
ORGANIZER;CN="Alexander%20Schoofs-Carell":MAILTO:info@ballettschule-schoofs-carell.de
END:VEVENT
BEGIN:VEVENT
DTSTART;TZID=Europe/Berlin:20270322T190000
DTEND;TZID=Europe/Berlin:20270322T203000
DTSTAMP:20260423T232517
CREATED:20210527T230748Z
LAST-MODIFIED:20210527T230748Z
UID:19975-1805742000-1805747400@ballettschule-schoofs-carell.de
SUMMARY: Ballett für Jugendliche und Erwachsene Einsteiger
DESCRIPTION:Ballett für Erwachsene (Einsteiger) \nHier wird eine klassische Ballettstunde vorbereitet. \nErlerntes wird in leichte Kombinationen umgesetzt. \n 
URL:https://ballettschule-schoofs-carell.de/event/ballett-fuer-jugendliche-und-erwachsene-einsteiger/2027-03-22/
LOCATION:In der Ballettschule\, Sallingerstr.13-15\, Donauwörth\, Bayern\, 86609\, Deutschland
ATTACH;FMTTYPE=image/jpeg:https://ballettschule-schoofs-carell.de/wp-content/uploads/2021/02/Design-ohne-Titel-2.jpg
ORGANIZER;CN="Alexander%20Schoofs-Carell":MAILTO:info@ballettschule-schoofs-carell.de
END:VEVENT
BEGIN:VEVENT
DTSTART;TZID=Europe/Berlin:20270329T190000
DTEND;TZID=Europe/Berlin:20270329T203000
DTSTAMP:20260423T232517
CREATED:20210527T230748Z
LAST-MODIFIED:20210527T230748Z
UID:19995-1806346800-1806352200@ballettschule-schoofs-carell.de
SUMMARY: Ballett für Jugendliche und Erwachsene Einsteiger
DESCRIPTION:Ballett für Erwachsene (Einsteiger) \nHier wird eine klassische Ballettstunde vorbereitet. \nErlerntes wird in leichte Kombinationen umgesetzt. \n 
URL:https://ballettschule-schoofs-carell.de/event/ballett-fuer-jugendliche-und-erwachsene-einsteiger/2027-03-29/
LOCATION:In der Ballettschule\, Sallingerstr.13-15\, Donauwörth\, Bayern\, 86609\, Deutschland
ATTACH;FMTTYPE=image/jpeg:https://ballettschule-schoofs-carell.de/wp-content/uploads/2021/02/Design-ohne-Titel-2.jpg
ORGANIZER;CN="Alexander%20Schoofs-Carell":MAILTO:info@ballettschule-schoofs-carell.de
END:VEVENT
BEGIN:VEVENT
DTSTART;TZID=Europe/Berlin:20270405T190000
DTEND;TZID=Europe/Berlin:20270405T203000
DTSTAMP:20260423T232517
CREATED:20210527T230748Z
LAST-MODIFIED:20210527T230748Z
UID:20007-1806951600-1806957000@ballettschule-schoofs-carell.de
SUMMARY: Ballett für Jugendliche und Erwachsene Einsteiger
DESCRIPTION:Ballett für Erwachsene (Einsteiger) \nHier wird eine klassische Ballettstunde vorbereitet. \nErlerntes wird in leichte Kombinationen umgesetzt. \n 
URL:https://ballettschule-schoofs-carell.de/event/ballett-fuer-jugendliche-und-erwachsene-einsteiger/2027-04-05/
LOCATION:In der Ballettschule\, Sallingerstr.13-15\, Donauwörth\, Bayern\, 86609\, Deutschland
ATTACH;FMTTYPE=image/jpeg:https://ballettschule-schoofs-carell.de/wp-content/uploads/2021/02/Design-ohne-Titel-2.jpg
ORGANIZER;CN="Alexander%20Schoofs-Carell":MAILTO:info@ballettschule-schoofs-carell.de
END:VEVENT
BEGIN:VEVENT
DTSTART;TZID=Europe/Berlin:20270412T190000
DTEND;TZID=Europe/Berlin:20270412T203000
DTSTAMP:20260423T232517
CREATED:20210527T230748Z
LAST-MODIFIED:20210527T230748Z
UID:20023-1807556400-1807561800@ballettschule-schoofs-carell.de
SUMMARY: Ballett für Jugendliche und Erwachsene Einsteiger
DESCRIPTION:Ballett für Erwachsene (Einsteiger) \nHier wird eine klassische Ballettstunde vorbereitet. \nErlerntes wird in leichte Kombinationen umgesetzt. \n 
URL:https://ballettschule-schoofs-carell.de/event/ballett-fuer-jugendliche-und-erwachsene-einsteiger/2027-04-12/
LOCATION:In der Ballettschule\, Sallingerstr.13-15\, Donauwörth\, Bayern\, 86609\, Deutschland
ATTACH;FMTTYPE=image/jpeg:https://ballettschule-schoofs-carell.de/wp-content/uploads/2021/02/Design-ohne-Titel-2.jpg
ORGANIZER;CN="Alexander%20Schoofs-Carell":MAILTO:info@ballettschule-schoofs-carell.de
END:VEVENT
BEGIN:VEVENT
DTSTART;TZID=Europe/Berlin:20270419T190000
DTEND;TZID=Europe/Berlin:20270419T203000
DTSTAMP:20260423T232517
CREATED:20210527T230748Z
LAST-MODIFIED:20210527T230748Z
UID:20039-1808161200-1808166600@ballettschule-schoofs-carell.de
SUMMARY: Ballett für Jugendliche und Erwachsene Einsteiger
DESCRIPTION:Ballett für Erwachsene (Einsteiger) \nHier wird eine klassische Ballettstunde vorbereitet. \nErlerntes wird in leichte Kombinationen umgesetzt. \n 
URL:https://ballettschule-schoofs-carell.de/event/ballett-fuer-jugendliche-und-erwachsene-einsteiger/2027-04-19/
LOCATION:In der Ballettschule\, Sallingerstr.13-15\, Donauwörth\, Bayern\, 86609\, Deutschland
ATTACH;FMTTYPE=image/jpeg:https://ballettschule-schoofs-carell.de/wp-content/uploads/2021/02/Design-ohne-Titel-2.jpg
ORGANIZER;CN="Alexander%20Schoofs-Carell":MAILTO:info@ballettschule-schoofs-carell.de
END:VEVENT
BEGIN:VEVENT
DTSTART;TZID=Europe/Berlin:20270426T190000
DTEND;TZID=Europe/Berlin:20270426T203000
DTSTAMP:20260423T232517
CREATED:20210527T230748Z
LAST-MODIFIED:20210527T230748Z
UID:20055-1808766000-1808771400@ballettschule-schoofs-carell.de
SUMMARY: Ballett für Jugendliche und Erwachsene Einsteiger
DESCRIPTION:Ballett für Erwachsene (Einsteiger) \nHier wird eine klassische Ballettstunde vorbereitet. \nErlerntes wird in leichte Kombinationen umgesetzt. \n 
URL:https://ballettschule-schoofs-carell.de/event/ballett-fuer-jugendliche-und-erwachsene-einsteiger/2027-04-26/
LOCATION:In der Ballettschule\, Sallingerstr.13-15\, Donauwörth\, Bayern\, 86609\, Deutschland
ATTACH;FMTTYPE=image/jpeg:https://ballettschule-schoofs-carell.de/wp-content/uploads/2021/02/Design-ohne-Titel-2.jpg
ORGANIZER;CN="Alexander%20Schoofs-Carell":MAILTO:info@ballettschule-schoofs-carell.de
END:VEVENT
BEGIN:VEVENT
DTSTART;TZID=Europe/Berlin:20270503T190000
DTEND;TZID=Europe/Berlin:20270503T203000
DTSTAMP:20260423T232517
CREATED:20210527T230748Z
LAST-MODIFIED:20210527T230748Z
UID:20084-1809370800-1809376200@ballettschule-schoofs-carell.de
SUMMARY: Ballett für Jugendliche und Erwachsene Einsteiger
DESCRIPTION:Ballett für Erwachsene (Einsteiger) \nHier wird eine klassische Ballettstunde vorbereitet. \nErlerntes wird in leichte Kombinationen umgesetzt. \n 
URL:https://ballettschule-schoofs-carell.de/event/ballett-fuer-jugendliche-und-erwachsene-einsteiger/2027-05-03/
LOCATION:In der Ballettschule\, Sallingerstr.13-15\, Donauwörth\, Bayern\, 86609\, Deutschland
ATTACH;FMTTYPE=image/jpeg:https://ballettschule-schoofs-carell.de/wp-content/uploads/2021/02/Design-ohne-Titel-2.jpg
ORGANIZER;CN="Alexander%20Schoofs-Carell":MAILTO:info@ballettschule-schoofs-carell.de
END:VEVENT
END:VCALENDAR