BEGIN:VCALENDAR
VERSION:2.0
PRODID:-//Ballettschule Schoofs-Carell - ECPv5.11.0//NONSGML v1.0//EN
CALSCALE:GREGORIAN
METHOD:PUBLISH
X-WR-CALNAME:Ballettschule Schoofs-Carell
X-ORIGINAL-URL:https://ballettschule-schoofs-carell.de
X-WR-CALDESC:Veranstaltungen für Ballettschule Schoofs-Carell
BEGIN:VTIMEZONE
TZID:Europe/Berlin
BEGIN:DAYLIGHT
TZOFFSETFROM:+0100
TZOFFSETTO:+0200
TZNAME:CEST
DTSTART:20260329T010000
END:DAYLIGHT
BEGIN:STANDARD
TZOFFSETFROM:+0200
TZOFFSETTO:+0100
TZNAME:CET
DTSTART:20261025T010000
END:STANDARD
BEGIN:DAYLIGHT
TZOFFSETFROM:+0100
TZOFFSETTO:+0200
TZNAME:CEST
DTSTART:20270328T010000
END:DAYLIGHT
BEGIN:STANDARD
TZOFFSETFROM:+0200
TZOFFSETTO:+0100
TZNAME:CET
DTSTART:20271031T010000
END:STANDARD
END:VTIMEZONE
BEGIN:VEVENT
DTSTART;TZID=Europe/Berlin:20260717T183000
DTEND;TZID=Europe/Berlin:20260717T200000
DTSTAMP:20260423T213414
CREATED:20210528T002351Z
LAST-MODIFIED:20210528T002351Z
UID:19210-1784313000-1784318400@ballettschule-schoofs-carell.de
SUMMARY:Ballett für Erwachsene (Fortgeschritten I )
DESCRIPTION:Hier wird eine klassische Ballettstunde vorbereitet. \nErlerntes wird in fortgeschrittene Kombinationen umgesetzt. \n 
URL:https://ballettschule-schoofs-carell.de/event/ballett-fuer-erwachsene-fortgeschritten-i-2021-09-10/2026-07-17/
LOCATION:In der Ballettschule\, Sallingerstr.13-15\, Donauwörth\, Bayern\, 86609\, Deutschland
ATTACH;FMTTYPE=image/jpeg:https://ballettschule-schoofs-carell.de/wp-content/uploads/2021/02/Design-ohne-Titel-2.jpg
ORGANIZER;CN="Alexander%20Schoofs-Carell":MAILTO:info@ballettschule-schoofs-carell.de
END:VEVENT
BEGIN:VEVENT
DTSTART;TZID=Europe/Berlin:20260724T183000
DTEND;TZID=Europe/Berlin:20260724T200000
DTSTAMP:20260423T213414
CREATED:20210528T002351Z
LAST-MODIFIED:20210528T002351Z
UID:19225-1784917800-1784923200@ballettschule-schoofs-carell.de
SUMMARY:Ballett für Erwachsene (Fortgeschritten I )
DESCRIPTION:Hier wird eine klassische Ballettstunde vorbereitet. \nErlerntes wird in fortgeschrittene Kombinationen umgesetzt. \n 
URL:https://ballettschule-schoofs-carell.de/event/ballett-fuer-erwachsene-fortgeschritten-i-2021-09-10/2026-07-24/
LOCATION:In der Ballettschule\, Sallingerstr.13-15\, Donauwörth\, Bayern\, 86609\, Deutschland
ATTACH;FMTTYPE=image/jpeg:https://ballettschule-schoofs-carell.de/wp-content/uploads/2021/02/Design-ohne-Titel-2.jpg
ORGANIZER;CN="Alexander%20Schoofs-Carell":MAILTO:info@ballettschule-schoofs-carell.de
END:VEVENT
BEGIN:VEVENT
DTSTART;TZID=Europe/Berlin:20260731T183000
DTEND;TZID=Europe/Berlin:20260731T200000
DTSTAMP:20260423T213414
CREATED:20210528T002351Z
LAST-MODIFIED:20210528T002351Z
UID:19240-1785522600-1785528000@ballettschule-schoofs-carell.de
SUMMARY:Ballett für Erwachsene (Fortgeschritten I )
DESCRIPTION:Hier wird eine klassische Ballettstunde vorbereitet. \nErlerntes wird in fortgeschrittene Kombinationen umgesetzt. \n 
URL:https://ballettschule-schoofs-carell.de/event/ballett-fuer-erwachsene-fortgeschritten-i-2021-09-10/2026-07-31/
LOCATION:In der Ballettschule\, Sallingerstr.13-15\, Donauwörth\, Bayern\, 86609\, Deutschland
ATTACH;FMTTYPE=image/jpeg:https://ballettschule-schoofs-carell.de/wp-content/uploads/2021/02/Design-ohne-Titel-2.jpg
ORGANIZER;CN="Alexander%20Schoofs-Carell":MAILTO:info@ballettschule-schoofs-carell.de
END:VEVENT
BEGIN:VEVENT
DTSTART;TZID=Europe/Berlin:20260807T183000
DTEND;TZID=Europe/Berlin:20260807T200000
DTSTAMP:20260423T213414
CREATED:20210528T002351Z
LAST-MODIFIED:20210528T002351Z
UID:19255-1786127400-1786132800@ballettschule-schoofs-carell.de
SUMMARY:Ballett für Erwachsene (Fortgeschritten I )
DESCRIPTION:Hier wird eine klassische Ballettstunde vorbereitet. \nErlerntes wird in fortgeschrittene Kombinationen umgesetzt. \n 
URL:https://ballettschule-schoofs-carell.de/event/ballett-fuer-erwachsene-fortgeschritten-i-2021-09-10/2026-08-07/
LOCATION:In der Ballettschule\, Sallingerstr.13-15\, Donauwörth\, Bayern\, 86609\, Deutschland
ATTACH;FMTTYPE=image/jpeg:https://ballettschule-schoofs-carell.de/wp-content/uploads/2021/02/Design-ohne-Titel-2.jpg
ORGANIZER;CN="Alexander%20Schoofs-Carell":MAILTO:info@ballettschule-schoofs-carell.de
END:VEVENT
BEGIN:VEVENT
DTSTART;TZID=Europe/Berlin:20260814T183000
DTEND;TZID=Europe/Berlin:20260814T200000
DTSTAMP:20260423T213414
CREATED:20210528T002351Z
LAST-MODIFIED:20210528T002351Z
UID:19270-1786732200-1786737600@ballettschule-schoofs-carell.de
SUMMARY:Ballett für Erwachsene (Fortgeschritten I )
DESCRIPTION:Hier wird eine klassische Ballettstunde vorbereitet. \nErlerntes wird in fortgeschrittene Kombinationen umgesetzt. \n 
URL:https://ballettschule-schoofs-carell.de/event/ballett-fuer-erwachsene-fortgeschritten-i-2021-09-10/2026-08-14/
LOCATION:In der Ballettschule\, Sallingerstr.13-15\, Donauwörth\, Bayern\, 86609\, Deutschland
ATTACH;FMTTYPE=image/jpeg:https://ballettschule-schoofs-carell.de/wp-content/uploads/2021/02/Design-ohne-Titel-2.jpg
ORGANIZER;CN="Alexander%20Schoofs-Carell":MAILTO:info@ballettschule-schoofs-carell.de
END:VEVENT
BEGIN:VEVENT
DTSTART;TZID=Europe/Berlin:20260821T183000
DTEND;TZID=Europe/Berlin:20260821T200000
DTSTAMP:20260423T213414
CREATED:20210528T002351Z
LAST-MODIFIED:20210528T002351Z
UID:19285-1787337000-1787342400@ballettschule-schoofs-carell.de
SUMMARY:Ballett für Erwachsene (Fortgeschritten I )
DESCRIPTION:Hier wird eine klassische Ballettstunde vorbereitet. \nErlerntes wird in fortgeschrittene Kombinationen umgesetzt. \n 
URL:https://ballettschule-schoofs-carell.de/event/ballett-fuer-erwachsene-fortgeschritten-i-2021-09-10/2026-08-21/
LOCATION:In der Ballettschule\, Sallingerstr.13-15\, Donauwörth\, Bayern\, 86609\, Deutschland
ATTACH;FMTTYPE=image/jpeg:https://ballettschule-schoofs-carell.de/wp-content/uploads/2021/02/Design-ohne-Titel-2.jpg
ORGANIZER;CN="Alexander%20Schoofs-Carell":MAILTO:info@ballettschule-schoofs-carell.de
END:VEVENT
BEGIN:VEVENT
DTSTART;TZID=Europe/Berlin:20260828T183000
DTEND;TZID=Europe/Berlin:20260828T200000
DTSTAMP:20260423T213414
CREATED:20210528T002351Z
LAST-MODIFIED:20210528T002351Z
UID:19300-1787941800-1787947200@ballettschule-schoofs-carell.de
SUMMARY:Ballett für Erwachsene (Fortgeschritten I )
DESCRIPTION:Hier wird eine klassische Ballettstunde vorbereitet. \nErlerntes wird in fortgeschrittene Kombinationen umgesetzt. \n 
URL:https://ballettschule-schoofs-carell.de/event/ballett-fuer-erwachsene-fortgeschritten-i-2021-09-10/2026-08-28/
LOCATION:In der Ballettschule\, Sallingerstr.13-15\, Donauwörth\, Bayern\, 86609\, Deutschland
ATTACH;FMTTYPE=image/jpeg:https://ballettschule-schoofs-carell.de/wp-content/uploads/2021/02/Design-ohne-Titel-2.jpg
ORGANIZER;CN="Alexander%20Schoofs-Carell":MAILTO:info@ballettschule-schoofs-carell.de
END:VEVENT
BEGIN:VEVENT
DTSTART;TZID=Europe/Berlin:20260904T183000
DTEND;TZID=Europe/Berlin:20260904T200000
DTSTAMP:20260423T213414
CREATED:20210528T002351Z
LAST-MODIFIED:20210528T002351Z
UID:19315-1788546600-1788552000@ballettschule-schoofs-carell.de
SUMMARY:Ballett für Erwachsene (Fortgeschritten I )
DESCRIPTION:Hier wird eine klassische Ballettstunde vorbereitet. \nErlerntes wird in fortgeschrittene Kombinationen umgesetzt. \n 
URL:https://ballettschule-schoofs-carell.de/event/ballett-fuer-erwachsene-fortgeschritten-i-2021-09-10/2026-09-04/
LOCATION:In der Ballettschule\, Sallingerstr.13-15\, Donauwörth\, Bayern\, 86609\, Deutschland
ATTACH;FMTTYPE=image/jpeg:https://ballettschule-schoofs-carell.de/wp-content/uploads/2021/02/Design-ohne-Titel-2.jpg
ORGANIZER;CN="Alexander%20Schoofs-Carell":MAILTO:info@ballettschule-schoofs-carell.de
END:VEVENT
BEGIN:VEVENT
DTSTART;TZID=Europe/Berlin:20260911T183000
DTEND;TZID=Europe/Berlin:20260911T200000
DTSTAMP:20260423T213414
CREATED:20210528T002351Z
LAST-MODIFIED:20210528T002351Z
UID:19330-1789151400-1789156800@ballettschule-schoofs-carell.de
SUMMARY:Ballett für Erwachsene (Fortgeschritten I )
DESCRIPTION:Hier wird eine klassische Ballettstunde vorbereitet. \nErlerntes wird in fortgeschrittene Kombinationen umgesetzt. \n 
URL:https://ballettschule-schoofs-carell.de/event/ballett-fuer-erwachsene-fortgeschritten-i-2021-09-10/2026-09-11/
LOCATION:In der Ballettschule\, Sallingerstr.13-15\, Donauwörth\, Bayern\, 86609\, Deutschland
ATTACH;FMTTYPE=image/jpeg:https://ballettschule-schoofs-carell.de/wp-content/uploads/2021/02/Design-ohne-Titel-2.jpg
ORGANIZER;CN="Alexander%20Schoofs-Carell":MAILTO:info@ballettschule-schoofs-carell.de
END:VEVENT
BEGIN:VEVENT
DTSTART;TZID=Europe/Berlin:20260918T183000
DTEND;TZID=Europe/Berlin:20260918T200000
DTSTAMP:20260423T213414
CREATED:20210528T002351Z
LAST-MODIFIED:20210528T002351Z
UID:19345-1789756200-1789761600@ballettschule-schoofs-carell.de
SUMMARY:Ballett für Erwachsene (Fortgeschritten I )
DESCRIPTION:Hier wird eine klassische Ballettstunde vorbereitet. \nErlerntes wird in fortgeschrittene Kombinationen umgesetzt. \n 
URL:https://ballettschule-schoofs-carell.de/event/ballett-fuer-erwachsene-fortgeschritten-i-2021-09-10/2026-09-18/
LOCATION:In der Ballettschule\, Sallingerstr.13-15\, Donauwörth\, Bayern\, 86609\, Deutschland
ATTACH;FMTTYPE=image/jpeg:https://ballettschule-schoofs-carell.de/wp-content/uploads/2021/02/Design-ohne-Titel-2.jpg
ORGANIZER;CN="Alexander%20Schoofs-Carell":MAILTO:info@ballettschule-schoofs-carell.de
END:VEVENT
BEGIN:VEVENT
DTSTART;TZID=Europe/Berlin:20260925T183000
DTEND;TZID=Europe/Berlin:20260925T200000
DTSTAMP:20260423T213414
CREATED:20210528T002351Z
LAST-MODIFIED:20210528T002351Z
UID:19360-1790361000-1790366400@ballettschule-schoofs-carell.de
SUMMARY:Ballett für Erwachsene (Fortgeschritten I )
DESCRIPTION:Hier wird eine klassische Ballettstunde vorbereitet. \nErlerntes wird in fortgeschrittene Kombinationen umgesetzt. \n 
URL:https://ballettschule-schoofs-carell.de/event/ballett-fuer-erwachsene-fortgeschritten-i-2021-09-10/2026-09-25/
LOCATION:In der Ballettschule\, Sallingerstr.13-15\, Donauwörth\, Bayern\, 86609\, Deutschland
ATTACH;FMTTYPE=image/jpeg:https://ballettschule-schoofs-carell.de/wp-content/uploads/2021/02/Design-ohne-Titel-2.jpg
ORGANIZER;CN="Alexander%20Schoofs-Carell":MAILTO:info@ballettschule-schoofs-carell.de
END:VEVENT
BEGIN:VEVENT
DTSTART;TZID=Europe/Berlin:20261002T183000
DTEND;TZID=Europe/Berlin:20261002T200000
DTSTAMP:20260423T213414
CREATED:20210528T002351Z
LAST-MODIFIED:20210528T002351Z
UID:19375-1790965800-1790971200@ballettschule-schoofs-carell.de
SUMMARY:Ballett für Erwachsene (Fortgeschritten I )
DESCRIPTION:Hier wird eine klassische Ballettstunde vorbereitet. \nErlerntes wird in fortgeschrittene Kombinationen umgesetzt. \n 
URL:https://ballettschule-schoofs-carell.de/event/ballett-fuer-erwachsene-fortgeschritten-i-2021-09-10/2026-10-02/
LOCATION:In der Ballettschule\, Sallingerstr.13-15\, Donauwörth\, Bayern\, 86609\, Deutschland
ATTACH;FMTTYPE=image/jpeg:https://ballettschule-schoofs-carell.de/wp-content/uploads/2021/02/Design-ohne-Titel-2.jpg
ORGANIZER;CN="Alexander%20Schoofs-Carell":MAILTO:info@ballettschule-schoofs-carell.de
END:VEVENT
BEGIN:VEVENT
DTSTART;TZID=Europe/Berlin:20261009T183000
DTEND;TZID=Europe/Berlin:20261009T200000
DTSTAMP:20260423T213414
CREATED:20210528T002351Z
LAST-MODIFIED:20210528T002351Z
UID:19390-1791570600-1791576000@ballettschule-schoofs-carell.de
SUMMARY:Ballett für Erwachsene (Fortgeschritten I )
DESCRIPTION:Hier wird eine klassische Ballettstunde vorbereitet. \nErlerntes wird in fortgeschrittene Kombinationen umgesetzt. \n 
URL:https://ballettschule-schoofs-carell.de/event/ballett-fuer-erwachsene-fortgeschritten-i-2021-09-10/2026-10-09/
LOCATION:In der Ballettschule\, Sallingerstr.13-15\, Donauwörth\, Bayern\, 86609\, Deutschland
ATTACH;FMTTYPE=image/jpeg:https://ballettschule-schoofs-carell.de/wp-content/uploads/2021/02/Design-ohne-Titel-2.jpg
ORGANIZER;CN="Alexander%20Schoofs-Carell":MAILTO:info@ballettschule-schoofs-carell.de
END:VEVENT
BEGIN:VEVENT
DTSTART;TZID=Europe/Berlin:20261016T183000
DTEND;TZID=Europe/Berlin:20261016T200000
DTSTAMP:20260423T213414
CREATED:20210528T002351Z
LAST-MODIFIED:20210528T002351Z
UID:19405-1792175400-1792180800@ballettschule-schoofs-carell.de
SUMMARY:Ballett für Erwachsene (Fortgeschritten I )
DESCRIPTION:Hier wird eine klassische Ballettstunde vorbereitet. \nErlerntes wird in fortgeschrittene Kombinationen umgesetzt. \n 
URL:https://ballettschule-schoofs-carell.de/event/ballett-fuer-erwachsene-fortgeschritten-i-2021-09-10/2026-10-16/
LOCATION:In der Ballettschule\, Sallingerstr.13-15\, Donauwörth\, Bayern\, 86609\, Deutschland
ATTACH;FMTTYPE=image/jpeg:https://ballettschule-schoofs-carell.de/wp-content/uploads/2021/02/Design-ohne-Titel-2.jpg
ORGANIZER;CN="Alexander%20Schoofs-Carell":MAILTO:info@ballettschule-schoofs-carell.de
END:VEVENT
BEGIN:VEVENT
DTSTART;TZID=Europe/Berlin:20261023T183000
DTEND;TZID=Europe/Berlin:20261023T200000
DTSTAMP:20260423T213414
CREATED:20210528T002351Z
LAST-MODIFIED:20210528T002351Z
UID:19428-1792780200-1792785600@ballettschule-schoofs-carell.de
SUMMARY:Ballett für Erwachsene (Fortgeschritten I )
DESCRIPTION:Hier wird eine klassische Ballettstunde vorbereitet. \nErlerntes wird in fortgeschrittene Kombinationen umgesetzt. \n 
URL:https://ballettschule-schoofs-carell.de/event/ballett-fuer-erwachsene-fortgeschritten-i-2021-09-10/2026-10-23/
LOCATION:In der Ballettschule\, Sallingerstr.13-15\, Donauwörth\, Bayern\, 86609\, Deutschland
ATTACH;FMTTYPE=image/jpeg:https://ballettschule-schoofs-carell.de/wp-content/uploads/2021/02/Design-ohne-Titel-2.jpg
ORGANIZER;CN="Alexander%20Schoofs-Carell":MAILTO:info@ballettschule-schoofs-carell.de
END:VEVENT
BEGIN:VEVENT
DTSTART;TZID=Europe/Berlin:20261030T183000
DTEND;TZID=Europe/Berlin:20261030T200000
DTSTAMP:20260423T213414
CREATED:20210528T002351Z
LAST-MODIFIED:20210528T002351Z
UID:19443-1793385000-1793390400@ballettschule-schoofs-carell.de
SUMMARY:Ballett für Erwachsene (Fortgeschritten I )
DESCRIPTION:Hier wird eine klassische Ballettstunde vorbereitet. \nErlerntes wird in fortgeschrittene Kombinationen umgesetzt. \n 
URL:https://ballettschule-schoofs-carell.de/event/ballett-fuer-erwachsene-fortgeschritten-i-2021-09-10/2026-10-30/
LOCATION:In der Ballettschule\, Sallingerstr.13-15\, Donauwörth\, Bayern\, 86609\, Deutschland
ATTACH;FMTTYPE=image/jpeg:https://ballettschule-schoofs-carell.de/wp-content/uploads/2021/02/Design-ohne-Titel-2.jpg
ORGANIZER;CN="Alexander%20Schoofs-Carell":MAILTO:info@ballettschule-schoofs-carell.de
END:VEVENT
BEGIN:VEVENT
DTSTART;TZID=Europe/Berlin:20261106T183000
DTEND;TZID=Europe/Berlin:20261106T200000
DTSTAMP:20260423T213414
CREATED:20210528T002351Z
LAST-MODIFIED:20210528T002351Z
UID:19458-1793989800-1793995200@ballettschule-schoofs-carell.de
SUMMARY:Ballett für Erwachsene (Fortgeschritten I )
DESCRIPTION:Hier wird eine klassische Ballettstunde vorbereitet. \nErlerntes wird in fortgeschrittene Kombinationen umgesetzt. \n 
URL:https://ballettschule-schoofs-carell.de/event/ballett-fuer-erwachsene-fortgeschritten-i-2021-09-10/2026-11-06/
LOCATION:In der Ballettschule\, Sallingerstr.13-15\, Donauwörth\, Bayern\, 86609\, Deutschland
ATTACH;FMTTYPE=image/jpeg:https://ballettschule-schoofs-carell.de/wp-content/uploads/2021/02/Design-ohne-Titel-2.jpg
ORGANIZER;CN="Alexander%20Schoofs-Carell":MAILTO:info@ballettschule-schoofs-carell.de
END:VEVENT
BEGIN:VEVENT
DTSTART;TZID=Europe/Berlin:20261113T183000
DTEND;TZID=Europe/Berlin:20261113T200000
DTSTAMP:20260423T213414
CREATED:20210528T002351Z
LAST-MODIFIED:20210528T002351Z
UID:19473-1794594600-1794600000@ballettschule-schoofs-carell.de
SUMMARY:Ballett für Erwachsene (Fortgeschritten I )
DESCRIPTION:Hier wird eine klassische Ballettstunde vorbereitet. \nErlerntes wird in fortgeschrittene Kombinationen umgesetzt. \n 
URL:https://ballettschule-schoofs-carell.de/event/ballett-fuer-erwachsene-fortgeschritten-i-2021-09-10/2026-11-13/
LOCATION:In der Ballettschule\, Sallingerstr.13-15\, Donauwörth\, Bayern\, 86609\, Deutschland
ATTACH;FMTTYPE=image/jpeg:https://ballettschule-schoofs-carell.de/wp-content/uploads/2021/02/Design-ohne-Titel-2.jpg
ORGANIZER;CN="Alexander%20Schoofs-Carell":MAILTO:info@ballettschule-schoofs-carell.de
END:VEVENT
BEGIN:VEVENT
DTSTART;TZID=Europe/Berlin:20261120T183000
DTEND;TZID=Europe/Berlin:20261120T200000
DTSTAMP:20260423T213414
CREATED:20210528T002351Z
LAST-MODIFIED:20210528T002351Z
UID:19488-1795199400-1795204800@ballettschule-schoofs-carell.de
SUMMARY:Ballett für Erwachsene (Fortgeschritten I )
DESCRIPTION:Hier wird eine klassische Ballettstunde vorbereitet. \nErlerntes wird in fortgeschrittene Kombinationen umgesetzt. \n 
URL:https://ballettschule-schoofs-carell.de/event/ballett-fuer-erwachsene-fortgeschritten-i-2021-09-10/2026-11-20/
LOCATION:In der Ballettschule\, Sallingerstr.13-15\, Donauwörth\, Bayern\, 86609\, Deutschland
ATTACH;FMTTYPE=image/jpeg:https://ballettschule-schoofs-carell.de/wp-content/uploads/2021/02/Design-ohne-Titel-2.jpg
ORGANIZER;CN="Alexander%20Schoofs-Carell":MAILTO:info@ballettschule-schoofs-carell.de
END:VEVENT
BEGIN:VEVENT
DTSTART;TZID=Europe/Berlin:20261127T183000
DTEND;TZID=Europe/Berlin:20261127T200000
DTSTAMP:20260423T213414
CREATED:20210528T002351Z
LAST-MODIFIED:20210528T002351Z
UID:19503-1795804200-1795809600@ballettschule-schoofs-carell.de
SUMMARY:Ballett für Erwachsene (Fortgeschritten I )
DESCRIPTION:Hier wird eine klassische Ballettstunde vorbereitet. \nErlerntes wird in fortgeschrittene Kombinationen umgesetzt. \n 
URL:https://ballettschule-schoofs-carell.de/event/ballett-fuer-erwachsene-fortgeschritten-i-2021-09-10/2026-11-27/
LOCATION:In der Ballettschule\, Sallingerstr.13-15\, Donauwörth\, Bayern\, 86609\, Deutschland
ATTACH;FMTTYPE=image/jpeg:https://ballettschule-schoofs-carell.de/wp-content/uploads/2021/02/Design-ohne-Titel-2.jpg
ORGANIZER;CN="Alexander%20Schoofs-Carell":MAILTO:info@ballettschule-schoofs-carell.de
END:VEVENT
BEGIN:VEVENT
DTSTART;TZID=Europe/Berlin:20261204T183000
DTEND;TZID=Europe/Berlin:20261204T200000
DTSTAMP:20260423T213414
CREATED:20210528T002351Z
LAST-MODIFIED:20210528T002351Z
UID:19519-1796409000-1796414400@ballettschule-schoofs-carell.de
SUMMARY:Ballett für Erwachsene (Fortgeschritten I )
DESCRIPTION:Hier wird eine klassische Ballettstunde vorbereitet. \nErlerntes wird in fortgeschrittene Kombinationen umgesetzt. \n 
URL:https://ballettschule-schoofs-carell.de/event/ballett-fuer-erwachsene-fortgeschritten-i-2021-09-10/2026-12-04/
LOCATION:In der Ballettschule\, Sallingerstr.13-15\, Donauwörth\, Bayern\, 86609\, Deutschland
ATTACH;FMTTYPE=image/jpeg:https://ballettschule-schoofs-carell.de/wp-content/uploads/2021/02/Design-ohne-Titel-2.jpg
ORGANIZER;CN="Alexander%20Schoofs-Carell":MAILTO:info@ballettschule-schoofs-carell.de
END:VEVENT
BEGIN:VEVENT
DTSTART;TZID=Europe/Berlin:20261211T183000
DTEND;TZID=Europe/Berlin:20261211T200000
DTSTAMP:20260423T213414
CREATED:20210528T002351Z
LAST-MODIFIED:20210528T002351Z
UID:19533-1797013800-1797019200@ballettschule-schoofs-carell.de
SUMMARY:Ballett für Erwachsene (Fortgeschritten I )
DESCRIPTION:Hier wird eine klassische Ballettstunde vorbereitet. \nErlerntes wird in fortgeschrittene Kombinationen umgesetzt. \n 
URL:https://ballettschule-schoofs-carell.de/event/ballett-fuer-erwachsene-fortgeschritten-i-2021-09-10/2026-12-11/
LOCATION:In der Ballettschule\, Sallingerstr.13-15\, Donauwörth\, Bayern\, 86609\, Deutschland
ATTACH;FMTTYPE=image/jpeg:https://ballettschule-schoofs-carell.de/wp-content/uploads/2021/02/Design-ohne-Titel-2.jpg
ORGANIZER;CN="Alexander%20Schoofs-Carell":MAILTO:info@ballettschule-schoofs-carell.de
END:VEVENT
BEGIN:VEVENT
DTSTART;TZID=Europe/Berlin:20261218T183000
DTEND;TZID=Europe/Berlin:20261218T200000
DTSTAMP:20260423T213414
CREATED:20210528T002351Z
LAST-MODIFIED:20210528T002351Z
UID:19549-1797618600-1797624000@ballettschule-schoofs-carell.de
SUMMARY:Ballett für Erwachsene (Fortgeschritten I )
DESCRIPTION:Hier wird eine klassische Ballettstunde vorbereitet. \nErlerntes wird in fortgeschrittene Kombinationen umgesetzt. \n 
URL:https://ballettschule-schoofs-carell.de/event/ballett-fuer-erwachsene-fortgeschritten-i-2021-09-10/2026-12-18/
LOCATION:In der Ballettschule\, Sallingerstr.13-15\, Donauwörth\, Bayern\, 86609\, Deutschland
ATTACH;FMTTYPE=image/jpeg:https://ballettschule-schoofs-carell.de/wp-content/uploads/2021/02/Design-ohne-Titel-2.jpg
ORGANIZER;CN="Alexander%20Schoofs-Carell":MAILTO:info@ballettschule-schoofs-carell.de
END:VEVENT
BEGIN:VEVENT
DTSTART;TZID=Europe/Berlin:20261225T183000
DTEND;TZID=Europe/Berlin:20261225T200000
DTSTAMP:20260423T213414
CREATED:20210528T002351Z
LAST-MODIFIED:20210528T002351Z
UID:19563-1798223400-1798228800@ballettschule-schoofs-carell.de
SUMMARY:Ballett für Erwachsene (Fortgeschritten I )
DESCRIPTION:Hier wird eine klassische Ballettstunde vorbereitet. \nErlerntes wird in fortgeschrittene Kombinationen umgesetzt. \n 
URL:https://ballettschule-schoofs-carell.de/event/ballett-fuer-erwachsene-fortgeschritten-i-2021-09-10/2026-12-25/
LOCATION:In der Ballettschule\, Sallingerstr.13-15\, Donauwörth\, Bayern\, 86609\, Deutschland
ATTACH;FMTTYPE=image/jpeg:https://ballettschule-schoofs-carell.de/wp-content/uploads/2021/02/Design-ohne-Titel-2.jpg
ORGANIZER;CN="Alexander%20Schoofs-Carell":MAILTO:info@ballettschule-schoofs-carell.de
END:VEVENT
BEGIN:VEVENT
DTSTART;TZID=Europe/Berlin:20270101T183000
DTEND;TZID=Europe/Berlin:20270101T200000
DTSTAMP:20260423T213414
CREATED:20210528T002351Z
LAST-MODIFIED:20210528T002351Z
UID:19579-1798828200-1798833600@ballettschule-schoofs-carell.de
SUMMARY:Ballett für Erwachsene (Fortgeschritten I )
DESCRIPTION:Hier wird eine klassische Ballettstunde vorbereitet. \nErlerntes wird in fortgeschrittene Kombinationen umgesetzt. \n 
URL:https://ballettschule-schoofs-carell.de/event/ballett-fuer-erwachsene-fortgeschritten-i-2021-09-10/2027-01-01/
LOCATION:In der Ballettschule\, Sallingerstr.13-15\, Donauwörth\, Bayern\, 86609\, Deutschland
ATTACH;FMTTYPE=image/jpeg:https://ballettschule-schoofs-carell.de/wp-content/uploads/2021/02/Design-ohne-Titel-2.jpg
ORGANIZER;CN="Alexander%20Schoofs-Carell":MAILTO:info@ballettschule-schoofs-carell.de
END:VEVENT
BEGIN:VEVENT
DTSTART;TZID=Europe/Berlin:20270108T183000
DTEND;TZID=Europe/Berlin:20270108T200000
DTSTAMP:20260423T213414
CREATED:20210528T002351Z
LAST-MODIFIED:20210528T002351Z
UID:19593-1799433000-1799438400@ballettschule-schoofs-carell.de
SUMMARY:Ballett für Erwachsene (Fortgeschritten I )
DESCRIPTION:Hier wird eine klassische Ballettstunde vorbereitet. \nErlerntes wird in fortgeschrittene Kombinationen umgesetzt. \n 
URL:https://ballettschule-schoofs-carell.de/event/ballett-fuer-erwachsene-fortgeschritten-i-2021-09-10/2027-01-08/
LOCATION:In der Ballettschule\, Sallingerstr.13-15\, Donauwörth\, Bayern\, 86609\, Deutschland
ATTACH;FMTTYPE=image/jpeg:https://ballettschule-schoofs-carell.de/wp-content/uploads/2021/02/Design-ohne-Titel-2.jpg
ORGANIZER;CN="Alexander%20Schoofs-Carell":MAILTO:info@ballettschule-schoofs-carell.de
END:VEVENT
BEGIN:VEVENT
DTSTART;TZID=Europe/Berlin:20270115T183000
DTEND;TZID=Europe/Berlin:20270115T200000
DTSTAMP:20260423T213414
CREATED:20210528T002351Z
LAST-MODIFIED:20210528T002351Z
UID:19609-1800037800-1800043200@ballettschule-schoofs-carell.de
SUMMARY:Ballett für Erwachsene (Fortgeschritten I )
DESCRIPTION:Hier wird eine klassische Ballettstunde vorbereitet. \nErlerntes wird in fortgeschrittene Kombinationen umgesetzt. \n 
URL:https://ballettschule-schoofs-carell.de/event/ballett-fuer-erwachsene-fortgeschritten-i-2021-09-10/2027-01-15/
LOCATION:In der Ballettschule\, Sallingerstr.13-15\, Donauwörth\, Bayern\, 86609\, Deutschland
ATTACH;FMTTYPE=image/jpeg:https://ballettschule-schoofs-carell.de/wp-content/uploads/2021/02/Design-ohne-Titel-2.jpg
ORGANIZER;CN="Alexander%20Schoofs-Carell":MAILTO:info@ballettschule-schoofs-carell.de
END:VEVENT
BEGIN:VEVENT
DTSTART;TZID=Europe/Berlin:20270122T183000
DTEND;TZID=Europe/Berlin:20270122T200000
DTSTAMP:20260423T213414
CREATED:20210528T002351Z
LAST-MODIFIED:20210528T002351Z
UID:19623-1800642600-1800648000@ballettschule-schoofs-carell.de
SUMMARY:Ballett für Erwachsene (Fortgeschritten I )
DESCRIPTION:Hier wird eine klassische Ballettstunde vorbereitet. \nErlerntes wird in fortgeschrittene Kombinationen umgesetzt. \n 
URL:https://ballettschule-schoofs-carell.de/event/ballett-fuer-erwachsene-fortgeschritten-i-2021-09-10/2027-01-22/
LOCATION:In der Ballettschule\, Sallingerstr.13-15\, Donauwörth\, Bayern\, 86609\, Deutschland
ATTACH;FMTTYPE=image/jpeg:https://ballettschule-schoofs-carell.de/wp-content/uploads/2021/02/Design-ohne-Titel-2.jpg
ORGANIZER;CN="Alexander%20Schoofs-Carell":MAILTO:info@ballettschule-schoofs-carell.de
END:VEVENT
BEGIN:VEVENT
DTSTART;TZID=Europe/Berlin:20270129T183000
DTEND;TZID=Europe/Berlin:20270129T200000
DTSTAMP:20260423T213414
CREATED:20210528T002351Z
LAST-MODIFIED:20210528T002351Z
UID:19639-1801247400-1801252800@ballettschule-schoofs-carell.de
SUMMARY:Ballett für Erwachsene (Fortgeschritten I )
DESCRIPTION:Hier wird eine klassische Ballettstunde vorbereitet. \nErlerntes wird in fortgeschrittene Kombinationen umgesetzt. \n 
URL:https://ballettschule-schoofs-carell.de/event/ballett-fuer-erwachsene-fortgeschritten-i-2021-09-10/2027-01-29/
LOCATION:In der Ballettschule\, Sallingerstr.13-15\, Donauwörth\, Bayern\, 86609\, Deutschland
ATTACH;FMTTYPE=image/jpeg:https://ballettschule-schoofs-carell.de/wp-content/uploads/2021/02/Design-ohne-Titel-2.jpg
ORGANIZER;CN="Alexander%20Schoofs-Carell":MAILTO:info@ballettschule-schoofs-carell.de
END:VEVENT
BEGIN:VEVENT
DTSTART;TZID=Europe/Berlin:20270205T183000
DTEND;TZID=Europe/Berlin:20270205T200000
DTSTAMP:20260423T213414
CREATED:20210528T002351Z
LAST-MODIFIED:20210528T002351Z
UID:19874-1801852200-1801857600@ballettschule-schoofs-carell.de
SUMMARY:Ballett für Erwachsene (Fortgeschritten I )
DESCRIPTION:Hier wird eine klassische Ballettstunde vorbereitet. \nErlerntes wird in fortgeschrittene Kombinationen umgesetzt. \n 
URL:https://ballettschule-schoofs-carell.de/event/ballett-fuer-erwachsene-fortgeschritten-i-2021-09-10/2027-02-05/
LOCATION:In der Ballettschule\, Sallingerstr.13-15\, Donauwörth\, Bayern\, 86609\, Deutschland
ATTACH;FMTTYPE=image/jpeg:https://ballettschule-schoofs-carell.de/wp-content/uploads/2021/02/Design-ohne-Titel-2.jpg
ORGANIZER;CN="Alexander%20Schoofs-Carell":MAILTO:info@ballettschule-schoofs-carell.de
END:VEVENT
END:VCALENDAR