BEGIN:VCALENDAR
VERSION:2.0
PRODID:-//Ballettschule Schoofs-Carell - ECPv5.11.0//NONSGML v1.0//EN
CALSCALE:GREGORIAN
METHOD:PUBLISH
X-WR-CALNAME:Ballettschule Schoofs-Carell
X-ORIGINAL-URL:https://ballettschule-schoofs-carell.de
X-WR-CALDESC:Veranstaltungen für Ballettschule Schoofs-Carell
BEGIN:VTIMEZONE
TZID:Europe/Berlin
BEGIN:DAYLIGHT
TZOFFSETFROM:+0100
TZOFFSETTO:+0200
TZNAME:CEST
DTSTART:20260329T010000
END:DAYLIGHT
BEGIN:STANDARD
TZOFFSETFROM:+0200
TZOFFSETTO:+0100
TZNAME:CET
DTSTART:20261025T010000
END:STANDARD
END:VTIMEZONE
BEGIN:VEVENT
DTSTART;TZID=Europe/Berlin:20260428T191500
DTEND;TZID=Europe/Berlin:20260428T201500
DTSTAMP:20260423T225910
CREATED:20250201T131408Z
LAST-MODIFIED:20250201T131408Z
UID:19817-1777403700-1777407300@ballettschule-schoofs-carell.de
SUMMARY:Ballett für Erwachsene Einsteiger (ohne Vorkenntnisse)
DESCRIPTION:
URL:https://ballettschule-schoofs-carell.de/event/ballett-fuer-erwachsene-anfaenger/2026-04-28/
END:VEVENT
BEGIN:VEVENT
DTSTART;TZID=Europe/Berlin:20260505T191500
DTEND;TZID=Europe/Berlin:20260505T201500
DTSTAMP:20260423T225910
CREATED:20250201T131408Z
LAST-MODIFIED:20250201T131408Z
UID:19818-1778008500-1778012100@ballettschule-schoofs-carell.de
SUMMARY:Ballett für Erwachsene Einsteiger (ohne Vorkenntnisse)
DESCRIPTION:
URL:https://ballettschule-schoofs-carell.de/event/ballett-fuer-erwachsene-anfaenger/2026-05-05/
END:VEVENT
BEGIN:VEVENT
DTSTART;TZID=Europe/Berlin:20260512T191500
DTEND;TZID=Europe/Berlin:20260512T201500
DTSTAMP:20260423T225910
CREATED:20250201T131408Z
LAST-MODIFIED:20250201T131408Z
UID:19819-1778613300-1778616900@ballettschule-schoofs-carell.de
SUMMARY:Ballett für Erwachsene Einsteiger (ohne Vorkenntnisse)
DESCRIPTION:
URL:https://ballettschule-schoofs-carell.de/event/ballett-fuer-erwachsene-anfaenger/2026-05-12/
END:VEVENT
BEGIN:VEVENT
DTSTART;TZID=Europe/Berlin:20260519T191500
DTEND;TZID=Europe/Berlin:20260519T201500
DTSTAMP:20260423T225910
CREATED:20250201T131408Z
LAST-MODIFIED:20250201T131408Z
UID:19820-1779218100-1779221700@ballettschule-schoofs-carell.de
SUMMARY:Ballett für Erwachsene Einsteiger (ohne Vorkenntnisse)
DESCRIPTION:
URL:https://ballettschule-schoofs-carell.de/event/ballett-fuer-erwachsene-anfaenger/2026-05-19/
END:VEVENT
BEGIN:VEVENT
DTSTART;TZID=Europe/Berlin:20260526T191500
DTEND;TZID=Europe/Berlin:20260526T201500
DTSTAMP:20260423T225910
CREATED:20250201T131408Z
LAST-MODIFIED:20250201T131408Z
UID:19821-1779822900-1779826500@ballettschule-schoofs-carell.de
SUMMARY:Ballett für Erwachsene Einsteiger (ohne Vorkenntnisse)
DESCRIPTION:
URL:https://ballettschule-schoofs-carell.de/event/ballett-fuer-erwachsene-anfaenger/2026-05-26/
END:VEVENT
BEGIN:VEVENT
DTSTART;TZID=Europe/Berlin:20260602T191500
DTEND;TZID=Europe/Berlin:20260602T201500
DTSTAMP:20260423T225910
CREATED:20250201T131408Z
LAST-MODIFIED:20250201T131408Z
UID:19822-1780427700-1780431300@ballettschule-schoofs-carell.de
SUMMARY:Ballett für Erwachsene Einsteiger (ohne Vorkenntnisse)
DESCRIPTION:
URL:https://ballettschule-schoofs-carell.de/event/ballett-fuer-erwachsene-anfaenger/2026-06-02/
END:VEVENT
BEGIN:VEVENT
DTSTART;TZID=Europe/Berlin:20260609T191500
DTEND;TZID=Europe/Berlin:20260609T201500
DTSTAMP:20260423T225910
CREATED:20250201T131408Z
LAST-MODIFIED:20250201T131408Z
UID:19823-1781032500-1781036100@ballettschule-schoofs-carell.de
SUMMARY:Ballett für Erwachsene Einsteiger (ohne Vorkenntnisse)
DESCRIPTION:
URL:https://ballettschule-schoofs-carell.de/event/ballett-fuer-erwachsene-anfaenger/2026-06-09/
END:VEVENT
BEGIN:VEVENT
DTSTART;TZID=Europe/Berlin:20260616T191500
DTEND;TZID=Europe/Berlin:20260616T201500
DTSTAMP:20260423T225910
CREATED:20250201T131408Z
LAST-MODIFIED:20250201T131408Z
UID:19824-1781637300-1781640900@ballettschule-schoofs-carell.de
SUMMARY:Ballett für Erwachsene Einsteiger (ohne Vorkenntnisse)
DESCRIPTION:
URL:https://ballettschule-schoofs-carell.de/event/ballett-fuer-erwachsene-anfaenger/2026-06-16/
END:VEVENT
BEGIN:VEVENT
DTSTART;TZID=Europe/Berlin:20260623T191500
DTEND;TZID=Europe/Berlin:20260623T201500
DTSTAMP:20260423T225910
CREATED:20250201T131408Z
LAST-MODIFIED:20250201T131408Z
UID:19825-1782242100-1782245700@ballettschule-schoofs-carell.de
SUMMARY:Ballett für Erwachsene Einsteiger (ohne Vorkenntnisse)
DESCRIPTION:
URL:https://ballettschule-schoofs-carell.de/event/ballett-fuer-erwachsene-anfaenger/2026-06-23/
END:VEVENT
BEGIN:VEVENT
DTSTART;TZID=Europe/Berlin:20260630T191500
DTEND;TZID=Europe/Berlin:20260630T201500
DTSTAMP:20260423T225910
CREATED:20250201T131408Z
LAST-MODIFIED:20250201T131408Z
UID:19826-1782846900-1782850500@ballettschule-schoofs-carell.de
SUMMARY:Ballett für Erwachsene Einsteiger (ohne Vorkenntnisse)
DESCRIPTION:
URL:https://ballettschule-schoofs-carell.de/event/ballett-fuer-erwachsene-anfaenger/2026-06-30/
END:VEVENT
BEGIN:VEVENT
DTSTART;TZID=Europe/Berlin:20260707T191500
DTEND;TZID=Europe/Berlin:20260707T201500
DTSTAMP:20260423T225910
CREATED:20250201T131408Z
LAST-MODIFIED:20250201T131408Z
UID:19827-1783451700-1783455300@ballettschule-schoofs-carell.de
SUMMARY:Ballett für Erwachsene Einsteiger (ohne Vorkenntnisse)
DESCRIPTION:
URL:https://ballettschule-schoofs-carell.de/event/ballett-fuer-erwachsene-anfaenger/2026-07-07/
END:VEVENT
BEGIN:VEVENT
DTSTART;TZID=Europe/Berlin:20260714T191500
DTEND;TZID=Europe/Berlin:20260714T201500
DTSTAMP:20260423T225910
CREATED:20250201T131408Z
LAST-MODIFIED:20250201T131408Z
UID:19828-1784056500-1784060100@ballettschule-schoofs-carell.de
SUMMARY:Ballett für Erwachsene Einsteiger (ohne Vorkenntnisse)
DESCRIPTION:
URL:https://ballettschule-schoofs-carell.de/event/ballett-fuer-erwachsene-anfaenger/2026-07-14/
END:VEVENT
BEGIN:VEVENT
DTSTART;TZID=Europe/Berlin:20260721T191500
DTEND;TZID=Europe/Berlin:20260721T201500
DTSTAMP:20260423T225910
CREATED:20250201T131408Z
LAST-MODIFIED:20250201T131408Z
UID:19829-1784661300-1784664900@ballettschule-schoofs-carell.de
SUMMARY:Ballett für Erwachsene Einsteiger (ohne Vorkenntnisse)
DESCRIPTION:
URL:https://ballettschule-schoofs-carell.de/event/ballett-fuer-erwachsene-anfaenger/2026-07-21/
END:VEVENT
BEGIN:VEVENT
DTSTART;TZID=Europe/Berlin:20260728T191500
DTEND;TZID=Europe/Berlin:20260728T201500
DTSTAMP:20260423T225910
CREATED:20250201T131408Z
LAST-MODIFIED:20250201T131408Z
UID:19830-1785266100-1785269700@ballettschule-schoofs-carell.de
SUMMARY:Ballett für Erwachsene Einsteiger (ohne Vorkenntnisse)
DESCRIPTION:
URL:https://ballettschule-schoofs-carell.de/event/ballett-fuer-erwachsene-anfaenger/2026-07-28/
END:VEVENT
BEGIN:VEVENT
DTSTART;TZID=Europe/Berlin:20260804T191500
DTEND;TZID=Europe/Berlin:20260804T201500
DTSTAMP:20260423T225910
CREATED:20250201T131408Z
LAST-MODIFIED:20250201T131408Z
UID:19831-1785870900-1785874500@ballettschule-schoofs-carell.de
SUMMARY:Ballett für Erwachsene Einsteiger (ohne Vorkenntnisse)
DESCRIPTION:
URL:https://ballettschule-schoofs-carell.de/event/ballett-fuer-erwachsene-anfaenger/2026-08-04/
END:VEVENT
BEGIN:VEVENT
DTSTART;TZID=Europe/Berlin:20260811T191500
DTEND;TZID=Europe/Berlin:20260811T201500
DTSTAMP:20260423T225910
CREATED:20250201T131408Z
LAST-MODIFIED:20250201T131408Z
UID:19832-1786475700-1786479300@ballettschule-schoofs-carell.de
SUMMARY:Ballett für Erwachsene Einsteiger (ohne Vorkenntnisse)
DESCRIPTION:
URL:https://ballettschule-schoofs-carell.de/event/ballett-fuer-erwachsene-anfaenger/2026-08-11/
END:VEVENT
BEGIN:VEVENT
DTSTART;TZID=Europe/Berlin:20260818T191500
DTEND;TZID=Europe/Berlin:20260818T201500
DTSTAMP:20260423T225910
CREATED:20250201T131408Z
LAST-MODIFIED:20250201T131408Z
UID:19833-1787080500-1787084100@ballettschule-schoofs-carell.de
SUMMARY:Ballett für Erwachsene Einsteiger (ohne Vorkenntnisse)
DESCRIPTION:
URL:https://ballettschule-schoofs-carell.de/event/ballett-fuer-erwachsene-anfaenger/2026-08-18/
END:VEVENT
BEGIN:VEVENT
DTSTART;TZID=Europe/Berlin:20260825T191500
DTEND;TZID=Europe/Berlin:20260825T201500
DTSTAMP:20260423T225910
CREATED:20250201T131408Z
LAST-MODIFIED:20250201T131408Z
UID:19834-1787685300-1787688900@ballettschule-schoofs-carell.de
SUMMARY:Ballett für Erwachsene Einsteiger (ohne Vorkenntnisse)
DESCRIPTION:
URL:https://ballettschule-schoofs-carell.de/event/ballett-fuer-erwachsene-anfaenger/2026-08-25/
END:VEVENT
BEGIN:VEVENT
DTSTART;TZID=Europe/Berlin:20260901T191500
DTEND;TZID=Europe/Berlin:20260901T201500
DTSTAMP:20260423T225910
CREATED:20250201T131408Z
LAST-MODIFIED:20250201T131408Z
UID:19835-1788290100-1788293700@ballettschule-schoofs-carell.de
SUMMARY:Ballett für Erwachsene Einsteiger (ohne Vorkenntnisse)
DESCRIPTION:
URL:https://ballettschule-schoofs-carell.de/event/ballett-fuer-erwachsene-anfaenger/2026-09-01/
END:VEVENT
BEGIN:VEVENT
DTSTART;TZID=Europe/Berlin:20260908T191500
DTEND;TZID=Europe/Berlin:20260908T201500
DTSTAMP:20260423T225910
CREATED:20250201T131408Z
LAST-MODIFIED:20250201T131408Z
UID:19836-1788894900-1788898500@ballettschule-schoofs-carell.de
SUMMARY:Ballett für Erwachsene Einsteiger (ohne Vorkenntnisse)
DESCRIPTION:
URL:https://ballettschule-schoofs-carell.de/event/ballett-fuer-erwachsene-anfaenger/2026-09-08/
END:VEVENT
BEGIN:VEVENT
DTSTART;TZID=Europe/Berlin:20260915T191500
DTEND;TZID=Europe/Berlin:20260915T201500
DTSTAMP:20260423T225910
CREATED:20250201T131408Z
LAST-MODIFIED:20250201T131408Z
UID:19837-1789499700-1789503300@ballettschule-schoofs-carell.de
SUMMARY:Ballett für Erwachsene Einsteiger (ohne Vorkenntnisse)
DESCRIPTION:
URL:https://ballettschule-schoofs-carell.de/event/ballett-fuer-erwachsene-anfaenger/2026-09-15/
END:VEVENT
BEGIN:VEVENT
DTSTART;TZID=Europe/Berlin:20260922T191500
DTEND;TZID=Europe/Berlin:20260922T201500
DTSTAMP:20260423T225910
CREATED:20250201T131408Z
LAST-MODIFIED:20250201T131408Z
UID:19838-1790104500-1790108100@ballettschule-schoofs-carell.de
SUMMARY:Ballett für Erwachsene Einsteiger (ohne Vorkenntnisse)
DESCRIPTION:
URL:https://ballettschule-schoofs-carell.de/event/ballett-fuer-erwachsene-anfaenger/2026-09-22/
END:VEVENT
BEGIN:VEVENT
DTSTART;TZID=Europe/Berlin:20260929T191500
DTEND;TZID=Europe/Berlin:20260929T201500
DTSTAMP:20260423T225910
CREATED:20250201T131408Z
LAST-MODIFIED:20250201T131408Z
UID:19839-1790709300-1790712900@ballettschule-schoofs-carell.de
SUMMARY:Ballett für Erwachsene Einsteiger (ohne Vorkenntnisse)
DESCRIPTION:
URL:https://ballettschule-schoofs-carell.de/event/ballett-fuer-erwachsene-anfaenger/2026-09-29/
END:VEVENT
BEGIN:VEVENT
DTSTART;TZID=Europe/Berlin:20261006T191500
DTEND;TZID=Europe/Berlin:20261006T201500
DTSTAMP:20260423T225910
CREATED:20250201T131408Z
LAST-MODIFIED:20250201T131408Z
UID:19840-1791314100-1791317700@ballettschule-schoofs-carell.de
SUMMARY:Ballett für Erwachsene Einsteiger (ohne Vorkenntnisse)
DESCRIPTION:
URL:https://ballettschule-schoofs-carell.de/event/ballett-fuer-erwachsene-anfaenger/2026-10-06/
END:VEVENT
BEGIN:VEVENT
DTSTART;TZID=Europe/Berlin:20261013T191500
DTEND;TZID=Europe/Berlin:20261013T201500
DTSTAMP:20260423T225910
CREATED:20250201T131408Z
LAST-MODIFIED:20250201T131408Z
UID:19841-1791918900-1791922500@ballettschule-schoofs-carell.de
SUMMARY:Ballett für Erwachsene Einsteiger (ohne Vorkenntnisse)
DESCRIPTION:
URL:https://ballettschule-schoofs-carell.de/event/ballett-fuer-erwachsene-anfaenger/2026-10-13/
END:VEVENT
BEGIN:VEVENT
DTSTART;TZID=Europe/Berlin:20261020T191500
DTEND;TZID=Europe/Berlin:20261020T201500
DTSTAMP:20260423T225910
CREATED:20250201T131408Z
LAST-MODIFIED:20250201T131408Z
UID:19842-1792523700-1792527300@ballettschule-schoofs-carell.de
SUMMARY:Ballett für Erwachsene Einsteiger (ohne Vorkenntnisse)
DESCRIPTION:
URL:https://ballettschule-schoofs-carell.de/event/ballett-fuer-erwachsene-anfaenger/2026-10-20/
END:VEVENT
BEGIN:VEVENT
DTSTART;TZID=Europe/Berlin:20261027T191500
DTEND;TZID=Europe/Berlin:20261027T201500
DTSTAMP:20260423T225910
CREATED:20250201T131408Z
LAST-MODIFIED:20250201T131408Z
UID:19843-1793128500-1793132100@ballettschule-schoofs-carell.de
SUMMARY:Ballett für Erwachsene Einsteiger (ohne Vorkenntnisse)
DESCRIPTION:
URL:https://ballettschule-schoofs-carell.de/event/ballett-fuer-erwachsene-anfaenger/2026-10-27/
END:VEVENT
BEGIN:VEVENT
DTSTART;TZID=Europe/Berlin:20261103T191500
DTEND;TZID=Europe/Berlin:20261103T201500
DTSTAMP:20260423T225910
CREATED:20250201T131408Z
LAST-MODIFIED:20250201T131408Z
UID:19844-1793733300-1793736900@ballettschule-schoofs-carell.de
SUMMARY:Ballett für Erwachsene Einsteiger (ohne Vorkenntnisse)
DESCRIPTION:
URL:https://ballettschule-schoofs-carell.de/event/ballett-fuer-erwachsene-anfaenger/2026-11-03/
END:VEVENT
BEGIN:VEVENT
DTSTART;TZID=Europe/Berlin:20261110T191500
DTEND;TZID=Europe/Berlin:20261110T201500
DTSTAMP:20260423T225910
CREATED:20250201T131408Z
LAST-MODIFIED:20250201T131408Z
UID:19845-1794338100-1794341700@ballettschule-schoofs-carell.de
SUMMARY:Ballett für Erwachsene Einsteiger (ohne Vorkenntnisse)
DESCRIPTION:
URL:https://ballettschule-schoofs-carell.de/event/ballett-fuer-erwachsene-anfaenger/2026-11-10/
END:VEVENT
BEGIN:VEVENT
DTSTART;TZID=Europe/Berlin:20261117T191500
DTEND;TZID=Europe/Berlin:20261117T201500
DTSTAMP:20260423T225910
CREATED:20250201T131408Z
LAST-MODIFIED:20250201T131408Z
UID:19846-1794942900-1794946500@ballettschule-schoofs-carell.de
SUMMARY:Ballett für Erwachsene Einsteiger (ohne Vorkenntnisse)
DESCRIPTION:
URL:https://ballettschule-schoofs-carell.de/event/ballett-fuer-erwachsene-anfaenger/2026-11-17/
END:VEVENT
END:VCALENDAR