BEGIN:VCALENDAR
VERSION:2.0
PRODID:-//Ballettschule Schoofs-Carell - ECPv5.11.0//NONSGML v1.0//EN
CALSCALE:GREGORIAN
METHOD:PUBLISH
X-WR-CALNAME:Ballettschule Schoofs-Carell
X-ORIGINAL-URL:https://ballettschule-schoofs-carell.de
X-WR-CALDESC:Veranstaltungen für Ballettschule Schoofs-Carell
BEGIN:VTIMEZONE
TZID:Europe/Berlin
BEGIN:DAYLIGHT
TZOFFSETFROM:+0100
TZOFFSETTO:+0200
TZNAME:CEST
DTSTART:20260329T010000
END:DAYLIGHT
BEGIN:STANDARD
TZOFFSETFROM:+0200
TZOFFSETTO:+0100
TZNAME:CET
DTSTART:20261025T010000
END:STANDARD
END:VTIMEZONE
BEGIN:VEVENT
DTSTART;TZID=Europe/Berlin:20260609T163000
DTEND;TZID=Europe/Berlin:20260609T172000
DTSTAMP:20260423T195815
CREATED:20210527T220915Z
LAST-MODIFIED:20210527T220915Z
UID:19127-1781022600-1781025600@ballettschule-schoofs-carell.de
SUMMARY:Ballett-Früherziehung
DESCRIPTION:Ballett-Früherziehung (ab 4\,5 Jahren). \nHier wird auf die Tänzerische-Früherziehung aufgebaut. \n Die ersten Grundkenntnisse des klassischen Balletts werden vermittelt. 
URL:https://ballettschule-schoofs-carell.de/event/ballett-frueherziehung/2026-06-09/
LOCATION:In der Ballettschule\, Sallingerstr.13-15\, Donauwörth\, Bayern\, 86609\, Deutschland
ORGANIZER;CN="Alexander%20Schoofs-Carell":MAILTO:info@ballettschule-schoofs-carell.de
END:VEVENT
BEGIN:VEVENT
DTSTART;TZID=Europe/Berlin:20260610T163000
DTEND;TZID=Europe/Berlin:20260610T172000
DTSTAMP:20260423T195815
CREATED:20210527T220915Z
LAST-MODIFIED:20210527T220915Z
UID:19130-1781109000-1781112000@ballettschule-schoofs-carell.de
SUMMARY:Ballett-Früherziehung
DESCRIPTION:Ballett-Früherziehung (ab 4\,5 Jahren). \nHier wird auf die Tänzerische-Früherziehung aufgebaut. \n Die ersten Grundkenntnisse des klassischen Balletts werden vermittelt. 
URL:https://ballettschule-schoofs-carell.de/event/ballett-frueherziehung/2026-06-10/
LOCATION:In der Ballettschule\, Sallingerstr.13-15\, Donauwörth\, Bayern\, 86609\, Deutschland
ORGANIZER;CN="Alexander%20Schoofs-Carell":MAILTO:info@ballettschule-schoofs-carell.de
END:VEVENT
BEGIN:VEVENT
DTSTART;TZID=Europe/Berlin:20260616T163000
DTEND;TZID=Europe/Berlin:20260616T172000
DTSTAMP:20260423T195815
CREATED:20210527T220915Z
LAST-MODIFIED:20210527T220915Z
UID:19142-1781627400-1781630400@ballettschule-schoofs-carell.de
SUMMARY:Ballett-Früherziehung
DESCRIPTION:Ballett-Früherziehung (ab 4\,5 Jahren). \nHier wird auf die Tänzerische-Früherziehung aufgebaut. \n Die ersten Grundkenntnisse des klassischen Balletts werden vermittelt. 
URL:https://ballettschule-schoofs-carell.de/event/ballett-frueherziehung/2026-06-16/
LOCATION:In der Ballettschule\, Sallingerstr.13-15\, Donauwörth\, Bayern\, 86609\, Deutschland
ORGANIZER;CN="Alexander%20Schoofs-Carell":MAILTO:info@ballettschule-schoofs-carell.de
END:VEVENT
BEGIN:VEVENT
DTSTART;TZID=Europe/Berlin:20260617T163000
DTEND;TZID=Europe/Berlin:20260617T172000
DTSTAMP:20260423T195815
CREATED:20210527T220915Z
LAST-MODIFIED:20210527T220915Z
UID:19145-1781713800-1781716800@ballettschule-schoofs-carell.de
SUMMARY:Ballett-Früherziehung
DESCRIPTION:Ballett-Früherziehung (ab 4\,5 Jahren). \nHier wird auf die Tänzerische-Früherziehung aufgebaut. \n Die ersten Grundkenntnisse des klassischen Balletts werden vermittelt. 
URL:https://ballettschule-schoofs-carell.de/event/ballett-frueherziehung/2026-06-17/
LOCATION:In der Ballettschule\, Sallingerstr.13-15\, Donauwörth\, Bayern\, 86609\, Deutschland
ORGANIZER;CN="Alexander%20Schoofs-Carell":MAILTO:info@ballettschule-schoofs-carell.de
END:VEVENT
BEGIN:VEVENT
DTSTART;TZID=Europe/Berlin:20260623T163000
DTEND;TZID=Europe/Berlin:20260623T172000
DTSTAMP:20260423T195815
CREATED:20210527T220915Z
LAST-MODIFIED:20210527T220915Z
UID:19157-1782232200-1782235200@ballettschule-schoofs-carell.de
SUMMARY:Ballett-Früherziehung
DESCRIPTION:Ballett-Früherziehung (ab 4\,5 Jahren). \nHier wird auf die Tänzerische-Früherziehung aufgebaut. \n Die ersten Grundkenntnisse des klassischen Balletts werden vermittelt. 
URL:https://ballettschule-schoofs-carell.de/event/ballett-frueherziehung/2026-06-23/
LOCATION:In der Ballettschule\, Sallingerstr.13-15\, Donauwörth\, Bayern\, 86609\, Deutschland
ORGANIZER;CN="Alexander%20Schoofs-Carell":MAILTO:info@ballettschule-schoofs-carell.de
END:VEVENT
BEGIN:VEVENT
DTSTART;TZID=Europe/Berlin:20260624T163000
DTEND;TZID=Europe/Berlin:20260624T172000
DTSTAMP:20260423T195815
CREATED:20210527T220915Z
LAST-MODIFIED:20210527T220915Z
UID:19160-1782318600-1782321600@ballettschule-schoofs-carell.de
SUMMARY:Ballett-Früherziehung
DESCRIPTION:Ballett-Früherziehung (ab 4\,5 Jahren). \nHier wird auf die Tänzerische-Früherziehung aufgebaut. \n Die ersten Grundkenntnisse des klassischen Balletts werden vermittelt. 
URL:https://ballettschule-schoofs-carell.de/event/ballett-frueherziehung/2026-06-24/
LOCATION:In der Ballettschule\, Sallingerstr.13-15\, Donauwörth\, Bayern\, 86609\, Deutschland
ORGANIZER;CN="Alexander%20Schoofs-Carell":MAILTO:info@ballettschule-schoofs-carell.de
END:VEVENT
BEGIN:VEVENT
DTSTART;TZID=Europe/Berlin:20260630T163000
DTEND;TZID=Europe/Berlin:20260630T172000
DTSTAMP:20260423T195815
CREATED:20210527T220915Z
LAST-MODIFIED:20210527T220915Z
UID:19172-1782837000-1782840000@ballettschule-schoofs-carell.de
SUMMARY:Ballett-Früherziehung
DESCRIPTION:Ballett-Früherziehung (ab 4\,5 Jahren). \nHier wird auf die Tänzerische-Früherziehung aufgebaut. \n Die ersten Grundkenntnisse des klassischen Balletts werden vermittelt. 
URL:https://ballettschule-schoofs-carell.de/event/ballett-frueherziehung/2026-06-30/
LOCATION:In der Ballettschule\, Sallingerstr.13-15\, Donauwörth\, Bayern\, 86609\, Deutschland
ORGANIZER;CN="Alexander%20Schoofs-Carell":MAILTO:info@ballettschule-schoofs-carell.de
END:VEVENT
BEGIN:VEVENT
DTSTART;TZID=Europe/Berlin:20260701T163000
DTEND;TZID=Europe/Berlin:20260701T172000
DTSTAMP:20260423T195815
CREATED:20210527T220915Z
LAST-MODIFIED:20210527T220915Z
UID:19175-1782923400-1782926400@ballettschule-schoofs-carell.de
SUMMARY:Ballett-Früherziehung
DESCRIPTION:Ballett-Früherziehung (ab 4\,5 Jahren). \nHier wird auf die Tänzerische-Früherziehung aufgebaut. \n Die ersten Grundkenntnisse des klassischen Balletts werden vermittelt. 
URL:https://ballettschule-schoofs-carell.de/event/ballett-frueherziehung/2026-07-01/
LOCATION:In der Ballettschule\, Sallingerstr.13-15\, Donauwörth\, Bayern\, 86609\, Deutschland
ORGANIZER;CN="Alexander%20Schoofs-Carell":MAILTO:info@ballettschule-schoofs-carell.de
END:VEVENT
BEGIN:VEVENT
DTSTART;TZID=Europe/Berlin:20260707T163000
DTEND;TZID=Europe/Berlin:20260707T172000
DTSTAMP:20260423T195815
CREATED:20210527T220915Z
LAST-MODIFIED:20210527T220915Z
UID:19187-1783441800-1783444800@ballettschule-schoofs-carell.de
SUMMARY:Ballett-Früherziehung
DESCRIPTION:Ballett-Früherziehung (ab 4\,5 Jahren). \nHier wird auf die Tänzerische-Früherziehung aufgebaut. \n Die ersten Grundkenntnisse des klassischen Balletts werden vermittelt. 
URL:https://ballettschule-schoofs-carell.de/event/ballett-frueherziehung/2026-07-07/
LOCATION:In der Ballettschule\, Sallingerstr.13-15\, Donauwörth\, Bayern\, 86609\, Deutschland
ORGANIZER;CN="Alexander%20Schoofs-Carell":MAILTO:info@ballettschule-schoofs-carell.de
END:VEVENT
BEGIN:VEVENT
DTSTART;TZID=Europe/Berlin:20260708T163000
DTEND;TZID=Europe/Berlin:20260708T172000
DTSTAMP:20260423T195815
CREATED:20210527T220915Z
LAST-MODIFIED:20210527T220915Z
UID:19190-1783528200-1783531200@ballettschule-schoofs-carell.de
SUMMARY:Ballett-Früherziehung
DESCRIPTION:Ballett-Früherziehung (ab 4\,5 Jahren). \nHier wird auf die Tänzerische-Früherziehung aufgebaut. \n Die ersten Grundkenntnisse des klassischen Balletts werden vermittelt. 
URL:https://ballettschule-schoofs-carell.de/event/ballett-frueherziehung/2026-07-08/
LOCATION:In der Ballettschule\, Sallingerstr.13-15\, Donauwörth\, Bayern\, 86609\, Deutschland
ORGANIZER;CN="Alexander%20Schoofs-Carell":MAILTO:info@ballettschule-schoofs-carell.de
END:VEVENT
BEGIN:VEVENT
DTSTART;TZID=Europe/Berlin:20260714T163000
DTEND;TZID=Europe/Berlin:20260714T172000
DTSTAMP:20260423T195815
CREATED:20210527T220915Z
LAST-MODIFIED:20210527T220915Z
UID:19202-1784046600-1784049600@ballettschule-schoofs-carell.de
SUMMARY:Ballett-Früherziehung
DESCRIPTION:Ballett-Früherziehung (ab 4\,5 Jahren). \nHier wird auf die Tänzerische-Früherziehung aufgebaut. \n Die ersten Grundkenntnisse des klassischen Balletts werden vermittelt. 
URL:https://ballettschule-schoofs-carell.de/event/ballett-frueherziehung/2026-07-14/
LOCATION:In der Ballettschule\, Sallingerstr.13-15\, Donauwörth\, Bayern\, 86609\, Deutschland
ORGANIZER;CN="Alexander%20Schoofs-Carell":MAILTO:info@ballettschule-schoofs-carell.de
END:VEVENT
BEGIN:VEVENT
DTSTART;TZID=Europe/Berlin:20260715T163000
DTEND;TZID=Europe/Berlin:20260715T172000
DTSTAMP:20260423T195815
CREATED:20210527T220915Z
LAST-MODIFIED:20210527T220915Z
UID:19205-1784133000-1784136000@ballettschule-schoofs-carell.de
SUMMARY:Ballett-Früherziehung
DESCRIPTION:Ballett-Früherziehung (ab 4\,5 Jahren). \nHier wird auf die Tänzerische-Früherziehung aufgebaut. \n Die ersten Grundkenntnisse des klassischen Balletts werden vermittelt. 
URL:https://ballettschule-schoofs-carell.de/event/ballett-frueherziehung/2026-07-15/
LOCATION:In der Ballettschule\, Sallingerstr.13-15\, Donauwörth\, Bayern\, 86609\, Deutschland
ORGANIZER;CN="Alexander%20Schoofs-Carell":MAILTO:info@ballettschule-schoofs-carell.de
END:VEVENT
BEGIN:VEVENT
DTSTART;TZID=Europe/Berlin:20260721T163000
DTEND;TZID=Europe/Berlin:20260721T172000
DTSTAMP:20260423T195815
CREATED:20210527T220915Z
LAST-MODIFIED:20210527T220915Z
UID:19217-1784651400-1784654400@ballettschule-schoofs-carell.de
SUMMARY:Ballett-Früherziehung
DESCRIPTION:Ballett-Früherziehung (ab 4\,5 Jahren). \nHier wird auf die Tänzerische-Früherziehung aufgebaut. \n Die ersten Grundkenntnisse des klassischen Balletts werden vermittelt. 
URL:https://ballettschule-schoofs-carell.de/event/ballett-frueherziehung/2026-07-21/
LOCATION:In der Ballettschule\, Sallingerstr.13-15\, Donauwörth\, Bayern\, 86609\, Deutschland
ORGANIZER;CN="Alexander%20Schoofs-Carell":MAILTO:info@ballettschule-schoofs-carell.de
END:VEVENT
BEGIN:VEVENT
DTSTART;TZID=Europe/Berlin:20260722T163000
DTEND;TZID=Europe/Berlin:20260722T172000
DTSTAMP:20260423T195815
CREATED:20210527T220915Z
LAST-MODIFIED:20210527T220915Z
UID:19220-1784737800-1784740800@ballettschule-schoofs-carell.de
SUMMARY:Ballett-Früherziehung
DESCRIPTION:Ballett-Früherziehung (ab 4\,5 Jahren). \nHier wird auf die Tänzerische-Früherziehung aufgebaut. \n Die ersten Grundkenntnisse des klassischen Balletts werden vermittelt. 
URL:https://ballettschule-schoofs-carell.de/event/ballett-frueherziehung/2026-07-22/
LOCATION:In der Ballettschule\, Sallingerstr.13-15\, Donauwörth\, Bayern\, 86609\, Deutschland
ORGANIZER;CN="Alexander%20Schoofs-Carell":MAILTO:info@ballettschule-schoofs-carell.de
END:VEVENT
BEGIN:VEVENT
DTSTART;TZID=Europe/Berlin:20260728T163000
DTEND;TZID=Europe/Berlin:20260728T172000
DTSTAMP:20260423T195815
CREATED:20210527T220915Z
LAST-MODIFIED:20210527T220915Z
UID:19232-1785256200-1785259200@ballettschule-schoofs-carell.de
SUMMARY:Ballett-Früherziehung
DESCRIPTION:Ballett-Früherziehung (ab 4\,5 Jahren). \nHier wird auf die Tänzerische-Früherziehung aufgebaut. \n Die ersten Grundkenntnisse des klassischen Balletts werden vermittelt. 
URL:https://ballettschule-schoofs-carell.de/event/ballett-frueherziehung/2026-07-28/
LOCATION:In der Ballettschule\, Sallingerstr.13-15\, Donauwörth\, Bayern\, 86609\, Deutschland
ORGANIZER;CN="Alexander%20Schoofs-Carell":MAILTO:info@ballettschule-schoofs-carell.de
END:VEVENT
BEGIN:VEVENT
DTSTART;TZID=Europe/Berlin:20260729T163000
DTEND;TZID=Europe/Berlin:20260729T172000
DTSTAMP:20260423T195815
CREATED:20210527T220915Z
LAST-MODIFIED:20210527T220915Z
UID:19235-1785342600-1785345600@ballettschule-schoofs-carell.de
SUMMARY:Ballett-Früherziehung
DESCRIPTION:Ballett-Früherziehung (ab 4\,5 Jahren). \nHier wird auf die Tänzerische-Früherziehung aufgebaut. \n Die ersten Grundkenntnisse des klassischen Balletts werden vermittelt. 
URL:https://ballettschule-schoofs-carell.de/event/ballett-frueherziehung/2026-07-29/
LOCATION:In der Ballettschule\, Sallingerstr.13-15\, Donauwörth\, Bayern\, 86609\, Deutschland
ORGANIZER;CN="Alexander%20Schoofs-Carell":MAILTO:info@ballettschule-schoofs-carell.de
END:VEVENT
BEGIN:VEVENT
DTSTART;TZID=Europe/Berlin:20260804T163000
DTEND;TZID=Europe/Berlin:20260804T172000
DTSTAMP:20260423T195815
CREATED:20210527T220915Z
LAST-MODIFIED:20210527T220915Z
UID:19247-1785861000-1785864000@ballettschule-schoofs-carell.de
SUMMARY:Ballett-Früherziehung
DESCRIPTION:Ballett-Früherziehung (ab 4\,5 Jahren). \nHier wird auf die Tänzerische-Früherziehung aufgebaut. \n Die ersten Grundkenntnisse des klassischen Balletts werden vermittelt. 
URL:https://ballettschule-schoofs-carell.de/event/ballett-frueherziehung/2026-08-04/
LOCATION:In der Ballettschule\, Sallingerstr.13-15\, Donauwörth\, Bayern\, 86609\, Deutschland
ORGANIZER;CN="Alexander%20Schoofs-Carell":MAILTO:info@ballettschule-schoofs-carell.de
END:VEVENT
BEGIN:VEVENT
DTSTART;TZID=Europe/Berlin:20260805T163000
DTEND;TZID=Europe/Berlin:20260805T172000
DTSTAMP:20260423T195815
CREATED:20210527T220915Z
LAST-MODIFIED:20210527T220915Z
UID:19250-1785947400-1785950400@ballettschule-schoofs-carell.de
SUMMARY:Ballett-Früherziehung
DESCRIPTION:Ballett-Früherziehung (ab 4\,5 Jahren). \nHier wird auf die Tänzerische-Früherziehung aufgebaut. \n Die ersten Grundkenntnisse des klassischen Balletts werden vermittelt. 
URL:https://ballettschule-schoofs-carell.de/event/ballett-frueherziehung/2026-08-05/
LOCATION:In der Ballettschule\, Sallingerstr.13-15\, Donauwörth\, Bayern\, 86609\, Deutschland
ORGANIZER;CN="Alexander%20Schoofs-Carell":MAILTO:info@ballettschule-schoofs-carell.de
END:VEVENT
BEGIN:VEVENT
DTSTART;TZID=Europe/Berlin:20260811T163000
DTEND;TZID=Europe/Berlin:20260811T172000
DTSTAMP:20260423T195815
CREATED:20210527T220915Z
LAST-MODIFIED:20210527T220915Z
UID:19262-1786465800-1786468800@ballettschule-schoofs-carell.de
SUMMARY:Ballett-Früherziehung
DESCRIPTION:Ballett-Früherziehung (ab 4\,5 Jahren). \nHier wird auf die Tänzerische-Früherziehung aufgebaut. \n Die ersten Grundkenntnisse des klassischen Balletts werden vermittelt. 
URL:https://ballettschule-schoofs-carell.de/event/ballett-frueherziehung/2026-08-11/
LOCATION:In der Ballettschule\, Sallingerstr.13-15\, Donauwörth\, Bayern\, 86609\, Deutschland
ORGANIZER;CN="Alexander%20Schoofs-Carell":MAILTO:info@ballettschule-schoofs-carell.de
END:VEVENT
BEGIN:VEVENT
DTSTART;TZID=Europe/Berlin:20260812T163000
DTEND;TZID=Europe/Berlin:20260812T172000
DTSTAMP:20260423T195815
CREATED:20210527T220915Z
LAST-MODIFIED:20210527T220915Z
UID:19265-1786552200-1786555200@ballettschule-schoofs-carell.de
SUMMARY:Ballett-Früherziehung
DESCRIPTION:Ballett-Früherziehung (ab 4\,5 Jahren). \nHier wird auf die Tänzerische-Früherziehung aufgebaut. \n Die ersten Grundkenntnisse des klassischen Balletts werden vermittelt. 
URL:https://ballettschule-schoofs-carell.de/event/ballett-frueherziehung/2026-08-12/
LOCATION:In der Ballettschule\, Sallingerstr.13-15\, Donauwörth\, Bayern\, 86609\, Deutschland
ORGANIZER;CN="Alexander%20Schoofs-Carell":MAILTO:info@ballettschule-schoofs-carell.de
END:VEVENT
BEGIN:VEVENT
DTSTART;TZID=Europe/Berlin:20260818T163000
DTEND;TZID=Europe/Berlin:20260818T172000
DTSTAMP:20260423T195815
CREATED:20210527T220915Z
LAST-MODIFIED:20210527T220915Z
UID:19277-1787070600-1787073600@ballettschule-schoofs-carell.de
SUMMARY:Ballett-Früherziehung
DESCRIPTION:Ballett-Früherziehung (ab 4\,5 Jahren). \nHier wird auf die Tänzerische-Früherziehung aufgebaut. \n Die ersten Grundkenntnisse des klassischen Balletts werden vermittelt. 
URL:https://ballettschule-schoofs-carell.de/event/ballett-frueherziehung/2026-08-18/
LOCATION:In der Ballettschule\, Sallingerstr.13-15\, Donauwörth\, Bayern\, 86609\, Deutschland
ORGANIZER;CN="Alexander%20Schoofs-Carell":MAILTO:info@ballettschule-schoofs-carell.de
END:VEVENT
BEGIN:VEVENT
DTSTART;TZID=Europe/Berlin:20260819T163000
DTEND;TZID=Europe/Berlin:20260819T172000
DTSTAMP:20260423T195815
CREATED:20210527T220915Z
LAST-MODIFIED:20210527T220915Z
UID:19280-1787157000-1787160000@ballettschule-schoofs-carell.de
SUMMARY:Ballett-Früherziehung
DESCRIPTION:Ballett-Früherziehung (ab 4\,5 Jahren). \nHier wird auf die Tänzerische-Früherziehung aufgebaut. \n Die ersten Grundkenntnisse des klassischen Balletts werden vermittelt. 
URL:https://ballettschule-schoofs-carell.de/event/ballett-frueherziehung/2026-08-19/
LOCATION:In der Ballettschule\, Sallingerstr.13-15\, Donauwörth\, Bayern\, 86609\, Deutschland
ORGANIZER;CN="Alexander%20Schoofs-Carell":MAILTO:info@ballettschule-schoofs-carell.de
END:VEVENT
BEGIN:VEVENT
DTSTART;TZID=Europe/Berlin:20260825T163000
DTEND;TZID=Europe/Berlin:20260825T172000
DTSTAMP:20260423T195815
CREATED:20210527T220915Z
LAST-MODIFIED:20210527T220915Z
UID:19292-1787675400-1787678400@ballettschule-schoofs-carell.de
SUMMARY:Ballett-Früherziehung
DESCRIPTION:Ballett-Früherziehung (ab 4\,5 Jahren). \nHier wird auf die Tänzerische-Früherziehung aufgebaut. \n Die ersten Grundkenntnisse des klassischen Balletts werden vermittelt. 
URL:https://ballettschule-schoofs-carell.de/event/ballett-frueherziehung/2026-08-25/
LOCATION:In der Ballettschule\, Sallingerstr.13-15\, Donauwörth\, Bayern\, 86609\, Deutschland
ORGANIZER;CN="Alexander%20Schoofs-Carell":MAILTO:info@ballettschule-schoofs-carell.de
END:VEVENT
BEGIN:VEVENT
DTSTART;TZID=Europe/Berlin:20260826T163000
DTEND;TZID=Europe/Berlin:20260826T172000
DTSTAMP:20260423T195815
CREATED:20210527T220915Z
LAST-MODIFIED:20210527T220915Z
UID:19295-1787761800-1787764800@ballettschule-schoofs-carell.de
SUMMARY:Ballett-Früherziehung
DESCRIPTION:Ballett-Früherziehung (ab 4\,5 Jahren). \nHier wird auf die Tänzerische-Früherziehung aufgebaut. \n Die ersten Grundkenntnisse des klassischen Balletts werden vermittelt. 
URL:https://ballettschule-schoofs-carell.de/event/ballett-frueherziehung/2026-08-26/
LOCATION:In der Ballettschule\, Sallingerstr.13-15\, Donauwörth\, Bayern\, 86609\, Deutschland
ORGANIZER;CN="Alexander%20Schoofs-Carell":MAILTO:info@ballettschule-schoofs-carell.de
END:VEVENT
BEGIN:VEVENT
DTSTART;TZID=Europe/Berlin:20260901T163000
DTEND;TZID=Europe/Berlin:20260901T172000
DTSTAMP:20260423T195815
CREATED:20210527T220915Z
LAST-MODIFIED:20210527T220915Z
UID:19307-1788280200-1788283200@ballettschule-schoofs-carell.de
SUMMARY:Ballett-Früherziehung
DESCRIPTION:Ballett-Früherziehung (ab 4\,5 Jahren). \nHier wird auf die Tänzerische-Früherziehung aufgebaut. \n Die ersten Grundkenntnisse des klassischen Balletts werden vermittelt. 
URL:https://ballettschule-schoofs-carell.de/event/ballett-frueherziehung/2026-09-01/
LOCATION:In der Ballettschule\, Sallingerstr.13-15\, Donauwörth\, Bayern\, 86609\, Deutschland
ORGANIZER;CN="Alexander%20Schoofs-Carell":MAILTO:info@ballettschule-schoofs-carell.de
END:VEVENT
BEGIN:VEVENT
DTSTART;TZID=Europe/Berlin:20260902T163000
DTEND;TZID=Europe/Berlin:20260902T172000
DTSTAMP:20260423T195815
CREATED:20210527T220915Z
LAST-MODIFIED:20210527T220915Z
UID:19310-1788366600-1788369600@ballettschule-schoofs-carell.de
SUMMARY:Ballett-Früherziehung
DESCRIPTION:Ballett-Früherziehung (ab 4\,5 Jahren). \nHier wird auf die Tänzerische-Früherziehung aufgebaut. \n Die ersten Grundkenntnisse des klassischen Balletts werden vermittelt. 
URL:https://ballettschule-schoofs-carell.de/event/ballett-frueherziehung/2026-09-02/
LOCATION:In der Ballettschule\, Sallingerstr.13-15\, Donauwörth\, Bayern\, 86609\, Deutschland
ORGANIZER;CN="Alexander%20Schoofs-Carell":MAILTO:info@ballettschule-schoofs-carell.de
END:VEVENT
BEGIN:VEVENT
DTSTART;TZID=Europe/Berlin:20260908T163000
DTEND;TZID=Europe/Berlin:20260908T172000
DTSTAMP:20260423T195815
CREATED:20210527T220915Z
LAST-MODIFIED:20210527T220915Z
UID:19322-1788885000-1788888000@ballettschule-schoofs-carell.de
SUMMARY:Ballett-Früherziehung
DESCRIPTION:Ballett-Früherziehung (ab 4\,5 Jahren). \nHier wird auf die Tänzerische-Früherziehung aufgebaut. \n Die ersten Grundkenntnisse des klassischen Balletts werden vermittelt. 
URL:https://ballettschule-schoofs-carell.de/event/ballett-frueherziehung/2026-09-08/
LOCATION:In der Ballettschule\, Sallingerstr.13-15\, Donauwörth\, Bayern\, 86609\, Deutschland
ORGANIZER;CN="Alexander%20Schoofs-Carell":MAILTO:info@ballettschule-schoofs-carell.de
END:VEVENT
BEGIN:VEVENT
DTSTART;TZID=Europe/Berlin:20260909T163000
DTEND;TZID=Europe/Berlin:20260909T172000
DTSTAMP:20260423T195815
CREATED:20210527T220915Z
LAST-MODIFIED:20210527T220915Z
UID:19325-1788971400-1788974400@ballettschule-schoofs-carell.de
SUMMARY:Ballett-Früherziehung
DESCRIPTION:Ballett-Früherziehung (ab 4\,5 Jahren). \nHier wird auf die Tänzerische-Früherziehung aufgebaut. \n Die ersten Grundkenntnisse des klassischen Balletts werden vermittelt. 
URL:https://ballettschule-schoofs-carell.de/event/ballett-frueherziehung/2026-09-09/
LOCATION:In der Ballettschule\, Sallingerstr.13-15\, Donauwörth\, Bayern\, 86609\, Deutschland
ORGANIZER;CN="Alexander%20Schoofs-Carell":MAILTO:info@ballettschule-schoofs-carell.de
END:VEVENT
BEGIN:VEVENT
DTSTART;TZID=Europe/Berlin:20260915T163000
DTEND;TZID=Europe/Berlin:20260915T172000
DTSTAMP:20260423T195815
CREATED:20210527T220915Z
LAST-MODIFIED:20210527T220915Z
UID:19337-1789489800-1789492800@ballettschule-schoofs-carell.de
SUMMARY:Ballett-Früherziehung
DESCRIPTION:Ballett-Früherziehung (ab 4\,5 Jahren). \nHier wird auf die Tänzerische-Früherziehung aufgebaut. \n Die ersten Grundkenntnisse des klassischen Balletts werden vermittelt. 
URL:https://ballettschule-schoofs-carell.de/event/ballett-frueherziehung/2026-09-15/
LOCATION:In der Ballettschule\, Sallingerstr.13-15\, Donauwörth\, Bayern\, 86609\, Deutschland
ORGANIZER;CN="Alexander%20Schoofs-Carell":MAILTO:info@ballettschule-schoofs-carell.de
END:VEVENT
BEGIN:VEVENT
DTSTART;TZID=Europe/Berlin:20260916T163000
DTEND;TZID=Europe/Berlin:20260916T172000
DTSTAMP:20260423T195815
CREATED:20210527T220915Z
LAST-MODIFIED:20210527T220915Z
UID:19340-1789576200-1789579200@ballettschule-schoofs-carell.de
SUMMARY:Ballett-Früherziehung
DESCRIPTION:Ballett-Früherziehung (ab 4\,5 Jahren). \nHier wird auf die Tänzerische-Früherziehung aufgebaut. \n Die ersten Grundkenntnisse des klassischen Balletts werden vermittelt. 
URL:https://ballettschule-schoofs-carell.de/event/ballett-frueherziehung/2026-09-16/
LOCATION:In der Ballettschule\, Sallingerstr.13-15\, Donauwörth\, Bayern\, 86609\, Deutschland
ORGANIZER;CN="Alexander%20Schoofs-Carell":MAILTO:info@ballettschule-schoofs-carell.de
END:VEVENT
END:VCALENDAR