BEGIN:VCALENDAR
VERSION:2.0
PRODID:-//Ballettschule Schoofs-Carell - ECPv5.11.0//NONSGML v1.0//EN
CALSCALE:GREGORIAN
METHOD:PUBLISH
X-WR-CALNAME:Ballettschule Schoofs-Carell
X-ORIGINAL-URL:https://ballettschule-schoofs-carell.de
X-WR-CALDESC:Veranstaltungen für Ballettschule Schoofs-Carell
BEGIN:VTIMEZONE
TZID:Europe/Berlin
BEGIN:DAYLIGHT
TZOFFSETFROM:+0100
TZOFFSETTO:+0200
TZNAME:CEST
DTSTART:20240331T010000
END:DAYLIGHT
BEGIN:STANDARD
TZOFFSETFROM:+0200
TZOFFSETTO:+0100
TZNAME:CET
DTSTART:20241027T010000
END:STANDARD
END:VTIMEZONE
BEGIN:VEVENT
DTSTART;TZID=Europe/Berlin:20240730T153000
DTEND;TZID=Europe/Berlin:20240730T161500
DTSTAMP:20260419T152337
CREATED:20210527T213620Z
LAST-MODIFIED:20210527T213620Z
UID:13898-1722353400-1722356100@ballettschule-schoofs-carell.de
SUMMARY:Tänzerische-Früherziehung
DESCRIPTION:Ballett-Früherziehung (ab 3 Jahren). \nEs wird Freude an der Bewegung gefördert und das Interesse für Musik\, Tanz und Ballett geweckt. \nNebenbei werden spielerisch einige Grundkenntnisse des klassischen Balletts vermittelt. \n 
URL:https://ballettschule-schoofs-carell.de/event/taenzerische-frueherziehung-2021-08-31/2024-07-30/
LOCATION:In der Ballettschule\, Sallingerstr.13-15\, Donauwörth\, Bayern\, 86609\, Deutschland
ORGANIZER;CN="Alexander%20Schoofs-Carell":MAILTO:info@ballettschule-schoofs-carell.de
END:VEVENT
END:VCALENDAR